{"text_format":"1","workbook":"xlsx","n_sheets":8,"sheets":["INPUT","1","2","3","4","5","6","7"],"not_rendered":{"charts":0,"images":0,"macros":1,"external_links":0,"defined_names":9,"comments":1,"pivot_tables":0},"unopened":[],"bounds":{"document_bytes":16777216,"sheet_cells":100000,"rows_first":2000,"rows_last":500,"rows_between":2000,"halvings":0,"cell_chars":16384,"cell_head_chars":4096},"cells_cut":0,"cells_raw":0,"read":"whole","date_system":"1900"}

{"sheet":"INPUT","index":0,"n_rows":402,"n_cols":10,"rows_kept":402,"cut":false,"hidden":false,"merged":[[0,0,0,2],[1,4,1,6],[0,4,0,6]]}
["SILAKAN INPUTKA PESERTA",null,null,null,"SILAKAN INPUT DATA MATAKULIAH",null,null,null,1]
["NO","NIM","NAMA",null,"DATA MATAKULIAH",null,null,null,2,{"$f":"IFERROR(INDEX(#REF!,MATCH(INPUT!$G$5,#REF!,0)),\"\")","v":""}]
[{"$f":"IF(B3<>\"\",COUNTA($B$3:B3)&\"\",\"\")","v":""},null,{"$f":"IFERROR(INDEX(#REF!,MATCH(INPUT!$B3,#REF!,0)),\"\")","v":""},null,"NAMA MATAKULIAH",":",null,null,3,{"$f":"IFERROR(INDEX(#REF!,MATCH(INPUT!$G$5,#REF!,0)),\"\")","v":""}]
[{"$f":"IF(B4<>\"\",COUNTA($B$3:B4)&\"\",\"\")","v":""},null,{"$f":"IFERROR(INDEX(#REF!,MATCH(INPUT!$B4,#REF!,0)),\"\")","v":""},null,"KODE MATAKULIAH",":",null,null,4]
[{"$f":"IF(B5<>\"\",COUNTA($B$3:B5)&\"\",\"\")","v":""},null,{"$f":"IFERROR(INDEX(#REF!,MATCH(INPUT!$B5,#REF!,0)),\"\")","v":""},null,"SEMESTER",":",null,null,5]
[{"$f":"IF(B6<>\"\",COUNTA($B$3:B6)&\"\",\"\")","v":""},null,{"$f":"IFERROR(INDEX(#REF!,MATCH(INPUT!$B6,#REF!,0)),\"\")","v":""},null,"TAHUN AKADEMIK",":",null,null,6]
[{"$f":"IF(B7<>\"\",COUNTA($B$3:B7)&\"\",\"\")","v":""},null,{"$f":"IFERROR(INDEX(#REF!,MATCH(INPUT!$B7,#REF!,0)),\"\")","v":""},null,"NAMA DOSEN",":",null,null,7]
[{"$f":"IF(B8<>\"\",COUNTA($B$3:B8)&\"\",\"\")","v":""},null,{"$f":"IFERROR(INDEX(#REF!,MATCH(INPUT!$B8,#REF!,0)),\"\")","v":""},null,"PRESENSI",":"]
[{"$f":"IF(B9<>\"\",COUNTA($B$3:B9)&\"\",\"\")","v":""},null,{"$f":"IFERROR(INDEX(#REF!,MATCH(INPUT!$B9,#REF!,0)),\"\")","v":""},null,"PRINT BERAPA KALI",":"]
[{"$f":"IF(B10<>\"\",COUNTA($B$3:B10)&\"\",\"\")","v":""},null,{"$f":"IFERROR(INDEX(#REF!,MATCH(INPUT!$B10,#REF!,0)),\"\")","v":""}]
[{"$f":"IF(B11<>\"\",COUNTA($B$3:B11)&\"\",\"\")","v":""},null,{"$f":"IFERROR(INDEX(#REF!,MATCH(INPUT!$B11,#REF!,0)),\"\")","v":""}]
[{"$f":"IF(B12<>\"\",COUNTA($B$3:B12)&\"\",\"\")","v":""},null,{"$f":"IFERROR(INDEX(#REF!,MATCH(INPUT!$B12,#REF!,0)),\"\")","v":""}]
[{"$f":"IF(B13<>\"\",COUNTA($B$3:B13)&\"\",\"\")","v":""},null,{"$f":"IFERROR(INDEX(#REF!,MATCH(INPUT!$B13,#REF!,0)),\"\")","v":""}]
[{"$f":"IF(B14<>\"\",COUNTA($B$3:B14)&\"\",\"\")","v":""},null,{"$f":"IFERROR(INDEX(#REF!,MATCH(INPUT!$B14,#REF!,0)),\"\")","v":""}]
[{"$f":"IF(B15<>\"\",COUNTA($B$3:B15)&\"\",\"\")","v":""},null,{"$f":"IFERROR(INDEX(#REF!,MATCH(INPUT!$B15,#REF!,0)),\"\")","v":""}]
[{"$f":"IF(B16<>\"\",COUNTA($B$3:B16)&\"\",\"\")","v":""},null,{"$f":"IFERROR(INDEX(#REF!,MATCH(INPUT!$B16,#REF!,0)),\"\")","v":""}]
[{"$f":"IF(B17<>\"\",COUNTA($B$3:B17)&\"\",\"\")","v":""},null,{"$f":"IFERROR(INDEX(#REF!,MATCH(INPUT!$B17,#REF!,0)),\"\")","v":""}]
[{"$f":"IF(B18<>\"\",COUNTA($B$3:B18)&\"\",\"\")","v":""},null,{"$f":"IFERROR(INDEX(#REF!,MATCH(INPUT!$B18,#REF!,0)),\"\")","v":""}]
[{"$f":"IF(B19<>\"\",COUNTA($B$3:B19)&\"\",\"\")","v":""},null,{"$f":"IFERROR(INDEX(#REF!,MATCH(INPUT!$B19,#REF!,0)),\"\")","v":""}]
[{"$f":"IF(B20<>\"\",COUNTA($B$3:B20)&\"\",\"\")","v":""},null,{"$f":"IFERROR(INDEX(#REF!,MATCH(INPUT!$B20,#REF!,0)),\"\")","v":""}]
[{"$f":"IF(B21<>\"\",COUNTA($B$3:B21)&\"\",\"\")","v":""},null,{"$f":"IFERROR(INDEX(#REF!,MATCH(INPUT!$B21,#REF!,0)),\"\")","v":""}]
[{"$f":"IF(B22<>\"\",COUNTA($B$3:B22)&\"\",\"\")","v":""},null,{"$f":"IFERROR(INDEX(#REF!,MATCH(INPUT!$B22,#REF!,0)),\"\")","v":""}]
[{"$f":"IF(B23<>\"\",COUNTA($B$3:B23)&\"\",\"\")","v":""},null,{"$f":"IFERROR(INDEX(#REF!,MATCH(INPUT!$B23,#REF!,0)),\"\")","v":""}]
[{"$f":"IF(B24<>\"\",COUNTA($B$3:B24)&\"\",\"\")","v":""},null,{"$f":"IFERROR(INDEX(#REF!,MATCH(INPUT!$B24,#REF!,0)),\"\")","v":""}]
[{"$f":"IF(B25<>\"\",COUNTA($B$3:B25)&\"\",\"\")","v":""},null,{"$f":"IFERROR(INDEX(#REF!,MATCH(INPUT!$B25,#REF!,0)),\"\")","v":""}]
[{"$f":"IF(B26<>\"\",COUNTA($B$3:B26)&\"\",\"\")","v":""},null,{"$f":"IFERROR(INDEX(#REF!,MATCH(INPUT!$B26,#REF!,0)),\"\")","v":""}]
[{"$f":"IF(B27<>\"\",COUNTA($B$3:B27)&\"\",\"\")","v":""},null,{"$f":"IFERROR(INDEX(#REF!,MATCH(INPUT!$B27,#REF!,0)),\"\")","v":""}]
[{"$f":"IF(B28<>\"\",COUNTA($B$3:B28)&\"\",\"\")","v":""},null,{"$f":"IFERROR(INDEX(#REF!,MATCH(INPUT!$B28,#REF!,0)),\"\")","v":""}]
[{"$f":"IF(B29<>\"\",COUNTA($B$3:B29)&\"\",\"\")","v":""},null,{"$f":"IFERROR(INDEX(#REF!,MATCH(INPUT!$B29,#REF!,0)),\"\")","v":""}]
[{"$f":"IF(B30<>\"\",COUNTA($B$3:B30)&\"\",\"\")","v":""},null,{"$f":"IFERROR(INDEX(#REF!,MATCH(INPUT!$B30,#REF!,0)),\"\")","v":""}]
[{"$f":"IF(B31<>\"\",COUNTA($B$3:B31)&\"\",\"\")","v":""},null,{"$f":"IFERROR(INDEX(#REF!,MATCH(INPUT!$B31,#REF!,0)),\"\")","v":""}]
[{"$f":"IF(B32<>\"\",COUNTA($B$3:B32)&\"\",\"\")","v":""},null,{"$f":"IFERROR(INDEX(#REF!,MATCH(INPUT!$B32,#REF!,0)),\"\")","v":""}]
[{"$f":"IF(B33<>\"\",COUNTA($B$3:B33)&\"\",\"\")","v":""},null,{"$f":"IFERROR(INDEX(#REF!,MATCH(INPUT!$B33,#REF!,0)),\"\")","v":""}]
[{"$f":"IF(B34<>\"\",COUNTA($B$3:B34)&\"\",\"\")","v":""},null,{"$f":"IFERROR(INDEX(#REF!,MATCH(INPUT!$B34,#REF!,0)),\"\")","v":""}]
[{"$f":"IF(B35<>\"\",COUNTA($B$3:B35)&\"\",\"\")","v":""},null,{"$f":"IFERROR(INDEX(#REF!,MATCH(INPUT!$B35,#REF!,0)),\"\")","v":""}]
[{"$f":"IF(B36<>\"\",COUNTA($B$3:B36)&\"\",\"\")","v":""},null,{"$f":"IFERROR(INDEX(#REF!,MATCH(INPUT!$B36,#REF!,0)),\"\")","v":""}]
[{"$f":"IF(B37<>\"\",COUNTA($B$3:B37)&\"\",\"\")","v":""},null,{"$f":"IFERROR(INDEX(#REF!,MATCH(INPUT!$B37,#REF!,0)),\"\")","v":""}]
[{"$f":"IF(B38<>\"\",COUNTA($B$3:B38)&\"\",\"\")","v":""},null,{"$f":"IFERROR(INDEX(#REF!,MATCH(INPUT!$B38,#REF!,0)),\"\")","v":""}]
[{"$f":"IF(B39<>\"\",COUNTA($B$3:B39)&\"\",\"\")","v":""},null,{"$f":"IFERROR(INDEX(#REF!,MATCH(INPUT!$B39,#REF!,0)),\"\")","v":""}]
[{"$f":"IF(B40<>\"\",COUNTA($B$3:B40)&\"\",\"\")","v":""},null,{"$f":"IFERROR(INDEX(#REF!,MATCH(INPUT!$B40,#REF!,0)),\"\")","v":""}]
[{"$f":"IF(B41<>\"\",COUNTA($B$3:B41)&\"\",\"\")","v":""},null,{"$f":"IFERROR(INDEX(#REF!,MATCH(INPUT!$B41,#REF!,0)),\"\")","v":""}]
[{"$f":"IF(B42<>\"\",COUNTA($B$3:B42)&\"\",\"\")","v":""},null,{"$f":"IFERROR(INDEX(#REF!,MATCH(INPUT!$B42,#REF!,0)),\"\")","v":""}]
[{"$f":"IF(B43<>\"\",COUNTA($B$3:B43)&\"\",\"\")","v":""},null,{"$f":"IFERROR(INDEX(#REF!,MATCH(INPUT!$B43,#REF!,0)),\"\")","v":""}]
[{"$f":"IF(B44<>\"\",COUNTA($B$3:B44)&\"\",\"\")","v":""},null,{"$f":"IFERROR(INDEX(#REF!,MATCH(INPUT!$B44,#REF!,0)),\"\")","v":""}]
[{"$f":"IF(B45<>\"\",COUNTA($B$3:B45)&\"\",\"\")","v":""},null,{"$f":"IFERROR(INDEX(#REF!,MATCH(INPUT!$B45,#REF!,0)),\"\")","v":""}]
[{"$f":"IF(B46<>\"\",COUNTA($B$3:B46)&\"\",\"\")","v":""},null,{"$f":"IFERROR(INDEX(#REF!,MATCH(INPUT!$B46,#REF!,0)),\"\")","v":""}]
[{"$f":"IF(B47<>\"\",COUNTA($B$3:B47)&\"\",\"\")","v":""},null,{"$f":"IFERROR(INDEX(#REF!,MATCH(INPUT!$B47,#REF!,0)),\"\")","v":""}]
[{"$f":"IF(B48<>\"\",COUNTA($B$3:B48)&\"\",\"\")","v":""},null,{"$f":"IFERROR(INDEX(#REF!,MATCH(INPUT!$B48,#REF!,0)),\"\")","v":""}]
[{"$f":"IF(B49<>\"\",COUNTA($B$3:B49)&\"\",\"\")","v":""},null,{"$f":"IFERROR(INDEX(#REF!,MATCH(INPUT!$B49,#REF!,0)),\"\")","v":""}]
[{"$f":"IF(B50<>\"\",COUNTA($B$3:B50)&\"\",\"\")","v":""},null,{"$f":"IFERROR(INDEX(#REF!,MATCH(INPUT!$B50,#REF!,0)),\"\")","v":""}]
[{"$f":"IF(B51<>\"\",COUNTA($B$3:B51)&\"\",\"\")","v":""},null,{"$f":"IFERROR(INDEX(#REF!,MATCH(INPUT!$B51,#REF!,0)),\"\")","v":""}]
[{"$f":"IF(B52<>\"\",COUNTA($B$3:B52)&\"\",\"\")","v":""},null,{"$f":"IFERROR(INDEX(#REF!,MATCH(INPUT!$B52,#REF!,0)),\"\")","v":""}]
[{"$f":"IF(B53<>\"\",COUNTA($B$3:B53)&\"\",\"\")","v":""},null,{"$f":"IFERROR(INDEX(#REF!,MATCH(INPUT!$B53,#REF!,0)),\"\")","v":""}]
[{"$f":"IF(B54<>\"\",COUNTA($B$3:B54)&\"\",\"\")","v":""},null,{"$f":"IFERROR(INDEX(#REF!,MATCH(INPUT!$B54,#REF!,0)),\"\")","v":""}]
[{"$f":"IF(B55<>\"\",COUNTA($B$3:B55)&\"\",\"\")","v":""},null,{"$f":"IFERROR(INDEX(#REF!,MATCH(INPUT!$B55,#REF!,0)),\"\")","v":""}]
[{"$f":"IF(B56<>\"\",COUNTA($B$3:B56)&\"\",\"\")","v":""},null,{"$f":"IFERROR(INDEX(#REF!,MATCH(INPUT!$B56,#REF!,0)),\"\")","v":""}]
[{"$f":"IF(B57<>\"\",COUNTA($B$3:B57)&\"\",\"\")","v":""},null,{"$f":"IFERROR(INDEX(#REF!,MATCH(INPUT!$B57,#REF!,0)),\"\")","v":""}]
[{"$f":"IF(B58<>\"\",COUNTA($B$3:B58)&\"\",\"\")","v":""},null,{"$f":"IFERROR(INDEX(#REF!,MATCH(INPUT!$B58,#REF!,0)),\"\")","v":""}]
[{"$f":"IF(B59<>\"\",COUNTA($B$3:B59)&\"\",\"\")","v":""},null,{"$f":"IFERROR(INDEX(#REF!,MATCH(INPUT!$B59,#REF!,0)),\"\")","v":""}]
[{"$f":"IF(B60<>\"\",COUNTA($B$3:B60)&\"\",\"\")","v":""},null,{"$f":"IFERROR(INDEX(#REF!,MATCH(INPUT!$B60,#REF!,0)),\"\")","v":""}]
[{"$f":"IF(B61<>\"\",COUNTA($B$3:B61)&\"\",\"\")","v":""},null,{"$f":"IFERROR(INDEX(#REF!,MATCH(INPUT!$B61,#REF!,0)),\"\")","v":""}]
[{"$f":"IF(B62<>\"\",COUNTA($B$3:B62)&\"\",\"\")","v":""},null,{"$f":"IFERROR(INDEX(#REF!,MATCH(INPUT!$B62,#REF!,0)),\"\")","v":""}]
[{"$f":"IF(B63<>\"\",COUNTA($B$3:B63)&\"\",\"\")","v":""},null,{"$f":"IFERROR(INDEX(#REF!,MATCH(INPUT!$B63,#REF!,0)),\"\")","v":""}]
[{"$f":"IF(B64<>\"\",COUNTA($B$3:B64)&\"\",\"\")","v":""},null,{"$f":"IFERROR(INDEX(#REF!,MATCH(INPUT!$B64,#REF!,0)),\"\")","v":""}]
[{"$f":"IF(B65<>\"\",COUNTA($B$3:B65)&\"\",\"\")","v":""},null,{"$f":"IFERROR(INDEX(#REF!,MATCH(INPUT!$B65,#REF!,0)),\"\")","v":""}]
[{"$f":"IF(B66<>\"\",COUNTA($B$3:B66)&\"\",\"\")","v":""},null,{"$f":"IFERROR(INDEX(#REF!,MATCH(INPUT!$B66,#REF!,0)),\"\")","v":""}]
[{"$f":"IF(B67<>\"\",COUNTA($B$3:B67)&\"\",\"\")","v":""},null,{"$f":"IFERROR(INDEX(#REF!,MATCH(INPUT!$B67,#REF!,0)),\"\")","v":""}]
[{"$f":"IF(B68<>\"\",COUNTA($B$3:B68)&\"\",\"\")","v":""},null,{"$f":"IFERROR(INDEX(#REF!,MATCH(INPUT!$B68,#REF!,0)),\"\")","v":""}]
[{"$f":"IF(B69<>\"\",COUNTA($B$3:B69)&\"\",\"\")","v":""},null,{"$f":"IFERROR(INDEX(#REF!,MATCH(INPUT!$B69,#REF!,0)),\"\")","v":""}]
[{"$f":"IF(B70<>\"\",COUNTA($B$3:B70)&\"\",\"\")","v":""},null,{"$f":"IFERROR(INDEX(#REF!,MATCH(INPUT!$B70,#REF!,0)),\"\")","v":""}]
[{"$f":"IF(B71<>\"\",COUNTA($B$3:B71)&\"\",\"\")","v":""},null,{"$f":"IFERROR(INDEX(#REF!,MATCH(INPUT!$B71,#REF!,0)),\"\")","v":""}]
[{"$f":"IF(B72<>\"\",COUNTA($B$3:B72)&\"\",\"\")","v":""},null,{"$f":"IFERROR(INDEX(#REF!,MATCH(INPUT!$B72,#REF!,0)),\"\")","v":""}]
[{"$f":"IF(B73<>\"\",COUNTA($B$3:B73)&\"\",\"\")","v":""},null,{"$f":"IFERROR(INDEX(#REF!,MATCH(INPUT!$B73,#REF!,0)),\"\")","v":""}]
[{"$f":"IF(B74<>\"\",COUNTA($B$3:B74)&\"\",\"\")","v":""},null,{"$f":"IFERROR(INDEX(#REF!,MATCH(INPUT!$B74,#REF!,0)),\"\")","v":""}]
[{"$f":"IF(B75<>\"\",COUNTA($B$3:B75)&\"\",\"\")","v":""},null,{"$f":"IFERROR(INDEX(#REF!,MATCH(INPUT!$B75,#REF!,0)),\"\")","v":""}]
[{"$f":"IF(B76<>\"\",COUNTA($B$3:B76)&\"\",\"\")","v":""},null,{"$f":"IFERROR(INDEX(#REF!,MATCH(INPUT!$B76,#REF!,0)),\"\")","v":""}]
[{"$f":"IF(B77<>\"\",COUNTA($B$3:B77)&\"\",\"\")","v":""},null,{"$f":"IFERROR(INDEX(#REF!,MATCH(INPUT!$B77,#REF!,0)),\"\")","v":""}]
[{"$f":"IF(B78<>\"\",COUNTA($B$3:B78)&\"\",\"\")","v":""},null,{"$f":"IFERROR(INDEX(#REF!,MATCH(INPUT!$B78,#REF!,0)),\"\")","v":""}]
[{"$f":"IF(B79<>\"\",COUNTA($B$3:B79)&\"\",\"\")","v":""},null,{"$f":"IFERROR(INDEX(#REF!,MATCH(INPUT!$B79,#REF!,0)),\"\")","v":""}]
[{"$f":"IF(B80<>\"\",COUNTA($B$3:B80)&\"\",\"\")","v":""},null,{"$f":"IFERROR(INDEX(#REF!,MATCH(INPUT!$B80,#REF!,0)),\"\")","v":""}]
[{"$f":"IF(B81<>\"\",COUNTA($B$3:B81)&\"\",\"\")","v":""},null,{"$f":"IFERROR(INDEX(#REF!,MATCH(INPUT!$B81,#REF!,0)),\"\")","v":""}]
[{"$f":"IF(B82<>\"\",COUNTA($B$3:B82)&\"\",\"\")","v":""},null,{"$f":"IFERROR(INDEX(#REF!,MATCH(INPUT!$B82,#REF!,0)),\"\")","v":""}]
[{"$f":"IF(B83<>\"\",COUNTA($B$3:B83)&\"\",\"\")","v":""},null,{"$f":"IFERROR(INDEX(#REF!,MATCH(INPUT!$B83,#REF!,0)),\"\")","v":""}]
[{"$f":"IF(B84<>\"\",COUNTA($B$3:B84)&\"\",\"\")","v":""},null,{"$f":"IFERROR(INDEX(#REF!,MATCH(INPUT!$B84,#REF!,0)),\"\")","v":""}]
[{"$f":"IF(B85<>\"\",COUNTA($B$3:B85)&\"\",\"\")","v":""},null,{"$f":"IFERROR(INDEX(#REF!,MATCH(INPUT!$B85,#REF!,0)),\"\")","v":""}]
[{"$f":"IF(B86<>\"\",COUNTA($B$3:B86)&\"\",\"\")","v":""},null,{"$f":"IFERROR(INDEX(#REF!,MATCH(INPUT!$B86,#REF!,0)),\"\")","v":""}]
[{"$f":"IF(B87<>\"\",COUNTA($B$3:B87)&\"\",\"\")","v":""},null,{"$f":"IFERROR(INDEX(#REF!,MATCH(INPUT!$B87,#REF!,0)),\"\")","v":""}]
[{"$f":"IF(B88<>\"\",COUNTA($B$3:B88)&\"\",\"\")","v":""},null,{"$f":"IFERROR(INDEX(#REF!,MATCH(INPUT!$B88,#REF!,0)),\"\")","v":""}]
[{"$f":"IF(B89<>\"\",COUNTA($B$3:B89)&\"\",\"\")","v":""},null,{"$f":"IFERROR(INDEX(#REF!,MATCH(INPUT!$B89,#REF!,0)),\"\")","v":""}]
[{"$f":"IF(B90<>\"\",COUNTA($B$3:B90)&\"\",\"\")","v":""},null,{"$f":"IFERROR(INDEX(#REF!,MATCH(INPUT!$B90,#REF!,0)),\"\")","v":""}]
[{"$f":"IF(B91<>\"\",COUNTA($B$3:B91)&\"\",\"\")","v":""},null,{"$f":"IFERROR(INDEX(#REF!,MATCH(INPUT!$B91,#REF!,0)),\"\")","v":""}]
[{"$f":"IF(B92<>\"\",COUNTA($B$3:B92)&\"\",\"\")","v":""},null,{"$f":"IFERROR(INDEX(#REF!,MATCH(INPUT!$B92,#REF!,0)),\"\")","v":""}]
[{"$f":"IF(B93<>\"\",COUNTA($B$3:B93)&\"\",\"\")","v":""},null,{"$f":"IFERROR(INDEX(#REF!,MATCH(INPUT!$B93,#REF!,0)),\"\")","v":""}]
[{"$f":"IF(B94<>\"\",COUNTA($B$3:B94)&\"\",\"\")","v":""},null,{"$f":"IFERROR(INDEX(#REF!,MATCH(INPUT!$B94,#REF!,0)),\"\")","v":""}]
[{"$f":"IF(B95<>\"\",COUNTA($B$3:B95)&\"\",\"\")","v":""},null,{"$f":"IFERROR(INDEX(#REF!,MATCH(INPUT!$B95,#REF!,0)),\"\")","v":""}]
[{"$f":"IF(B96<>\"\",COUNTA($B$3:B96)&\"\",\"\")","v":""},null,{"$f":"IFERROR(INDEX(#REF!,MATCH(INPUT!$B96,#REF!,0)),\"\")","v":""}]
[{"$f":"IF(B97<>\"\",COUNTA($B$3:B97)&\"\",\"\")","v":""},null,{"$f":"IFERROR(INDEX(#REF!,MATCH(INPUT!$B97,#REF!,0)),\"\")","v":""}]
[{"$f":"IF(B98<>\"\",COUNTA($B$3:B98)&\"\",\"\")","v":""},null,{"$f":"IFERROR(INDEX(#REF!,MATCH(INPUT!$B98,#REF!,0)),\"\")","v":""}]
[{"$f":"IF(B99<>\"\",COUNTA($B$3:B99)&\"\",\"\")","v":""},null,{"$f":"IFERROR(INDEX(#REF!,MATCH(INPUT!$B99,#REF!,0)),\"\")","v":""}]
[{"$f":"IF(B100<>\"\",COUNTA($B$3:B100)&\"\",\"\")","v":""},null,{"$f":"IFERROR(INDEX(#REF!,MATCH(INPUT!$B100,#REF!,0)),\"\")","v":""}]
[{"$f":"IF(B101<>\"\",COUNTA($B$3:B101)&\"\",\"\")","v":""},null,{"$f":"IFERROR(INDEX(#REF!,MATCH(INPUT!$B101,#REF!,0)),\"\")","v":""}]
[{"$f":"IF(B102<>\"\",COUNTA($B$3:B102)&\"\",\"\")","v":""},null,{"$f":"IFERROR(INDEX(#REF!,MATCH(INPUT!$B102,#REF!,0)),\"\")","v":""}]
[{"$f":"IF(B103<>\"\",COUNTA($B$3:B103)&\"\",\"\")","v":""},null,{"$f":"IFERROR(INDEX(#REF!,MATCH(INPUT!$B103,#REF!,0)),\"\")","v":""}]
[{"$f":"IF(B104<>\"\",COUNTA($B$3:B104)&\"\",\"\")","v":""},null,{"$f":"IFERROR(INDEX(#REF!,MATCH(INPUT!$B104,#REF!,0)),\"\")","v":""}]
[{"$f":"IF(B105<>\"\",COUNTA($B$3:B105)&\"\",\"\")","v":""},null,{"$f":"IFERROR(INDEX(#REF!,MATCH(INPUT!$B105,#REF!,0)),\"\")","v":""}]
[{"$f":"IF(B106<>\"\",COUNTA($B$3:B106)&\"\",\"\")","v":""},null,{"$f":"IFERROR(INDEX(#REF!,MATCH(INPUT!$B106,#REF!,0)),\"\")","v":""}]
[{"$f":"IF(B107<>\"\",COUNTA($B$3:B107)&\"\",\"\")","v":""},null,{"$f":"IFERROR(INDEX(#REF!,MATCH(INPUT!$B107,#REF!,0)),\"\")","v":""}]
[{"$f":"IF(B108<>\"\",COUNTA($B$3:B108)&\"\",\"\")","v":""},null,{"$f":"IFERROR(INDEX(#REF!,MATCH(INPUT!$B108,#REF!,0)),\"\")","v":""}]
[{"$f":"IF(B109<>\"\",COUNTA($B$3:B109)&\"\",\"\")","v":""},null,{"$f":"IFERROR(INDEX(#REF!,MATCH(INPUT!$B109,#REF!,0)),\"\")","v":""}]
[{"$f":"IF(B110<>\"\",COUNTA($B$3:B110)&\"\",\"\")","v":""},null,{"$f":"IFERROR(INDEX(#REF!,MATCH(INPUT!$B110,#REF!,0)),\"\")","v":""}]
[{"$f":"IF(B111<>\"\",COUNTA($B$3:B111)&\"\",\"\")","v":""},null,{"$f":"IFERROR(INDEX(#REF!,MATCH(INPUT!$B111,#REF!,0)),\"\")","v":""}]
[{"$f":"IF(B112<>\"\",COUNTA($B$3:B112)&\"\",\"\")","v":""},null,{"$f":"IFERROR(INDEX(#REF!,MATCH(INPUT!$B112,#REF!,0)),\"\")","v":""}]
[{"$f":"IF(B113<>\"\",COUNTA($B$3:B113)&\"\",\"\")","v":""},null,{"$f":"IFERROR(INDEX(#REF!,MATCH(INPUT!$B113,#REF!,0)),\"\")","v":""}]
[{"$f":"IF(B114<>\"\",COUNTA($B$3:B114)&\"\",\"\")","v":""},null,{"$f":"IFERROR(INDEX(#REF!,MATCH(INPUT!$B114,#REF!,0)),\"\")","v":""}]
[{"$f":"IF(B115<>\"\",COUNTA($B$3:B115)&\"\",\"\")","v":""},null,{"$f":"IFERROR(INDEX(#REF!,MATCH(INPUT!$B115,#REF!,0)),\"\")","v":""}]
[{"$f":"IF(B116<>\"\",COUNTA($B$3:B116)&\"\",\"\")","v":""},null,{"$f":"IFERROR(INDEX(#REF!,MATCH(INPUT!$B116,#REF!,0)),\"\")","v":""}]
[{"$f":"IF(B117<>\"\",COUNTA($B$3:B117)&\"\",\"\")","v":""},null,{"$f":"IFERROR(INDEX(#REF!,MATCH(INPUT!$B117,#REF!,0)),\"\")","v":""}]
[{"$f":"IF(B118<>\"\",COUNTA($B$3:B118)&\"\",\"\")","v":""},null,{"$f":"IFERROR(INDEX(#REF!,MATCH(INPUT!$B118,#REF!,0)),\"\")","v":""}]
[{"$f":"IF(B119<>\"\",COUNTA($B$3:B119)&\"\",\"\")","v":""},null,{"$f":"IFERROR(INDEX(#REF!,MATCH(INPUT!$B119,#REF!,0)),\"\")","v":""}]
[{"$f":"IF(B120<>\"\",COUNTA($B$3:B120)&\"\",\"\")","v":""},null,{"$f":"IFERROR(INDEX(#REF!,MATCH(INPUT!$B120,#REF!,0)),\"\")","v":""}]
[{"$f":"IF(B121<>\"\",COUNTA($B$3:B121)&\"\",\"\")","v":""},null,{"$f":"IFERROR(INDEX(#REF!,MATCH(INPUT!$B121,#REF!,0)),\"\")","v":""}]
[{"$f":"IF(B122<>\"\",COUNTA($B$3:B122)&\"\",\"\")","v":""},null,{"$f":"IFERROR(INDEX(#REF!,MATCH(INPUT!$B122,#REF!,0)),\"\")","v":""}]
[{"$f":"IF(B123<>\"\",COUNTA($B$3:B123)&\"\",\"\")","v":""},null,{"$f":"IFERROR(INDEX(#REF!,MATCH(INPUT!$B123,#REF!,0)),\"\")","v":""}]
[{"$f":"IF(B124<>\"\",COUNTA($B$3:B124)&\"\",\"\")","v":""},null,{"$f":"IFERROR(INDEX(#REF!,MATCH(INPUT!$B124,#REF!,0)),\"\")","v":""}]
[{"$f":"IF(B125<>\"\",COUNTA($B$3:B125)&\"\",\"\")","v":""},null,{"$f":"IFERROR(INDEX(#REF!,MATCH(INPUT!$B125,#REF!,0)),\"\")","v":""}]
[{"$f":"IF(B126<>\"\",COUNTA($B$3:B126)&\"\",\"\")","v":""},null,{"$f":"IFERROR(INDEX(#REF!,MATCH(INPUT!$B126,#REF!,0)),\"\")","v":""}]
[{"$f":"IF(B127<>\"\",COUNTA($B$3:B127)&\"\",\"\")","v":""},null,{"$f":"IFERROR(INDEX(#REF!,MATCH(INPUT!$B127,#REF!,0)),\"\")","v":""}]
[{"$f":"IF(B128<>\"\",COUNTA($B$3:B128)&\"\",\"\")","v":""},null,{"$f":"IFERROR(INDEX(#REF!,MATCH(INPUT!$B128,#REF!,0)),\"\")","v":""}]
[{"$f":"IF(B129<>\"\",COUNTA($B$3:B129)&\"\",\"\")","v":""},null,{"$f":"IFERROR(INDEX(#REF!,MATCH(INPUT!$B129,#REF!,0)),\"\")","v":""}]
[{"$f":"IF(B130<>\"\",COUNTA($B$3:B130)&\"\",\"\")","v":""},null,{"$f":"IFERROR(INDEX(#REF!,MATCH(INPUT!$B130,#REF!,0)),\"\")","v":""}]
[{"$f":"IF(B131<>\"\",COUNTA($B$3:B131)&\"\",\"\")","v":""},null,{"$f":"IFERROR(INDEX(#REF!,MATCH(INPUT!$B131,#REF!,0)),\"\")","v":""}]
[{"$f":"IF(B132<>\"\",COUNTA($B$3:B132)&\"\",\"\")","v":""},null,{"$f":"IFERROR(INDEX(#REF!,MATCH(INPUT!$B132,#REF!,0)),\"\")","v":""}]
[{"$f":"IF(B133<>\"\",COUNTA($B$3:B133)&\"\",\"\")","v":""},null,{"$f":"IFERROR(INDEX(#REF!,MATCH(INPUT!$B133,#REF!,0)),\"\")","v":""}]
[{"$f":"IF(B134<>\"\",COUNTA($B$3:B134)&\"\",\"\")","v":""},null,{"$f":"IFERROR(INDEX(#REF!,MATCH(INPUT!$B134,#REF!,0)),\"\")","v":""}]
[{"$f":"IF(B135<>\"\",COUNTA($B$3:B135)&\"\",\"\")","v":""},null,{"$f":"IFERROR(INDEX(#REF!,MATCH(INPUT!$B135,#REF!,0)),\"\")","v":""}]
[{"$f":"IF(B136<>\"\",COUNTA($B$3:B136)&\"\",\"\")","v":""},null,{"$f":"IFERROR(INDEX(#REF!,MATCH(INPUT!$B136,#REF!,0)),\"\")","v":""}]
[{"$f":"IF(B137<>\"\",COUNTA($B$3:B137)&\"\",\"\")","v":""},null,{"$f":"IFERROR(INDEX(#REF!,MATCH(INPUT!$B137,#REF!,0)),\"\")","v":""}]
[{"$f":"IF(B138<>\"\",COUNTA($B$3:B138)&\"\",\"\")","v":""},null,{"$f":"IFERROR(INDEX(#REF!,MATCH(INPUT!$B138,#REF!,0)),\"\")","v":""}]
[{"$f":"IF(B139<>\"\",COUNTA($B$3:B139)&\"\",\"\")","v":""},null,{"$f":"IFERROR(INDEX(#REF!,MATCH(INPUT!$B139,#REF!,0)),\"\")","v":""}]
[{"$f":"IF(B140<>\"\",COUNTA($B$3:B140)&\"\",\"\")","v":""},null,{"$f":"IFERROR(INDEX(#REF!,MATCH(INPUT!$B140,#REF!,0)),\"\")","v":""}]
[{"$f":"IF(B141<>\"\",COUNTA($B$3:B141)&\"\",\"\")","v":""},null,{"$f":"IFERROR(INDEX(#REF!,MATCH(INPUT!$B141,#REF!,0)),\"\")","v":""}]
[{"$f":"IF(B142<>\"\",COUNTA($B$3:B142)&\"\",\"\")","v":""},null,{"$f":"IFERROR(INDEX(#REF!,MATCH(INPUT!$B142,#REF!,0)),\"\")","v":""}]
[{"$f":"IF(B143<>\"\",COUNTA($B$3:B143)&\"\",\"\")","v":""},null,{"$f":"IFERROR(INDEX(#REF!,MATCH(INPUT!$B143,#REF!,0)),\"\")","v":""}]
[{"$f":"IF(B144<>\"\",COUNTA($B$3:B144)&\"\",\"\")","v":""},null,{"$f":"IFERROR(INDEX(#REF!,MATCH(INPUT!$B144,#REF!,0)),\"\")","v":""}]
[{"$f":"IF(B145<>\"\",COUNTA($B$3:B145)&\"\",\"\")","v":""},null,{"$f":"IFERROR(INDEX(#REF!,MATCH(INPUT!$B145,#REF!,0)),\"\")","v":""}]
[{"$f":"IF(B146<>\"\",COUNTA($B$3:B146)&\"\",\"\")","v":""},null,{"$f":"IFERROR(INDEX(#REF!,MATCH(INPUT!$B146,#REF!,0)),\"\")","v":""}]
[{"$f":"IF(B147<>\"\",COUNTA($B$3:B147)&\"\",\"\")","v":""},null,{"$f":"IFERROR(INDEX(#REF!,MATCH(INPUT!$B147,#REF!,0)),\"\")","v":""}]
[{"$f":"IF(B148<>\"\",COUNTA($B$3:B148)&\"\",\"\")","v":""},null,{"$f":"IFERROR(INDEX(#REF!,MATCH(INPUT!$B148,#REF!,0)),\"\")","v":""}]
[{"$f":"IF(B149<>\"\",COUNTA($B$3:B149)&\"\",\"\")","v":""},null,{"$f":"IFERROR(INDEX(#REF!,MATCH(INPUT!$B149,#REF!,0)),\"\")","v":""}]
[{"$f":"IF(B150<>\"\",COUNTA($B$3:B150)&\"\",\"\")","v":""},null,{"$f":"IFERROR(INDEX(#REF!,MATCH(INPUT!$B150,#REF!,0)),\"\")","v":""}]
[{"$f":"IF(B151<>\"\",COUNTA($B$3:B151)&\"\",\"\")","v":""},null,{"$f":"IFERROR(INDEX(#REF!,MATCH(INPUT!$B151,#REF!,0)),\"\")","v":""}]
[{"$f":"IF(B152<>\"\",COUNTA($B$3:B152)&\"\",\"\")","v":""},null,{"$f":"IFERROR(INDEX(#REF!,MATCH(INPUT!$B152,#REF!,0)),\"\")","v":""}]
[{"$f":"IF(B153<>\"\",COUNTA($B$3:B153)&\"\",\"\")","v":""},null,{"$f":"IFERROR(INDEX(#REF!,MATCH(INPUT!$B153,#REF!,0)),\"\")","v":""}]
[{"$f":"IF(B154<>\"\",COUNTA($B$3:B154)&\"\",\"\")","v":""},null,{"$f":"IFERROR(INDEX(#REF!,MATCH(INPUT!$B154,#REF!,0)),\"\")","v":""}]
[{"$f":"IF(B155<>\"\",COUNTA($B$3:B155)&\"\",\"\")","v":""},null,{"$f":"IFERROR(INDEX(#REF!,MATCH(INPUT!$B155,#REF!,0)),\"\")","v":""}]
[{"$f":"IF(B156<>\"\",COUNTA($B$3:B156)&\"\",\"\")","v":""},null,{"$f":"IFERROR(INDEX(#REF!,MATCH(INPUT!$B156,#REF!,0)),\"\")","v":""}]
[{"$f":"IF(B157<>\"\",COUNTA($B$3:B157)&\"\",\"\")","v":""},null,{"$f":"IFERROR(INDEX(#REF!,MATCH(INPUT!$B157,#REF!,0)),\"\")","v":""}]
[{"$f":"IF(B158<>\"\",COUNTA($B$3:B158)&\"\",\"\")","v":""},null,{"$f":"IFERROR(INDEX(#REF!,MATCH(INPUT!$B158,#REF!,0)),\"\")","v":""}]
[{"$f":"IF(B159<>\"\",COUNTA($B$3:B159)&\"\",\"\")","v":""},null,{"$f":"IFERROR(INDEX(#REF!,MATCH(INPUT!$B159,#REF!,0)),\"\")","v":""}]
[{"$f":"IF(B160<>\"\",COUNTA($B$3:B160)&\"\",\"\")","v":""},null,{"$f":"IFERROR(INDEX(#REF!,MATCH(INPUT!$B160,#REF!,0)),\"\")","v":""}]
[{"$f":"IF(B161<>\"\",COUNTA($B$3:B161)&\"\",\"\")","v":""},null,{"$f":"IFERROR(INDEX(#REF!,MATCH(INPUT!$B161,#REF!,0)),\"\")","v":""}]
[{"$f":"IF(B162<>\"\",COUNTA($B$3:B162)&\"\",\"\")","v":""},null,{"$f":"IFERROR(INDEX(#REF!,MATCH(INPUT!$B162,#REF!,0)),\"\")","v":""}]
[{"$f":"IF(B163<>\"\",COUNTA($B$3:B163)&\"\",\"\")","v":""},null,{"$f":"IFERROR(INDEX(#REF!,MATCH(INPUT!$B163,#REF!,0)),\"\")","v":""}]
[{"$f":"IF(B164<>\"\",COUNTA($B$3:B164)&\"\",\"\")","v":""},null,{"$f":"IFERROR(INDEX(#REF!,MATCH(INPUT!$B164,#REF!,0)),\"\")","v":""}]
[{"$f":"IF(B165<>\"\",COUNTA($B$3:B165)&\"\",\"\")","v":""},null,{"$f":"IFERROR(INDEX(#REF!,MATCH(INPUT!$B165,#REF!,0)),\"\")","v":""}]
[{"$f":"IF(B166<>\"\",COUNTA($B$3:B166)&\"\",\"\")","v":""},null,{"$f":"IFERROR(INDEX(#REF!,MATCH(INPUT!$B166,#REF!,0)),\"\")","v":""}]
[{"$f":"IF(B167<>\"\",COUNTA($B$3:B167)&\"\",\"\")","v":""},null,{"$f":"IFERROR(INDEX(#REF!,MATCH(INPUT!$B167,#REF!,0)),\"\")","v":""}]
[{"$f":"IF(B168<>\"\",COUNTA($B$3:B168)&\"\",\"\")","v":""},null,{"$f":"IFERROR(INDEX(#REF!,MATCH(INPUT!$B168,#REF!,0)),\"\")","v":""}]
[{"$f":"IF(B169<>\"\",COUNTA($B$3:B169)&\"\",\"\")","v":""},null,{"$f":"IFERROR(INDEX(#REF!,MATCH(INPUT!$B169,#REF!,0)),\"\")","v":""}]
[{"$f":"IF(B170<>\"\",COUNTA($B$3:B170)&\"\",\"\")","v":""},null,{"$f":"IFERROR(INDEX(#REF!,MATCH(INPUT!$B170,#REF!,0)),\"\")","v":""}]
[{"$f":"IF(B171<>\"\",COUNTA($B$3:B171)&\"\",\"\")","v":""},null,{"$f":"IFERROR(INDEX(#REF!,MATCH(INPUT!$B171,#REF!,0)),\"\")","v":""}]
[{"$f":"IF(B172<>\"\",COUNTA($B$3:B172)&\"\",\"\")","v":""},null,{"$f":"IFERROR(INDEX(#REF!,MATCH(INPUT!$B172,#REF!,0)),\"\")","v":""}]
[{"$f":"IF(B173<>\"\",COUNTA($B$3:B173)&\"\",\"\")","v":""},null,{"$f":"IFERROR(INDEX(#REF!,MATCH(INPUT!$B173,#REF!,0)),\"\")","v":""}]
[{"$f":"IF(B174<>\"\",COUNTA($B$3:B174)&\"\",\"\")","v":""},null,{"$f":"IFERROR(INDEX(#REF!,MATCH(INPUT!$B174,#REF!,0)),\"\")","v":""}]
[{"$f":"IF(B175<>\"\",COUNTA($B$3:B175)&\"\",\"\")","v":""},null,{"$f":"IFERROR(INDEX(#REF!,MATCH(INPUT!$B175,#REF!,0)),\"\")","v":""}]
[{"$f":"IF(B176<>\"\",COUNTA($B$3:B176)&\"\",\"\")","v":""},null,{"$f":"IFERROR(INDEX(#REF!,MATCH(INPUT!$B176,#REF!,0)),\"\")","v":""}]
[{"$f":"IF(B177<>\"\",COUNTA($B$3:B177)&\"\",\"\")","v":""},null,{"$f":"IFERROR(INDEX(#REF!,MATCH(INPUT!$B177,#REF!,0)),\"\")","v":""}]
[{"$f":"IF(B178<>\"\",COUNTA($B$3:B178)&\"\",\"\")","v":""},null,{"$f":"IFERROR(INDEX(#REF!,MATCH(INPUT!$B178,#REF!,0)),\"\")","v":""}]
[{"$f":"IF(B179<>\"\",COUNTA($B$3:B179)&\"\",\"\")","v":""},null,{"$f":"IFERROR(INDEX(#REF!,MATCH(INPUT!$B179,#REF!,0)),\"\")","v":""}]
[{"$f":"IF(B180<>\"\",COUNTA($B$3:B180)&\"\",\"\")","v":""},null,{"$f":"IFERROR(INDEX(#REF!,MATCH(INPUT!$B180,#REF!,0)),\"\")","v":""}]
[{"$f":"IF(B181<>\"\",COUNTA($B$3:B181)&\"\",\"\")","v":""},null,{"$f":"IFERROR(INDEX(#REF!,MATCH(INPUT!$B181,#REF!,0)),\"\")","v":""}]
[{"$f":"IF(B182<>\"\",COUNTA($B$3:B182)&\"\",\"\")","v":""},null,{"$f":"IFERROR(INDEX(#REF!,MATCH(INPUT!$B182,#REF!,0)),\"\")","v":""}]
[{"$f":"IF(B183<>\"\",COUNTA($B$3:B183)&\"\",\"\")","v":""},null,{"$f":"IFERROR(INDEX(#REF!,MATCH(INPUT!$B183,#REF!,0)),\"\")","v":""}]
[{"$f":"IF(B184<>\"\",COUNTA($B$3:B184)&\"\",\"\")","v":""},null,{"$f":"IFERROR(INDEX(#REF!,MATCH(INPUT!$B184,#REF!,0)),\"\")","v":""}]
[{"$f":"IF(B185<>\"\",COUNTA($B$3:B185)&\"\",\"\")","v":""},null,{"$f":"IFERROR(INDEX(#REF!,MATCH(INPUT!$B185,#REF!,0)),\"\")","v":""}]
[{"$f":"IF(B186<>\"\",COUNTA($B$3:B186)&\"\",\"\")","v":""},null,{"$f":"IFERROR(INDEX(#REF!,MATCH(INPUT!$B186,#REF!,0)),\"\")","v":""}]
[{"$f":"IF(B187<>\"\",COUNTA($B$3:B187)&\"\",\"\")","v":""},null,{"$f":"IFERROR(INDEX(#REF!,MATCH(INPUT!$B187,#REF!,0)),\"\")","v":""}]
[{"$f":"IF(B188<>\"\",COUNTA($B$3:B188)&\"\",\"\")","v":""},null,{"$f":"IFERROR(INDEX(#REF!,MATCH(INPUT!$B188,#REF!,0)),\"\")","v":""}]
[{"$f":"IF(B189<>\"\",COUNTA($B$3:B189)&\"\",\"\")","v":""},null,{"$f":"IFERROR(INDEX(#REF!,MATCH(INPUT!$B189,#REF!,0)),\"\")","v":""}]
[{"$f":"IF(B190<>\"\",COUNTA($B$3:B190)&\"\",\"\")","v":""},null,{"$f":"IFERROR(INDEX(#REF!,MATCH(INPUT!$B190,#REF!,0)),\"\")","v":""}]
[{"$f":"IF(B191<>\"\",COUNTA($B$3:B191)&\"\",\"\")","v":""},null,{"$f":"IFERROR(INDEX(#REF!,MATCH(INPUT!$B191,#REF!,0)),\"\")","v":""}]
[{"$f":"IF(B192<>\"\",COUNTA($B$3:B192)&\"\",\"\")","v":""},null,{"$f":"IFERROR(INDEX(#REF!,MATCH(INPUT!$B192,#REF!,0)),\"\")","v":""}]
[{"$f":"IF(B193<>\"\",COUNTA($B$3:B193)&\"\",\"\")","v":""},null,{"$f":"IFERROR(INDEX(#REF!,MATCH(INPUT!$B193,#REF!,0)),\"\")","v":""}]
[{"$f":"IF(B194<>\"\",COUNTA($B$3:B194)&\"\",\"\")","v":""},null,{"$f":"IFERROR(INDEX(#REF!,MATCH(INPUT!$B194,#REF!,0)),\"\")","v":""}]
[{"$f":"IF(B195<>\"\",COUNTA($B$3:B195)&\"\",\"\")","v":""},null,{"$f":"IFERROR(INDEX(#REF!,MATCH(INPUT!$B195,#REF!,0)),\"\")","v":""}]
[{"$f":"IF(B196<>\"\",COUNTA($B$3:B196)&\"\",\"\")","v":""},null,{"$f":"IFERROR(INDEX(#REF!,MATCH(INPUT!$B196,#REF!,0)),\"\")","v":""}]
[{"$f":"IF(B197<>\"\",COUNTA($B$3:B197)&\"\",\"\")","v":""},null,{"$f":"IFERROR(INDEX(#REF!,MATCH(INPUT!$B197,#REF!,0)),\"\")","v":""}]
[{"$f":"IF(B198<>\"\",COUNTA($B$3:B198)&\"\",\"\")","v":""},null,{"$f":"IFERROR(INDEX(#REF!,MATCH(INPUT!$B198,#REF!,0)),\"\")","v":""}]
[{"$f":"IF(B199<>\"\",COUNTA($B$3:B199)&\"\",\"\")","v":""},null,{"$f":"IFERROR(INDEX(#REF!,MATCH(INPUT!$B199,#REF!,0)),\"\")","v":""}]
[{"$f":"IF(B200<>\"\",COUNTA($B$3:B200)&\"\",\"\")","v":""},null,{"$f":"IFERROR(INDEX(#REF!,MATCH(INPUT!$B200,#REF!,0)),\"\")","v":""}]
[{"$f":"IF(B201<>\"\",COUNTA($B$3:B201)&\"\",\"\")","v":""},null,{"$f":"IFERROR(INDEX(#REF!,MATCH(INPUT!$B201,#REF!,0)),\"\")","v":""}]
[{"$f":"IF(B202<>\"\",COUNTA($B$3:B202)&\"\",\"\")","v":""},null,{"$f":"IFERROR(INDEX(#REF!,MATCH(INPUT!$B202,#REF!,0)),\"\")","v":""}]
[{"$f":"IF(B203<>\"\",COUNTA($B$3:B203)&\"\",\"\")","v":""},null,{"$f":"IFERROR(INDEX(#REF!,MATCH(INPUT!$B203,#REF!,0)),\"\")","v":""}]
[{"$f":"IF(B204<>\"\",COUNTA($B$3:B204)&\"\",\"\")","v":""},null,{"$f":"IFERROR(INDEX(#REF!,MATCH(INPUT!$B204,#REF!,0)),\"\")","v":""}]
[{"$f":"IF(B205<>\"\",COUNTA($B$3:B205)&\"\",\"\")","v":""},null,{"$f":"IFERROR(INDEX(#REF!,MATCH(INPUT!$B205,#REF!,0)),\"\")","v":""}]
[{"$f":"IF(B206<>\"\",COUNTA($B$3:B206)&\"\",\"\")","v":""},null,{"$f":"IFERROR(INDEX(#REF!,MATCH(INPUT!$B206,#REF!,0)),\"\")","v":""}]
[{"$f":"IF(B207<>\"\",COUNTA($B$3:B207)&\"\",\"\")","v":""},null,{"$f":"IFERROR(INDEX(#REF!,MATCH(INPUT!$B207,#REF!,0)),\"\")","v":""}]
[{"$f":"IF(B208<>\"\",COUNTA($B$3:B208)&\"\",\"\")","v":""},null,{"$f":"IFERROR(INDEX(#REF!,MATCH(INPUT!$B208,#REF!,0)),\"\")","v":""}]
[{"$f":"IF(B209<>\"\",COUNTA($B$3:B209)&\"\",\"\")","v":""},null,{"$f":"IFERROR(INDEX(#REF!,MATCH(INPUT!$B209,#REF!,0)),\"\")","v":""}]
[{"$f":"IF(B210<>\"\",COUNTA($B$3:B210)&\"\",\"\")","v":""},null,{"$f":"IFERROR(INDEX(#REF!,MATCH(INPUT!$B210,#REF!,0)),\"\")","v":""}]
[{"$f":"IF(B211<>\"\",COUNTA($B$3:B211)&\"\",\"\")","v":""},null,{"$f":"IFERROR(INDEX(#REF!,MATCH(INPUT!$B211,#REF!,0)),\"\")","v":""}]
[{"$f":"IF(B212<>\"\",COUNTA($B$3:B212)&\"\",\"\")","v":""},null,{"$f":"IFERROR(INDEX(#REF!,MATCH(INPUT!$B212,#REF!,0)),\"\")","v":""}]
[{"$f":"IF(B213<>\"\",COUNTA($B$3:B213)&\"\",\"\")","v":""},null,{"$f":"IFERROR(INDEX(#REF!,MATCH(INPUT!$B213,#REF!,0)),\"\")","v":""}]
[{"$f":"IF(B214<>\"\",COUNTA($B$3:B214)&\"\",\"\")","v":""},null,{"$f":"IFERROR(INDEX(#REF!,MATCH(INPUT!$B214,#REF!,0)),\"\")","v":""}]
[{"$f":"IF(B215<>\"\",COUNTA($B$3:B215)&\"\",\"\")","v":""},null,{"$f":"IFERROR(INDEX(#REF!,MATCH(INPUT!$B215,#REF!,0)),\"\")","v":""}]
[{"$f":"IF(B216<>\"\",COUNTA($B$3:B216)&\"\",\"\")","v":""},null,{"$f":"IFERROR(INDEX(#REF!,MATCH(INPUT!$B216,#REF!,0)),\"\")","v":""}]
[{"$f":"IF(B217<>\"\",COUNTA($B$3:B217)&\"\",\"\")","v":""},null,{"$f":"IFERROR(INDEX(#REF!,MATCH(INPUT!$B217,#REF!,0)),\"\")","v":""}]
[{"$f":"IF(B218<>\"\",COUNTA($B$3:B218)&\"\",\"\")","v":""},null,{"$f":"IFERROR(INDEX(#REF!,MATCH(INPUT!$B218,#REF!,0)),\"\")","v":""}]
[{"$f":"IF(B219<>\"\",COUNTA($B$3:B219)&\"\",\"\")","v":""},null,{"$f":"IFERROR(INDEX(#REF!,MATCH(INPUT!$B219,#REF!,0)),\"\")","v":""}]
[{"$f":"IF(B220<>\"\",COUNTA($B$3:B220)&\"\",\"\")","v":""},null,{"$f":"IFERROR(INDEX(#REF!,MATCH(INPUT!$B220,#REF!,0)),\"\")","v":""}]
[{"$f":"IF(B221<>\"\",COUNTA($B$3:B221)&\"\",\"\")","v":""},null,{"$f":"IFERROR(INDEX(#REF!,MATCH(INPUT!$B221,#REF!,0)),\"\")","v":""}]
[{"$f":"IF(B222<>\"\",COUNTA($B$3:B222)&\"\",\"\")","v":""},null,{"$f":"IFERROR(INDEX(#REF!,MATCH(INPUT!$B222,#REF!,0)),\"\")","v":""}]
[{"$f":"IF(B223<>\"\",COUNTA($B$3:B223)&\"\",\"\")","v":""},null,{"$f":"IFERROR(INDEX(#REF!,MATCH(INPUT!$B223,#REF!,0)),\"\")","v":""}]
[{"$f":"IF(B224<>\"\",COUNTA($B$3:B224)&\"\",\"\")","v":""},null,{"$f":"IFERROR(INDEX(#REF!,MATCH(INPUT!$B224,#REF!,0)),\"\")","v":""}]
[{"$f":"IF(B225<>\"\",COUNTA($B$3:B225)&\"\",\"\")","v":""},null,{"$f":"IFERROR(INDEX(#REF!,MATCH(INPUT!$B225,#REF!,0)),\"\")","v":""}]
[{"$f":"IF(B226<>\"\",COUNTA($B$3:B226)&\"\",\"\")","v":""},null,{"$f":"IFERROR(INDEX(#REF!,MATCH(INPUT!$B226,#REF!,0)),\"\")","v":""}]
[{"$f":"IF(B227<>\"\",COUNTA($B$3:B227)&\"\",\"\")","v":""},null,{"$f":"IFERROR(INDEX(#REF!,MATCH(INPUT!$B227,#REF!,0)),\"\")","v":""}]
[{"$f":"IF(B228<>\"\",COUNTA($B$3:B228)&\"\",\"\")","v":""},null,{"$f":"IFERROR(INDEX(#REF!,MATCH(INPUT!$B228,#REF!,0)),\"\")","v":""}]
[{"$f":"IF(B229<>\"\",COUNTA($B$3:B229)&\"\",\"\")","v":""},null,{"$f":"IFERROR(INDEX(#REF!,MATCH(INPUT!$B229,#REF!,0)),\"\")","v":""}]
[{"$f":"IF(B230<>\"\",COUNTA($B$3:B230)&\"\",\"\")","v":""},null,{"$f":"IFERROR(INDEX(#REF!,MATCH(INPUT!$B230,#REF!,0)),\"\")","v":""}]
[{"$f":"IF(B231<>\"\",COUNTA($B$3:B231)&\"\",\"\")","v":""},null,{"$f":"IFERROR(INDEX(#REF!,MATCH(INPUT!$B231,#REF!,0)),\"\")","v":""}]
[{"$f":"IF(B232<>\"\",COUNTA($B$3:B232)&\"\",\"\")","v":""},null,{"$f":"IFERROR(INDEX(#REF!,MATCH(INPUT!$B232,#REF!,0)),\"\")","v":""}]
[{"$f":"IF(B233<>\"\",COUNTA($B$3:B233)&\"\",\"\")","v":""},null,{"$f":"IFERROR(INDEX(#REF!,MATCH(INPUT!$B233,#REF!,0)),\"\")","v":""}]
[{"$f":"IF(B234<>\"\",COUNTA($B$3:B234)&\"\",\"\")","v":""},null,{"$f":"IFERROR(INDEX(#REF!,MATCH(INPUT!$B234,#REF!,0)),\"\")","v":""}]
[{"$f":"IF(B235<>\"\",COUNTA($B$3:B235)&\"\",\"\")","v":""},null,{"$f":"IFERROR(INDEX(#REF!,MATCH(INPUT!$B235,#REF!,0)),\"\")","v":""}]
[{"$f":"IF(B236<>\"\",COUNTA($B$3:B236)&\"\",\"\")","v":""},null,{"$f":"IFERROR(INDEX(#REF!,MATCH(INPUT!$B236,#REF!,0)),\"\")","v":""}]
[{"$f":"IF(B237<>\"\",COUNTA($B$3:B237)&\"\",\"\")","v":""},null,{"$f":"IFERROR(INDEX(#REF!,MATCH(INPUT!$B237,#REF!,0)),\"\")","v":""}]
[{"$f":"IF(B238<>\"\",COUNTA($B$3:B238)&\"\",\"\")","v":""},null,{"$f":"IFERROR(INDEX(#REF!,MATCH(INPUT!$B238,#REF!,0)),\"\")","v":""}]
[{"$f":"IF(B239<>\"\",COUNTA($B$3:B239)&\"\",\"\")","v":""},null,{"$f":"IFERROR(INDEX(#REF!,MATCH(INPUT!$B239,#REF!,0)),\"\")","v":""}]
[{"$f":"IF(B240<>\"\",COUNTA($B$3:B240)&\"\",\"\")","v":""},null,{"$f":"IFERROR(INDEX(#REF!,MATCH(INPUT!$B240,#REF!,0)),\"\")","v":""}]
[{"$f":"IF(B241<>\"\",COUNTA($B$3:B241)&\"\",\"\")","v":""},null,{"$f":"IFERROR(INDEX(#REF!,MATCH(INPUT!$B241,#REF!,0)),\"\")","v":""}]
[{"$f":"IF(B242<>\"\",COUNTA($B$3:B242)&\"\",\"\")","v":""},null,{"$f":"IFERROR(INDEX(#REF!,MATCH(INPUT!$B242,#REF!,0)),\"\")","v":""}]
[{"$f":"IF(B243<>\"\",COUNTA($B$3:B243)&\"\",\"\")","v":""},null,{"$f":"IFERROR(INDEX(#REF!,MATCH(INPUT!$B243,#REF!,0)),\"\")","v":""}]
[{"$f":"IF(B244<>\"\",COUNTA($B$3:B244)&\"\",\"\")","v":""},null,{"$f":"IFERROR(INDEX(#REF!,MATCH(INPUT!$B244,#REF!,0)),\"\")","v":""}]
[{"$f":"IF(B245<>\"\",COUNTA($B$3:B245)&\"\",\"\")","v":""},null,{"$f":"IFERROR(INDEX(#REF!,MATCH(INPUT!$B245,#REF!,0)),\"\")","v":""}]
[{"$f":"IF(B246<>\"\",COUNTA($B$3:B246)&\"\",\"\")","v":""},null,{"$f":"IFERROR(INDEX(#REF!,MATCH(INPUT!$B246,#REF!,0)),\"\")","v":""}]
[{"$f":"IF(B247<>\"\",COUNTA($B$3:B247)&\"\",\"\")","v":""},null,{"$f":"IFERROR(INDEX(#REF!,MATCH(INPUT!$B247,#REF!,0)),\"\")","v":""}]
[{"$f":"IF(B248<>\"\",COUNTA($B$3:B248)&\"\",\"\")","v":""},null,{"$f":"IFERROR(INDEX(#REF!,MATCH(INPUT!$B248,#REF!,0)),\"\")","v":""}]
[{"$f":"IF(B249<>\"\",COUNTA($B$3:B249)&\"\",\"\")","v":""},null,{"$f":"IFERROR(INDEX(#REF!,MATCH(INPUT!$B249,#REF!,0)),\"\")","v":""}]
[{"$f":"IF(B250<>\"\",COUNTA($B$3:B250)&\"\",\"\")","v":""},null,{"$f":"IFERROR(INDEX(#REF!,MATCH(INPUT!$B250,#REF!,0)),\"\")","v":""}]
[{"$f":"IF(B251<>\"\",COUNTA($B$3:B251)&\"\",\"\")","v":""},null,{"$f":"IFERROR(INDEX(#REF!,MATCH(INPUT!$B251,#REF!,0)),\"\")","v":""}]
[{"$f":"IF(B252<>\"\",COUNTA($B$3:B252)&\"\",\"\")","v":""},null,{"$f":"IFERROR(INDEX(#REF!,MATCH(INPUT!$B252,#REF!,0)),\"\")","v":""}]
[{"$f":"IF(B253<>\"\",COUNTA($B$3:B253)&\"\",\"\")","v":""},null,{"$f":"IFERROR(INDEX(#REF!,MATCH(INPUT!$B253,#REF!,0)),\"\")","v":""}]
[{"$f":"IF(B254<>\"\",COUNTA($B$3:B254)&\"\",\"\")","v":""},null,{"$f":"IFERROR(INDEX(#REF!,MATCH(INPUT!$B254,#REF!,0)),\"\")","v":""}]
[{"$f":"IF(B255<>\"\",COUNTA($B$3:B255)&\"\",\"\")","v":""},null,{"$f":"IFERROR(INDEX(#REF!,MATCH(INPUT!$B255,#REF!,0)),\"\")","v":""}]
[{"$f":"IF(B256<>\"\",COUNTA($B$3:B256)&\"\",\"\")","v":""},null,{"$f":"IFERROR(INDEX(#REF!,MATCH(INPUT!$B256,#REF!,0)),\"\")","v":""}]
[{"$f":"IF(B257<>\"\",COUNTA($B$3:B257)&\"\",\"\")","v":""},null,{"$f":"IFERROR(INDEX(#REF!,MATCH(INPUT!$B257,#REF!,0)),\"\")","v":""}]
[{"$f":"IF(B258<>\"\",COUNTA($B$3:B258)&\"\",\"\")","v":""},null,{"$f":"IFERROR(INDEX(#REF!,MATCH(INPUT!$B258,#REF!,0)),\"\")","v":""}]
[{"$f":"IF(B259<>\"\",COUNTA($B$3:B259)&\"\",\"\")","v":""},null,{"$f":"IFERROR(INDEX(#REF!,MATCH(INPUT!$B259,#REF!,0)),\"\")","v":""}]
[{"$f":"IF(B260<>\"\",COUNTA($B$3:B260)&\"\",\"\")","v":""},null,{"$f":"IFERROR(INDEX(#REF!,MATCH(INPUT!$B260,#REF!,0)),\"\")","v":""}]
[{"$f":"IF(B261<>\"\",COUNTA($B$3:B261)&\"\",\"\")","v":""},null,{"$f":"IFERROR(INDEX(#REF!,MATCH(INPUT!$B261,#REF!,0)),\"\")","v":""}]
[{"$f":"IF(B262<>\"\",COUNTA($B$3:B262)&\"\",\"\")","v":""},null,{"$f":"IFERROR(INDEX(#REF!,MATCH(INPUT!$B262,#REF!,0)),\"\")","v":""}]
[{"$f":"IF(B263<>\"\",COUNTA($B$3:B263)&\"\",\"\")","v":""},null,{"$f":"IFERROR(INDEX(#REF!,MATCH(INPUT!$B263,#REF!,0)),\"\")","v":""}]
[{"$f":"IF(B264<>\"\",COUNTA($B$3:B264)&\"\",\"\")","v":""},null,{"$f":"IFERROR(INDEX(#REF!,MATCH(INPUT!$B264,#REF!,0)),\"\")","v":""}]
[{"$f":"IF(B265<>\"\",COUNTA($B$3:B265)&\"\",\"\")","v":""},null,{"$f":"IFERROR(INDEX(#REF!,MATCH(INPUT!$B265,#REF!,0)),\"\")","v":""}]
[{"$f":"IF(B266<>\"\",COUNTA($B$3:B266)&\"\",\"\")","v":""},null,{"$f":"IFERROR(INDEX(#REF!,MATCH(INPUT!$B266,#REF!,0)),\"\")","v":""}]
[{"$f":"IF(B267<>\"\",COUNTA($B$3:B267)&\"\",\"\")","v":""},null,{"$f":"IFERROR(INDEX(#REF!,MATCH(INPUT!$B267,#REF!,0)),\"\")","v":""}]
[{"$f":"IF(B268<>\"\",COUNTA($B$3:B268)&\"\",\"\")","v":""},null,{"$f":"IFERROR(INDEX(#REF!,MATCH(INPUT!$B268,#REF!,0)),\"\")","v":""}]
[{"$f":"IF(B269<>\"\",COUNTA($B$3:B269)&\"\",\"\")","v":""},null,{"$f":"IFERROR(INDEX(#REF!,MATCH(INPUT!$B269,#REF!,0)),\"\")","v":""}]
[{"$f":"IF(B270<>\"\",COUNTA($B$3:B270)&\"\",\"\")","v":""},null,{"$f":"IFERROR(INDEX(#REF!,MATCH(INPUT!$B270,#REF!,0)),\"\")","v":""}]
[{"$f":"IF(B271<>\"\",COUNTA($B$3:B271)&\"\",\"\")","v":""},null,{"$f":"IFERROR(INDEX(#REF!,MATCH(INPUT!$B271,#REF!,0)),\"\")","v":""}]
[{"$f":"IF(B272<>\"\",COUNTA($B$3:B272)&\"\",\"\")","v":""},null,{"$f":"IFERROR(INDEX(#REF!,MATCH(INPUT!$B272,#REF!,0)),\"\")","v":""}]
[{"$f":"IF(B273<>\"\",COUNTA($B$3:B273)&\"\",\"\")","v":""},null,{"$f":"IFERROR(INDEX(#REF!,MATCH(INPUT!$B273,#REF!,0)),\"\")","v":""}]
[{"$f":"IF(B274<>\"\",COUNTA($B$3:B274)&\"\",\"\")","v":""},null,{"$f":"IFERROR(INDEX(#REF!,MATCH(INPUT!$B274,#REF!,0)),\"\")","v":""}]
[{"$f":"IF(B275<>\"\",COUNTA($B$3:B275)&\"\",\"\")","v":""},null,{"$f":"IFERROR(INDEX(#REF!,MATCH(INPUT!$B275,#REF!,0)),\"\")","v":""}]
[{"$f":"IF(B276<>\"\",COUNTA($B$3:B276)&\"\",\"\")","v":""},null,{"$f":"IFERROR(INDEX(#REF!,MATCH(INPUT!$B276,#REF!,0)),\"\")","v":""}]
[{"$f":"IF(B277<>\"\",COUNTA($B$3:B277)&\"\",\"\")","v":""},null,{"$f":"IFERROR(INDEX(#REF!,MATCH(INPUT!$B277,#REF!,0)),\"\")","v":""}]
[{"$f":"IF(B278<>\"\",COUNTA($B$3:B278)&\"\",\"\")","v":""},null,{"$f":"IFERROR(INDEX(#REF!,MATCH(INPUT!$B278,#REF!,0)),\"\")","v":""}]
[{"$f":"IF(B279<>\"\",COUNTA($B$3:B279)&\"\",\"\")","v":""},null,{"$f":"IFERROR(INDEX(#REF!,MATCH(INPUT!$B279,#REF!,0)),\"\")","v":""}]
[{"$f":"IF(B280<>\"\",COUNTA($B$3:B280)&\"\",\"\")","v":""},null,{"$f":"IFERROR(INDEX(#REF!,MATCH(INPUT!$B280,#REF!,0)),\"\")","v":""}]
[{"$f":"IF(B281<>\"\",COUNTA($B$3:B281)&\"\",\"\")","v":""},null,{"$f":"IFERROR(INDEX(#REF!,MATCH(INPUT!$B281,#REF!,0)),\"\")","v":""}]
[{"$f":"IF(B282<>\"\",COUNTA($B$3:B282)&\"\",\"\")","v":""},null,{"$f":"IFERROR(INDEX(#REF!,MATCH(INPUT!$B282,#REF!,0)),\"\")","v":""}]
[{"$f":"IF(B283<>\"\",COUNTA($B$3:B283)&\"\",\"\")","v":""},null,{"$f":"IFERROR(INDEX(#REF!,MATCH(INPUT!$B283,#REF!,0)),\"\")","v":""}]
[{"$f":"IF(B284<>\"\",COUNTA($B$3:B284)&\"\",\"\")","v":""},null,{"$f":"IFERROR(INDEX(#REF!,MATCH(INPUT!$B284,#REF!,0)),\"\")","v":""}]
[{"$f":"IF(B285<>\"\",COUNTA($B$3:B285)&\"\",\"\")","v":""},null,{"$f":"IFERROR(INDEX(#REF!,MATCH(INPUT!$B285,#REF!,0)),\"\")","v":""}]
[{"$f":"IF(B286<>\"\",COUNTA($B$3:B286)&\"\",\"\")","v":""},null,{"$f":"IFERROR(INDEX(#REF!,MATCH(INPUT!$B286,#REF!,0)),\"\")","v":""}]
[{"$f":"IF(B287<>\"\",COUNTA($B$3:B287)&\"\",\"\")","v":""},null,{"$f":"IFERROR(INDEX(#REF!,MATCH(INPUT!$B287,#REF!,0)),\"\")","v":""}]
[{"$f":"IF(B288<>\"\",COUNTA($B$3:B288)&\"\",\"\")","v":""},null,{"$f":"IFERROR(INDEX(#REF!,MATCH(INPUT!$B288,#REF!,0)),\"\")","v":""}]
[{"$f":"IF(B289<>\"\",COUNTA($B$3:B289)&\"\",\"\")","v":""},null,{"$f":"IFERROR(INDEX(#REF!,MATCH(INPUT!$B289,#REF!,0)),\"\")","v":""}]
[{"$f":"IF(B290<>\"\",COUNTA($B$3:B290)&\"\",\"\")","v":""},null,{"$f":"IFERROR(INDEX(#REF!,MATCH(INPUT!$B290,#REF!,0)),\"\")","v":""}]
[{"$f":"IF(B291<>\"\",COUNTA($B$3:B291)&\"\",\"\")","v":""},null,{"$f":"IFERROR(INDEX(#REF!,MATCH(INPUT!$B291,#REF!,0)),\"\")","v":""}]
[{"$f":"IF(B292<>\"\",COUNTA($B$3:B292)&\"\",\"\")","v":""},null,{"$f":"IFERROR(INDEX(#REF!,MATCH(INPUT!$B292,#REF!,0)),\"\")","v":""}]
[{"$f":"IF(B293<>\"\",COUNTA($B$3:B293)&\"\",\"\")","v":""},null,{"$f":"IFERROR(INDEX(#REF!,MATCH(INPUT!$B293,#REF!,0)),\"\")","v":""}]
[{"$f":"IF(B294<>\"\",COUNTA($B$3:B294)&\"\",\"\")","v":""},null,{"$f":"IFERROR(INDEX(#REF!,MATCH(INPUT!$B294,#REF!,0)),\"\")","v":""}]
[{"$f":"IF(B295<>\"\",COUNTA($B$3:B295)&\"\",\"\")","v":""},null,{"$f":"IFERROR(INDEX(#REF!,MATCH(INPUT!$B295,#REF!,0)),\"\")","v":""}]
[{"$f":"IF(B296<>\"\",COUNTA($B$3:B296)&\"\",\"\")","v":""},null,{"$f":"IFERROR(INDEX(#REF!,MATCH(INPUT!$B296,#REF!,0)),\"\")","v":""}]
[{"$f":"IF(B297<>\"\",COUNTA($B$3:B297)&\"\",\"\")","v":""},null,{"$f":"IFERROR(INDEX(#REF!,MATCH(INPUT!$B297,#REF!,0)),\"\")","v":""}]
[{"$f":"IF(B298<>\"\",COUNTA($B$3:B298)&\"\",\"\")","v":""},null,{"$f":"IFERROR(INDEX(#REF!,MATCH(INPUT!$B298,#REF!,0)),\"\")","v":""}]
[{"$f":"IF(B299<>\"\",COUNTA($B$3:B299)&\"\",\"\")","v":""},null,{"$f":"IFERROR(INDEX(#REF!,MATCH(INPUT!$B299,#REF!,0)),\"\")","v":""}]
[{"$f":"IF(B300<>\"\",COUNTA($B$3:B300)&\"\",\"\")","v":""},null,{"$f":"IFERROR(INDEX(#REF!,MATCH(INPUT!$B300,#REF!,0)),\"\")","v":""}]
[{"$f":"IF(B301<>\"\",COUNTA($B$3:B301)&\"\",\"\")","v":""},null,{"$f":"IFERROR(INDEX(#REF!,MATCH(INPUT!$B301,#REF!,0)),\"\")","v":""}]
[{"$f":"IF(B302<>\"\",COUNTA($B$3:B302)&\"\",\"\")","v":""},null,{"$f":"IFERROR(INDEX(#REF!,MATCH(INPUT!$B302,#REF!,0)),\"\")","v":""}]
[{"$f":"IF(B303<>\"\",COUNTA($B$3:B303)&\"\",\"\")","v":""},null,{"$f":"IFERROR(INDEX(#REF!,MATCH(INPUT!$B303,#REF!,0)),\"\")","v":""}]
[{"$f":"IF(B304<>\"\",COUNTA($B$3:B304)&\"\",\"\")","v":""},null,{"$f":"IFERROR(INDEX(#REF!,MATCH(INPUT!$B304,#REF!,0)),\"\")","v":""}]
[{"$f":"IF(B305<>\"\",COUNTA($B$3:B305)&\"\",\"\")","v":""},null,{"$f":"IFERROR(INDEX(#REF!,MATCH(INPUT!$B305,#REF!,0)),\"\")","v":""}]
[{"$f":"IF(B306<>\"\",COUNTA($B$3:B306)&\"\",\"\")","v":""},null,{"$f":"IFERROR(INDEX(#REF!,MATCH(INPUT!$B306,#REF!,0)),\"\")","v":""}]
[{"$f":"IF(B307<>\"\",COUNTA($B$3:B307)&\"\",\"\")","v":""},null,{"$f":"IFERROR(INDEX(#REF!,MATCH(INPUT!$B307,#REF!,0)),\"\")","v":""}]
[{"$f":"IF(B308<>\"\",COUNTA($B$3:B308)&\"\",\"\")","v":""},null,{"$f":"IFERROR(INDEX(#REF!,MATCH(INPUT!$B308,#REF!,0)),\"\")","v":""}]
[{"$f":"IF(B309<>\"\",COUNTA($B$3:B309)&\"\",\"\")","v":""},null,{"$f":"IFERROR(INDEX(#REF!,MATCH(INPUT!$B309,#REF!,0)),\"\")","v":""}]
[{"$f":"IF(B310<>\"\",COUNTA($B$3:B310)&\"\",\"\")","v":""},null,{"$f":"IFERROR(INDEX(#REF!,MATCH(INPUT!$B310,#REF!,0)),\"\")","v":""}]
[{"$f":"IF(B311<>\"\",COUNTA($B$3:B311)&\"\",\"\")","v":""},null,{"$f":"IFERROR(INDEX(#REF!,MATCH(INPUT!$B311,#REF!,0)),\"\")","v":""}]
[{"$f":"IF(B312<>\"\",COUNTA($B$3:B312)&\"\",\"\")","v":""},null,{"$f":"IFERROR(INDEX(#REF!,MATCH(INPUT!$B312,#REF!,0)),\"\")","v":""}]
[{"$f":"IF(B313<>\"\",COUNTA($B$3:B313)&\"\",\"\")","v":""},null,{"$f":"IFERROR(INDEX(#REF!,MATCH(INPUT!$B313,#REF!,0)),\"\")","v":""}]
[{"$f":"IF(B314<>\"\",COUNTA($B$3:B314)&\"\",\"\")","v":""},null,{"$f":"IFERROR(INDEX(#REF!,MATCH(INPUT!$B314,#REF!,0)),\"\")","v":""}]
[{"$f":"IF(B315<>\"\",COUNTA($B$3:B315)&\"\",\"\")","v":""},null,{"$f":"IFERROR(INDEX(#REF!,MATCH(INPUT!$B315,#REF!,0)),\"\")","v":""}]
[{"$f":"IF(B316<>\"\",COUNTA($B$3:B316)&\"\",\"\")","v":""},null,{"$f":"IFERROR(INDEX(#REF!,MATCH(INPUT!$B316,#REF!,0)),\"\")","v":""}]
[{"$f":"IF(B317<>\"\",COUNTA($B$3:B317)&\"\",\"\")","v":""},null,{"$f":"IFERROR(INDEX(#REF!,MATCH(INPUT!$B317,#REF!,0)),\"\")","v":""}]
[{"$f":"IF(B318<>\"\",COUNTA($B$3:B318)&\"\",\"\")","v":""},null,{"$f":"IFERROR(INDEX(#REF!,MATCH(INPUT!$B318,#REF!,0)),\"\")","v":""}]
[{"$f":"IF(B319<>\"\",COUNTA($B$3:B319)&\"\",\"\")","v":""},null,{"$f":"IFERROR(INDEX(#REF!,MATCH(INPUT!$B319,#REF!,0)),\"\")","v":""}]
[{"$f":"IF(B320<>\"\",COUNTA($B$3:B320)&\"\",\"\")","v":""},null,{"$f":"IFERROR(INDEX(#REF!,MATCH(INPUT!$B320,#REF!,0)),\"\")","v":""}]
[{"$f":"IF(B321<>\"\",COUNTA($B$3:B321)&\"\",\"\")","v":""},null,{"$f":"IFERROR(INDEX(#REF!,MATCH(INPUT!$B321,#REF!,0)),\"\")","v":""}]
[{"$f":"IF(B322<>\"\",COUNTA($B$3:B322)&\"\",\"\")","v":""},null,{"$f":"IFERROR(INDEX(#REF!,MATCH(INPUT!$B322,#REF!,0)),\"\")","v":""}]
[{"$f":"IF(B323<>\"\",COUNTA($B$3:B323)&\"\",\"\")","v":""},null,{"$f":"IFERROR(INDEX(#REF!,MATCH(INPUT!$B323,#REF!,0)),\"\")","v":""}]
[{"$f":"IF(B324<>\"\",COUNTA($B$3:B324)&\"\",\"\")","v":""},null,{"$f":"IFERROR(INDEX(#REF!,MATCH(INPUT!$B324,#REF!,0)),\"\")","v":""}]
[{"$f":"IF(B325<>\"\",COUNTA($B$3:B325)&\"\",\"\")","v":""},null,{"$f":"IFERROR(INDEX(#REF!,MATCH(INPUT!$B325,#REF!,0)),\"\")","v":""}]
[{"$f":"IF(B326<>\"\",COUNTA($B$3:B326)&\"\",\"\")","v":""},null,{"$f":"IFERROR(INDEX(#REF!,MATCH(INPUT!$B326,#REF!,0)),\"\")","v":""}]
[{"$f":"IF(B327<>\"\",COUNTA($B$3:B327)&\"\",\"\")","v":""},null,{"$f":"IFERROR(INDEX(#REF!,MATCH(INPUT!$B327,#REF!,0)),\"\")","v":""}]
[{"$f":"IF(B328<>\"\",COUNTA($B$3:B328)&\"\",\"\")","v":""},null,{"$f":"IFERROR(INDEX(#REF!,MATCH(INPUT!$B328,#REF!,0)),\"\")","v":""}]
[{"$f":"IF(B329<>\"\",COUNTA($B$3:B329)&\"\",\"\")","v":""},null,{"$f":"IFERROR(INDEX(#REF!,MATCH(INPUT!$B329,#REF!,0)),\"\")","v":""}]
[{"$f":"IF(B330<>\"\",COUNTA($B$3:B330)&\"\",\"\")","v":""},null,{"$f":"IFERROR(INDEX(#REF!,MATCH(INPUT!$B330,#REF!,0)),\"\")","v":""}]
[{"$f":"IF(B331<>\"\",COUNTA($B$3:B331)&\"\",\"\")","v":""},null,{"$f":"IFERROR(INDEX(#REF!,MATCH(INPUT!$B331,#REF!,0)),\"\")","v":""}]
[{"$f":"IF(B332<>\"\",COUNTA($B$3:B332)&\"\",\"\")","v":""},null,{"$f":"IFERROR(INDEX(#REF!,MATCH(INPUT!$B332,#REF!,0)),\"\")","v":""}]
[{"$f":"IF(B333<>\"\",COUNTA($B$3:B333)&\"\",\"\")","v":""},null,{"$f":"IFERROR(INDEX(#REF!,MATCH(INPUT!$B333,#REF!,0)),\"\")","v":""}]
[{"$f":"IF(B334<>\"\",COUNTA($B$3:B334)&\"\",\"\")","v":""},null,{"$f":"IFERROR(INDEX(#REF!,MATCH(INPUT!$B334,#REF!,0)),\"\")","v":""}]
[{"$f":"IF(B335<>\"\",COUNTA($B$3:B335)&\"\",\"\")","v":""},null,{"$f":"IFERROR(INDEX(#REF!,MATCH(INPUT!$B335,#REF!,0)),\"\")","v":""}]
[{"$f":"IF(B336<>\"\",COUNTA($B$3:B336)&\"\",\"\")","v":""},null,{"$f":"IFERROR(INDEX(#REF!,MATCH(INPUT!$B336,#REF!,0)),\"\")","v":""}]
[{"$f":"IF(B337<>\"\",COUNTA($B$3:B337)&\"\",\"\")","v":""},null,{"$f":"IFERROR(INDEX(#REF!,MATCH(INPUT!$B337,#REF!,0)),\"\")","v":""}]
[{"$f":"IF(B338<>\"\",COUNTA($B$3:B338)&\"\",\"\")","v":""},null,{"$f":"IFERROR(INDEX(#REF!,MATCH(INPUT!$B338,#REF!,0)),\"\")","v":""}]
[{"$f":"IF(B339<>\"\",COUNTA($B$3:B339)&\"\",\"\")","v":""},null,{"$f":"IFERROR(INDEX(#REF!,MATCH(INPUT!$B339,#REF!,0)),\"\")","v":""}]
[{"$f":"IF(B340<>\"\",COUNTA($B$3:B340)&\"\",\"\")","v":""},null,{"$f":"IFERROR(INDEX(#REF!,MATCH(INPUT!$B340,#REF!,0)),\"\")","v":""}]
[{"$f":"IF(B341<>\"\",COUNTA($B$3:B341)&\"\",\"\")","v":""},null,{"$f":"IFERROR(INDEX(#REF!,MATCH(INPUT!$B341,#REF!,0)),\"\")","v":""}]
[{"$f":"IF(B342<>\"\",COUNTA($B$3:B342)&\"\",\"\")","v":""},null,{"$f":"IFERROR(INDEX(#REF!,MATCH(INPUT!$B342,#REF!,0)),\"\")","v":""}]
[{"$f":"IF(B343<>\"\",COUNTA($B$3:B343)&\"\",\"\")","v":""},null,{"$f":"IFERROR(INDEX(#REF!,MATCH(INPUT!$B343,#REF!,0)),\"\")","v":""}]
[{"$f":"IF(B344<>\"\",COUNTA($B$3:B344)&\"\",\"\")","v":""},null,{"$f":"IFERROR(INDEX(#REF!,MATCH(INPUT!$B344,#REF!,0)),\"\")","v":""}]
[{"$f":"IF(B345<>\"\",COUNTA($B$3:B345)&\"\",\"\")","v":""},null,{"$f":"IFERROR(INDEX(#REF!,MATCH(INPUT!$B345,#REF!,0)),\"\")","v":""}]
[{"$f":"IF(B346<>\"\",COUNTA($B$3:B346)&\"\",\"\")","v":""},null,{"$f":"IFERROR(INDEX(#REF!,MATCH(INPUT!$B346,#REF!,0)),\"\")","v":""}]
[{"$f":"IF(B347<>\"\",COUNTA($B$3:B347)&\"\",\"\")","v":""},null,{"$f":"IFERROR(INDEX(#REF!,MATCH(INPUT!$B347,#REF!,0)),\"\")","v":""}]
[{"$f":"IF(B348<>\"\",COUNTA($B$3:B348)&\"\",\"\")","v":""},null,{"$f":"IFERROR(INDEX(#REF!,MATCH(INPUT!$B348,#REF!,0)),\"\")","v":""}]
[{"$f":"IF(B349<>\"\",COUNTA($B$3:B349)&\"\",\"\")","v":""},null,{"$f":"IFERROR(INDEX(#REF!,MATCH(INPUT!$B349,#REF!,0)),\"\")","v":""}]
[{"$f":"IF(B350<>\"\",COUNTA($B$3:B350)&\"\",\"\")","v":""},null,{"$f":"IFERROR(INDEX(#REF!,MATCH(INPUT!$B350,#REF!,0)),\"\")","v":""}]
[{"$f":"IF(B351<>\"\",COUNTA($B$3:B351)&\"\",\"\")","v":""},null,{"$f":"IFERROR(INDEX(#REF!,MATCH(INPUT!$B351,#REF!,0)),\"\")","v":""}]
[{"$f":"IF(B352<>\"\",COUNTA($B$3:B352)&\"\",\"\")","v":""},null,{"$f":"IFERROR(INDEX(#REF!,MATCH(INPUT!$B352,#REF!,0)),\"\")","v":""}]
[{"$f":"IF(B353<>\"\",COUNTA($B$3:B353)&\"\",\"\")","v":""},null,{"$f":"IFERROR(INDEX(#REF!,MATCH(INPUT!$B353,#REF!,0)),\"\")","v":""}]
[{"$f":"IF(B354<>\"\",COUNTA($B$3:B354)&\"\",\"\")","v":""},null,{"$f":"IFERROR(INDEX(#REF!,MATCH(INPUT!$B354,#REF!,0)),\"\")","v":""}]
[{"$f":"IF(B355<>\"\",COUNTA($B$3:B355)&\"\",\"\")","v":""},null,{"$f":"IFERROR(INDEX(#REF!,MATCH(INPUT!$B355,#REF!,0)),\"\")","v":""}]
[{"$f":"IF(B356<>\"\",COUNTA($B$3:B356)&\"\",\"\")","v":""},null,{"$f":"IFERROR(INDEX(#REF!,MATCH(INPUT!$B356,#REF!,0)),\"\")","v":""}]
[{"$f":"IF(B357<>\"\",COUNTA($B$3:B357)&\"\",\"\")","v":""},null,{"$f":"IFERROR(INDEX(#REF!,MATCH(INPUT!$B357,#REF!,0)),\"\")","v":""}]
[{"$f":"IF(B358<>\"\",COUNTA($B$3:B358)&\"\",\"\")","v":""},null,{"$f":"IFERROR(INDEX(#REF!,MATCH(INPUT!$B358,#REF!,0)),\"\")","v":""}]
[{"$f":"IF(B359<>\"\",COUNTA($B$3:B359)&\"\",\"\")","v":""},null,{"$f":"IFERROR(INDEX(#REF!,MATCH(INPUT!$B359,#REF!,0)),\"\")","v":""}]
[{"$f":"IF(B360<>\"\",COUNTA($B$3:B360)&\"\",\"\")","v":""},null,{"$f":"IFERROR(INDEX(#REF!,MATCH(INPUT!$B360,#REF!,0)),\"\")","v":""}]
[{"$f":"IF(B361<>\"\",COUNTA($B$3:B361)&\"\",\"\")","v":""},null,{"$f":"IFERROR(INDEX(#REF!,MATCH(INPUT!$B361,#REF!,0)),\"\")","v":""}]
[{"$f":"IF(B362<>\"\",COUNTA($B$3:B362)&\"\",\"\")","v":""},null,{"$f":"IFERROR(INDEX(#REF!,MATCH(INPUT!$B362,#REF!,0)),\"\")","v":""}]
[{"$f":"IF(B363<>\"\",COUNTA($B$3:B363)&\"\",\"\")","v":""},null,{"$f":"IFERROR(INDEX(#REF!,MATCH(INPUT!$B363,#REF!,0)),\"\")","v":""}]
[{"$f":"IF(B364<>\"\",COUNTA($B$3:B364)&\"\",\"\")","v":""},null,{"$f":"IFERROR(INDEX(#REF!,MATCH(INPUT!$B364,#REF!,0)),\"\")","v":""}]
[{"$f":"IF(B365<>\"\",COUNTA($B$3:B365)&\"\",\"\")","v":""},null,{"$f":"IFERROR(INDEX(#REF!,MATCH(INPUT!$B365,#REF!,0)),\"\")","v":""}]
[{"$f":"IF(B366<>\"\",COUNTA($B$3:B366)&\"\",\"\")","v":""},null,{"$f":"IFERROR(INDEX(#REF!,MATCH(INPUT!$B366,#REF!,0)),\"\")","v":""}]
[{"$f":"IF(B367<>\"\",COUNTA($B$3:B367)&\"\",\"\")","v":""},null,{"$f":"IFERROR(INDEX(#REF!,MATCH(INPUT!$B367,#REF!,0)),\"\")","v":""}]
[{"$f":"IF(B368<>\"\",COUNTA($B$3:B368)&\"\",\"\")","v":""},null,{"$f":"IFERROR(INDEX(#REF!,MATCH(INPUT!$B368,#REF!,0)),\"\")","v":""}]
[{"$f":"IF(B369<>\"\",COUNTA($B$3:B369)&\"\",\"\")","v":""},null,{"$f":"IFERROR(INDEX(#REF!,MATCH(INPUT!$B369,#REF!,0)),\"\")","v":""}]
[{"$f":"IF(B370<>\"\",COUNTA($B$3:B370)&\"\",\"\")","v":""},null,{"$f":"IFERROR(INDEX(#REF!,MATCH(INPUT!$B370,#REF!,0)),\"\")","v":""}]
[{"$f":"IF(B371<>\"\",COUNTA($B$3:B371)&\"\",\"\")","v":""},null,{"$f":"IFERROR(INDEX(#REF!,MATCH(INPUT!$B371,#REF!,0)),\"\")","v":""}]
[{"$f":"IF(B372<>\"\",COUNTA($B$3:B372)&\"\",\"\")","v":""},null,{"$f":"IFERROR(INDEX(#REF!,MATCH(INPUT!$B372,#REF!,0)),\"\")","v":""}]
[{"$f":"IF(B373<>\"\",COUNTA($B$3:B373)&\"\",\"\")","v":""},null,{"$f":"IFERROR(INDEX(#REF!,MATCH(INPUT!$B373,#REF!,0)),\"\")","v":""}]
[{"$f":"IF(B374<>\"\",COUNTA($B$3:B374)&\"\",\"\")","v":""},null,{"$f":"IFERROR(INDEX(#REF!,MATCH(INPUT!$B374,#REF!,0)),\"\")","v":""}]
[{"$f":"IF(B375<>\"\",COUNTA($B$3:B375)&\"\",\"\")","v":""},null,{"$f":"IFERROR(INDEX(#REF!,MATCH(INPUT!$B375,#REF!,0)),\"\")","v":""}]
[{"$f":"IF(B376<>\"\",COUNTA($B$3:B376)&\"\",\"\")","v":""},null,{"$f":"IFERROR(INDEX(#REF!,MATCH(INPUT!$B376,#REF!,0)),\"\")","v":""}]
[{"$f":"IF(B377<>\"\",COUNTA($B$3:B377)&\"\",\"\")","v":""},null,{"$f":"IFERROR(INDEX(#REF!,MATCH(INPUT!$B377,#REF!,0)),\"\")","v":""}]
[{"$f":"IF(B378<>\"\",COUNTA($B$3:B378)&\"\",\"\")","v":""},null,{"$f":"IFERROR(INDEX(#REF!,MATCH(INPUT!$B378,#REF!,0)),\"\")","v":""}]
[{"$f":"IF(B379<>\"\",COUNTA($B$3:B379)&\"\",\"\")","v":""},null,{"$f":"IFERROR(INDEX(#REF!,MATCH(INPUT!$B379,#REF!,0)),\"\")","v":""}]
[{"$f":"IF(B380<>\"\",COUNTA($B$3:B380)&\"\",\"\")","v":""},null,{"$f":"IFERROR(INDEX(#REF!,MATCH(INPUT!$B380,#REF!,0)),\"\")","v":""}]
[{"$f":"IF(B381<>\"\",COUNTA($B$3:B381)&\"\",\"\")","v":""},null,{"$f":"IFERROR(INDEX(#REF!,MATCH(INPUT!$B381,#REF!,0)),\"\")","v":""}]
[{"$f":"IF(B382<>\"\",COUNTA($B$3:B382)&\"\",\"\")","v":""},null,{"$f":"IFERROR(INDEX(#REF!,MATCH(INPUT!$B382,#REF!,0)),\"\")","v":""}]
[{"$f":"IF(B383<>\"\",COUNTA($B$3:B383)&\"\",\"\")","v":""},null,{"$f":"IFERROR(INDEX(#REF!,MATCH(INPUT!$B383,#REF!,0)),\"\")","v":""}]
[{"$f":"IF(B384<>\"\",COUNTA($B$3:B384)&\"\",\"\")","v":""},null,{"$f":"IFERROR(INDEX(#REF!,MATCH(INPUT!$B384,#REF!,0)),\"\")","v":""}]
[{"$f":"IF(B385<>\"\",COUNTA($B$3:B385)&\"\",\"\")","v":""},null,{"$f":"IFERROR(INDEX(#REF!,MATCH(INPUT!$B385,#REF!,0)),\"\")","v":""}]
[{"$f":"IF(B386<>\"\",COUNTA($B$3:B386)&\"\",\"\")","v":""},null,{"$f":"IFERROR(INDEX(#REF!,MATCH(INPUT!$B386,#REF!,0)),\"\")","v":""}]
[{"$f":"IF(B387<>\"\",COUNTA($B$3:B387)&\"\",\"\")","v":""},null,{"$f":"IFERROR(INDEX(#REF!,MATCH(INPUT!$B387,#REF!,0)),\"\")","v":""}]
[{"$f":"IF(B388<>\"\",COUNTA($B$3:B388)&\"\",\"\")","v":""},null,{"$f":"IFERROR(INDEX(#REF!,MATCH(INPUT!$B388,#REF!,0)),\"\")","v":""}]
[{"$f":"IF(B389<>\"\",COUNTA($B$3:B389)&\"\",\"\")","v":""},null,{"$f":"IFERROR(INDEX(#REF!,MATCH(INPUT!$B389,#REF!,0)),\"\")","v":""}]
[{"$f":"IF(B390<>\"\",COUNTA($B$3:B390)&\"\",\"\")","v":""},null,{"$f":"IFERROR(INDEX(#REF!,MATCH(INPUT!$B390,#REF!,0)),\"\")","v":""}]
[{"$f":"IF(B391<>\"\",COUNTA($B$3:B391)&\"\",\"\")","v":""},null,{"$f":"IFERROR(INDEX(#REF!,MATCH(INPUT!$B391,#REF!,0)),\"\")","v":""}]
[{"$f":"IF(B392<>\"\",COUNTA($B$3:B392)&\"\",\"\")","v":""},null,{"$f":"IFERROR(INDEX(#REF!,MATCH(INPUT!$B392,#REF!,0)),\"\")","v":""}]
[{"$f":"IF(B393<>\"\",COUNTA($B$3:B393)&\"\",\"\")","v":""},null,{"$f":"IFERROR(INDEX(#REF!,MATCH(INPUT!$B393,#REF!,0)),\"\")","v":""}]
[{"$f":"IF(B394<>\"\",COUNTA($B$3:B394)&\"\",\"\")","v":""},null,{"$f":"IFERROR(INDEX(#REF!,MATCH(INPUT!$B394,#REF!,0)),\"\")","v":""}]
[{"$f":"IF(B395<>\"\",COUNTA($B$3:B395)&\"\",\"\")","v":""},null,{"$f":"IFERROR(INDEX(#REF!,MATCH(INPUT!$B395,#REF!,0)),\"\")","v":""}]
[{"$f":"IF(B396<>\"\",COUNTA($B$3:B396)&\"\",\"\")","v":""},null,{"$f":"IFERROR(INDEX(#REF!,MATCH(INPUT!$B396,#REF!,0)),\"\")","v":""}]
[{"$f":"IF(B397<>\"\",COUNTA($B$3:B397)&\"\",\"\")","v":""},null,{"$f":"IFERROR(INDEX(#REF!,MATCH(INPUT!$B397,#REF!,0)),\"\")","v":""}]
[{"$f":"IF(B398<>\"\",COUNTA($B$3:B398)&\"\",\"\")","v":""},null,{"$f":"IFERROR(INDEX(#REF!,MATCH(INPUT!$B398,#REF!,0)),\"\")","v":""}]
[{"$f":"IF(B399<>\"\",COUNTA($B$3:B399)&\"\",\"\")","v":""},null,{"$f":"IFERROR(INDEX(#REF!,MATCH(INPUT!$B399,#REF!,0)),\"\")","v":""}]
[{"$f":"IF(B400<>\"\",COUNTA($B$3:B400)&\"\",\"\")","v":""},null,{"$f":"IFERROR(INDEX(#REF!,MATCH(INPUT!$B400,#REF!,0)),\"\")","v":""}]
[{"$f":"IF(B401<>\"\",COUNTA($B$3:B401)&\"\",\"\")","v":""},null,{"$f":"IFERROR(INDEX(#REF!,MATCH(INPUT!$B401,#REF!,0)),\"\")","v":""}]
[{"$f":"IF(B402<>\"\",COUNTA($B$3:B402)&\"\",\"\")","v":""},null,{"$f":"IFERROR(INDEX(#REF!,MATCH(INPUT!$B402,#REF!,0)),\"\")","v":""}]

{"sheet":"1","index":1,"n_rows":0,"n_cols":0,"rows_kept":0,"cut":false,"hidden":false,"merged":[[13,9,15,9],[13,10,15,10],[5,2,6,2],[9,0,9,9],[10,0,16,0],[10,3,10,10],[11,3,11,10],[13,3,15,3],[13,4,15,4],[13,5,15,5],[13,6,15,6],[13,7,15,7],[13,8,15,8]]}

{"sheet":"2","index":2,"n_rows":0,"n_cols":0,"rows_kept":0,"cut":false,"hidden":false,"merged":[[13,8,15,8],[13,9,15,9],[13,10,15,10],[5,2,6,2],[9,0,9,9],[10,0,16,0],[10,3,10,10],[11,3,11,10],[13,3,15,3],[13,4,15,4],[13,5,15,5],[13,6,15,6],[13,7,15,7]]}

{"sheet":"3","index":3,"n_rows":0,"n_cols":0,"rows_kept":0,"cut":false,"hidden":false,"merged":[[13,8,15,8],[13,9,15,9],[13,10,15,10],[5,2,6,2],[9,0,9,9],[10,0,16,0],[10,3,10,10],[11,3,11,10],[13,3,15,3],[13,4,15,4],[13,5,15,5],[13,6,15,6],[13,7,15,7]]}

{"sheet":"4","index":4,"n_rows":0,"n_cols":0,"rows_kept":0,"cut":false,"hidden":false,"merged":[[13,8,15,8],[13,9,15,9],[13,10,15,10],[5,2,6,2],[9,0,9,9],[10,0,16,0],[10,3,10,10],[11,3,11,10],[13,3,15,3],[13,4,15,4],[13,5,15,5],[13,6,15,6],[13,7,15,7]]}

{"sheet":"5","index":5,"n_rows":0,"n_cols":0,"rows_kept":0,"cut":false,"hidden":false,"merged":[[13,8,15,8],[13,9,15,9],[13,10,15,10],[5,2,6,2],[9,0,9,9],[10,0,16,0],[10,3,10,10],[11,3,11,10],[13,3,15,3],[13,4,15,4],[13,5,15,5],[13,6,15,6],[13,7,15,7]]}

{"sheet":"6","index":6,"n_rows":0,"n_cols":0,"rows_kept":0,"cut":false,"hidden":false,"merged":[[13,8,15,8],[13,9,15,9],[13,10,15,10],[5,2,6,2],[9,0,9,9],[10,0,16,0],[10,3,10,10],[11,3,11,10],[13,3,15,3],[13,4,15,4],[13,5,15,5],[13,6,15,6],[13,7,15,7]]}

{"sheet":"7","index":7,"n_rows":0,"n_cols":0,"rows_kept":0,"cut":false,"hidden":false,"merged":[[13,8,15,8],[13,9,15,9],[13,10,15,10],[5,2,6,2],[9,0,9,9],[10,0,16,0],[10,3,10,10],[11,3,11,10],[13,3,15,3],[13,4,15,4],[13,5,15,5],[13,6,15,6],[13,7,15,7]]}