BEGIN:VCALENDAR
PRODID:-//Google Inc//Google Calendar 70.9054//EN
VERSION:2.0
CALSCALE:GREGORIAN
METHOD:REQUEST
BEGIN:VEVENT
DTSTART:20061028T140000Z
DTEND:20061028T230000Z
DTSTAMP:20060914T171947Z
ORGANIZER;CN=Mike Bougie:MAILTO:mike.bougie@gmail.com
UID:qo75kkjum6ouiajfpjlr3mra7s@google.com
ATTENDEE;CUTYPE=INDIVIDUAL;ROLE=REQ-PARTICIPANT;PARTSTAT=NEEDS-ACTION;RSVP=
 TRUE;CN=clug-talk@clug.ca;X-NUM-GUESTS=0:MAILTO:clug-talk@clug.ca
CLASS:PUBLIC
CREATED:20060914T171830Z
DESCRIPTION:Tentative date for the October installfest\nView your event at 
 http://www.google.com/calendar/event?action=VIEW&eid=cW83NWtranVtNm91aWFqZn
 BqbHIzbXJhN3MgY2x1Zy10YWxrQGNsdWcuY2E&tok=MjEjbWlrZS5ib3VnaWVAZ21haWwuY29tY
 WQxMzYyZTA2MTQ0Njg0YjhlYTNhNWI3NmUyNTMyYjNlZjEyMDgyMg&ctz=America%2FDenver&
 hl=.
LAST-MODIFIED:20060914T171830Z
LOCATION:DeVry / U of C - need to confirm
SEQUENCE:0
STATUS:CONFIRMED
SUMMARY:CLUG Installfest
TRANSP:TRANSPARENT
END:VEVENT
END:VCALENDAR
