BEGIN:VCALENDAR
PRODID:-//Google Inc//Google Calendar 70.9054//EN
VERSION:2.0
CALSCALE:GREGORIAN
METHOD:REQUEST
BEGIN:VEVENT
DTSTART;VALUE=DATE:20071106
DTEND;VALUE=DATE:20071107
DTSTAMP:20071104T090029Z
ORGANIZER;CN=MR INTERNET:MAILTO:malaysia_111@yahoo.com
UID:j6t8bbkuh25cf8eboedq10c87s@google.com
ATTENDEE;CUTYPE=INDIVIDUAL;ROLE=REQ-PARTICIPANT;PARTSTAT=NEEDS-ACTION;RSVP=
 TRUE;X-NUM-GUESTS=0:MAILTO:iklan-mini@yahoogroups.com
RECURRENCE-ID:20071106
CLASS:PRIVATE
CREATED:20071102T002403Z
DESCRIPTION:Sahabat internet\,\n\nSuatu yang BARU SEDANG MELANDA dan MENGGE
 MPARKAN. \n\nAnda pasti TERKEJUT BESAR !!!\n\nLayari segera: \n\nhttp://gem
 paq.angelfire.com\n\nTerima kasih.\n\n\n\nView your event at http://www.goo
 gle.com/calendar/event?action=VIEW&eid=ajZ0OGJia3VoMjVjZjhlYm9lZHExMGM4N3Nf
 MjAwNzExMDYgaWtsYW4tbWluaUB5YWhvb2dyb3Vwcy5jb20&tok=MjIjbWFsYXlzaWFfMTExQHl
 haG9vLmNvbTI4YjZmYjk0Zjg4OTk3N2U2MzdhYmY4YmU3N2NlN2QwNDY4MWY4Nzc&ctz=Asia%2
 FKuala_Lumpur&hl=en.
LAST-MODIFIED:19700101T000000Z
LOCATION:MALAYSIA
SEQUENCE:0
STATUS:CONFIRMED
SUMMARY:GEMPAR?..DUNIA EKSKLUSIF
TRANSP:TRANSPARENT
END:VEVENT
END:VCALENDAR