BEGIN:VCALENDAR
METHOD:REQUEST
PRODID:Microsoft Exchange Server 2010
VERSION:2.0
BEGIN:VTIMEZONE
TZID:UTC
BEGIN:STANDARD
DTSTART:16010101T000000
TZOFFSETFROM:+0000
TZOFFSETTO:+0000
END:STANDARD
BEGIN:DAYLIGHT
DTSTART:16010101T000000
TZOFFSETFROM:+0000
TZOFFSETTO:+0000
END:DAYLIGHT
END:VTIMEZONE
BEGIN:VEVENT
ORGANIZER;CN="Foley, Emma L";SENT-BY="MAILTO:[email protected]":MAILTO:emm
 [email protected]
ATTENDEE;ROLE=REQ-PARTICIPANT;PARTSTAT=NEEDS-ACTION;RSVP=TRUE;CN=opnfv-tech
 [email protected]:MAILTO:[email protected]
DESCRIPTION;LANGUAGE=zh-CN:\n\n-----Original Appointment-----\nFrom: Foley\
 , Emma L [mailto:[email protected]]\nSent: Friday\, March 30\, 2018 7
 :54 AM\nTo: Foley\, Emma L\; [email protected]<mailto:opn
 [email protected]>\; [email protected]<mailto:j
 [email protected]>\; Gaoliang (kubi)\; Lvjing (Jing Lu)\; wu.z
 [email protected]<mailto:[email protected]>\; [email protected]<mai
 lto:[email protected]>\; Limingjiang (Rex)\; Cooper\, Trevor\; Brattain
 \, Ross B\; Chenjiankun (JackChan)\; Alonso Hernandez\, Rodolfo\; Sinha\, 
 Abhijit\nSubject: Yardstick weekly meeting - July 17th\nWhen: 2018年7月1
 7日星期二 8:30-9:00(UTC) 协调世界时。\nWhere: https://zoom.us/j/
 5014627785\n\n\n\nToday’s Agenda - 2018 17/07 (08:30 UTC)\n•       Act
 ion point follow-up 5'\n•       backporting process\n•       Kubernete
 s scenario\n•       AoB 5'\n\nYou can also add topics in the Agenda on t
 he wiki<https://wiki.opnfv.org/display/yardstick/Yardstick+Meetings>\n\nMe
 eting Logistics\n•       Tuesdays UTC 08h30 - 09h00 (Asia and Europe Slo
 t)\n•       zoom:  https://zoom.us/j/5014627785\n•       IRC channel: 
 #opnfv-yardstick\n•       chair by Rex Lee<mailto:[email protected]
 >\n•       See Yardstick Meetings<https://wiki.opnfv.org/display/yardsti
 ck/Yardstick+Meetings> for details and minutes of meeting\n\n\n
SUMMARY;LANGUAGE=zh-CN:FW: Yardstick weekly meeting - July 17th
DTSTART;TZID=UTC:20180717T083000
DTEND;TZID=UTC:20180717T090000
UID:040000008200E00074C5B7101A82E00800000000D03E734479C7D301000000000000000
 010000000A360706B3A279C468F9FD0EADE57E8C7
RECURRENCE-ID;TZID=UTC:20180717T083000
CLASS:PUBLIC
PRIORITY:5
DTSTAMP:20180329T235413Z
TRANSP:OPAQUE
STATUS:CONFIRMED
SEQUENCE:0
LOCATION;LANGUAGE=zh-CN:https://zoom.us/j/5014627785   
X-MICROSOFT-CDO-APPT-SEQUENCE:0
X-MICROSOFT-CDO-OWNERAPPTID:-757254174
X-MICROSOFT-CDO-BUSYSTATUS:TENTATIVE
X-MICROSOFT-CDO-INTENDEDSTATUS:BUSY
X-MICROSOFT-CDO-ALLDAYEVENT:FALSE
X-MICROSOFT-CDO-IMPORTANCE:1
X-MICROSOFT-CDO-INSTTYPE:3
X-MICROSOFT-DISALLOW-COUNTER:FALSE
END:VEVENT
END:VCALENDAR

Reply via email to