BEGIN:VCALENDAR
METHOD:REQUEST
PRODID:Microsoft Exchange Server 2010
VERSION:2.0
BEGIN:VTIMEZONE
TZID:W. Europe Standard Time
BEGIN:STANDARD
DTSTART:16010101T030000
TZOFFSETFROM:+0200
TZOFFSETTO:+0100
RRULE:FREQ=YEARLY;INTERVAL=1;BYDAY=-1SU;BYMONTH=10
END:STANDARD
BEGIN:DAYLIGHT
DTSTART:16010101T020000
TZOFFSETFROM:+0100
TZOFFSETTO:+0200
RRULE:FREQ=YEARLY;INTERVAL=1;BYDAY=-1SU;BYMONTH=3
END:DAYLIGHT
END:VTIMEZONE
BEGIN:VEVENT
ORGANIZER;CN="Zavras, Alexios":mailto:[email protected]
ATTENDEE;ROLE=REQ-PARTICIPANT;PARTSTAT=NEEDS-ACTION;RSVP=TRUE;CN=Spdx-outre
 [email protected]:mailto:[email protected]
DESCRIPTION;LANGUAGE=en-US:Recurring invitation for the weekly meeting of t
 he Outreach Team to coordinate public relations efforts and discuss curren
 t projects.\n\nEveryone is welcome!\n\nJoin us at https://meet.jit.si/SPDX
 OutreachMeeting\n\n-- zvr\n\n\n\n\n
RRULE:FREQ=WEEKLY;COUNT=50;INTERVAL=1;BYDAY=MO;WKST=MO
UID:040000008200E00074C5B7101A82E00800000000D00FFDAC24B3D801000000000000000
 0100000006A625D5D2845DC44A74EC4B33BC15F97
SUMMARY;LANGUAGE=en-US:SPDX Outreach Team call
DTSTART;TZID=W. Europe Standard Time:20230116T143000
DTEND;TZID=W. Europe Standard Time:20230116T150000
CLASS:PUBLIC
PRIORITY:5
DTSTAMP:20230112T111348Z
TRANSP:OPAQUE
STATUS:CONFIRMED
SEQUENCE:4
LOCATION;LANGUAGE=en-US:https://meet.jit.si/SPDXOutreachMeeting
X-MICROSOFT-CDO-APPT-SEQUENCE:4
X-MICROSOFT-CDO-OWNERAPPTID:2071168998
X-MICROSOFT-CDO-BUSYSTATUS:TENTATIVE
X-MICROSOFT-CDO-INTENDEDSTATUS:BUSY
X-MICROSOFT-CDO-ALLDAYEVENT:FALSE
X-MICROSOFT-CDO-IMPORTANCE:1
X-MICROSOFT-CDO-INSTTYPE:1
X-MICROSOFT-SKYPETEAMSMEETINGURL:
X-MICROSOFT-SCHEDULINGSERVICEUPDATEURL:
X-MICROSOFT-SKYPETEAMSPROPERTIES:
X-MICROSOFT-ONLINEMEETINGCONFLINK:
X-MICROSOFT-DONOTFORWARDMEETING:FALSE
X-MICROSOFT-DISALLOW-COUNTER:FALSE
X-MICROSOFT-LOCATIONS:[ { "DisplayName" : "https://meet.jit.si/SPDXOutreach
 Meeting"\, "LocationAnnotation" : ""\, "LocationSource" : 0\, "Unresolved"
  : true\, "LocationUri" : "" } ]
BEGIN:VALARM
DESCRIPTION:REMINDER
TRIGGER;RELATED=START:-PT15M
ACTION:DISPLAY
END:VALARM
END:VEVENT
END:VCALENDAR

Reply via email to