BEGIN:VCALENDAR
METHOD:CANCEL
PRODID:Microsoft Exchange Server 2010
VERSION:2.0
BEGIN:VTIMEZONE
TZID:W. Europe Standard Time
BEGIN:STANDARD
DTSTART:16010101T030000
TZOFFSETFROM:+0200
TZOFFSETTO:+0100
RRULE:FREQ=YEARLY;INTERVAL=1;BYDAY=-1SU;BYMONTH=10
END:STANDARD
BEGIN:DAYLIGHT
DTSTART:16010101T020000
TZOFFSETFROM:+0100
TZOFFSETTO:+0200
RRULE:FREQ=YEARLY;INTERVAL=1;BYDAY=-1SU;BYMONTH=3
END:DAYLIGHT
END:VTIMEZONE
BEGIN:VEVENT
ORGANIZER;CN="Zavras, Alexios":mailto:[email protected]
ATTENDEE;ROLE=REQ-PARTICIPANT;PARTSTAT=NEEDS-ACTION;RSVP=TRUE;CN=Spdx-outre
[email protected]:mailto:[email protected]
ATTENDEE;ROLE=OPT-PARTICIPANT;PARTSTAT=NEEDS-ACTION;RSVP=TRUE;CN=Robert A M
artin:mailto:[email protected]
ATTENDEE;ROLE=OPT-PARTICIPANT;PARTSTAT=NEEDS-ACTION;RSVP=TRUE;CN=Maximilian
Huber:mailto:[email protected]
ATTENDEE;ROLE=OPT-PARTICIPANT;PARTSTAT=NEEDS-ACTION;RSVP=TRUE;CN="Manbeck, J
ack":mailto:[email protected]
ATTENDEE;ROLE=OPT-PARTICIPANT;PARTSTAT=NEEDS-ACTION;RSVP=TRUE;CN=Gary O'Nea
ll:mailto:[email protected]
DESCRIPTION;LANGUAGE=en-US:Cancelling the call of Monday 29 May 2023.\n\n\n
-- zvr\n\n\n\n\n
UID:040000008200E00074C5B7101A82E00800000000D00FFDAC24B3D801000000000000000
0100000006A625D5D2845DC44A74EC4B33BC15F97
RECURRENCE-ID;TZID=W. Europe Standard Time:20230529T170000
SUMMARY;LANGUAGE=en-US:Canceled: SPDX Outreach Team call
DTSTART;TZID=W. Europe Standard Time:20230529T170000
DTEND;TZID=W. Europe Standard Time:20230529T173000
CLASS:PUBLIC
PRIORITY:1
DTSTAMP:20230526T124039Z
TRANSP:TRANSPARENT
STATUS:CANCELLED
SEQUENCE:8
LOCATION;LANGUAGE=en-US:https://meet.jit.si/SPDXOutreachMeeting
X-MICROSOFT-CDO-APPT-SEQUENCE:8
X-MICROSOFT-CDO-OWNERAPPTID:2071168998
X-MICROSOFT-CDO-BUSYSTATUS:FREE
X-MICROSOFT-CDO-INTENDEDSTATUS:FREE
X-MICROSOFT-CDO-ALLDAYEVENT:FALSE
X-MICROSOFT-CDO-IMPORTANCE:2
X-MICROSOFT-CDO-INSTTYPE:3
X-MICROSOFT-SKYPETEAMSMEETINGURL:
X-MICROSOFT-SCHEDULINGSERVICEUPDATEURL:
X-MICROSOFT-SKYPETEAMSPROPERTIES:
X-MICROSOFT-ONLINEMEETINGCONFLINK:
X-MICROSOFT-DONOTFORWARDMEETING:FALSE
X-MICROSOFT-DISALLOW-COUNTER:FALSE
END:VEVENT
END:VCALENDAR