BEGIN:VCALENDAR
PRODID:-//Microsoft Corporation//Outlook 10.0 MIMEDIR//EN
VERSION:2.0
METHOD:REQUEST
BEGIN:VTIMEZONE
TZID:Eastern Time
BEGIN:STANDARD
DTSTART:20151101T020000
RRULE:FREQ=YEARLY;INTERVAL=1;BYDAY=1SU;BYMONTH=11
TZOFFSETFROM:-0400
TZOFFSETTO:-0500
TZNAME:Standard Time
END:STANDARD
BEGIN:DAYLIGHT
DTSTART:20150301T020000
RRULE:FREQ=YEARLY;INTERVAL=1;BYDAY=2SU;BYMONTH=3
TZOFFSETFROM:-0500
TZOFFSETTO:-0400
TZNAME:Daylight Savings Time
END:DAYLIGHT
END:VTIMEZONE
BEGIN:VEVENT
ATTENDEE;CN="Routing Area";ROLE=REQ-PARTICIPANT;RSVP=TRUE:MAILTO:rtg-ads@tools.ietf.org
ORGANIZER;CN="Routing Area":MAILTO:rtg-ads@tools.ietf.org
DTSTART;TZID="Eastern Time":20171018T140000
DTEND;TZID="Eastern Time":20171018T160000
LOCATION:https://ietf.webex.com/ietf
TRANSP:OPAQUE
SEQUENCE:1506985828
UID:a8b27b3f-5062-4586-b8ed-8c35dc267b31
DTSTAMP:20171018T180000Z
DESCRIPTION:\n\n\n\nJOIN WEBEX MEETING\nhttps://ietf.webex.com/ietf/j.php?MTID=mfa032de3f0d4bef71155286ca5dd4098\nMeeting number (access code): 317 136 349\nMeeting password: outreach\n\n\n\nJOIN BY PHONE\n1-877-668-4493 Call-in toll free number (US/Canada) \n1-650-479-3208 Call-in toll number (US/Canada)\n\nToll-free dialing restrictions: \nhttps://www.webex.com/pdf/tollfree_restrictions.pdf\n\n\n\nCan't join the meeting?\nhttps://help.webex.com/docs/DOC-5412\n\n\nIMPORTANT NOTICE: Please note that this WebEx service allows audio and other information sent during the session to be recorded, which may be discoverable in a legal matter. By joining this session, you automatically consent to such recordings. If you do not consent to being recorded, discuss your concerns with the host or do not join the session.\n
X-ALT-DESC;FMTTYPE=text/html:	<FONT SIZE="1" FACE="ARIAL">&nbsp;<BR>&nbsp;<BR>&nbsp;<BR><FONT SIZE="4" FACE="ARIAL">		<a href="https://ietf.webex.com/ietf/j.php?MTID=mfa032de3f0d4bef71155286ca5dd4098"><FONT SIZE="3" COLOR="#00AFF9" FACE="Arial">Join WebEx meeting</FONT></a>			<table>				<tr>					<td>						<FONT SIZE="2" COLOR="#666666" FACE="arial">Meeting number (access code): 317 136 349</FONT>					</td>				</tr>			</table>						<table><tr><td><FONT SIZE="2" COLOR="#666666" FACE="arial">Meeting password:</FONT></td><td><FONT SIZE="2"  COLOR="#666666" FACE="arial">outreach</FONT></td></tr></table>		</FONT><br><FONT size="2" COLOR="#FF0000"></FONT><br><FONT SIZE="1" FACE="ARIAL">&nbsp;<BR>&nbsp;<BR></FONT><FONT SIZE="4" FACE="ARIAL"><FONT SIZE="3" COLOR="#666666" FACE="arial">Join by phone</FONT>&nbsp; <BR><FONT SIZE="2" COLOR="#666666" FACE="arial"><strong>1-877-668-4493</strong>&nbsp;Call-in toll free number (US/Canada)</FONT>&nbsp; <BR><FONT SIZE="2" COLOR="#666666" FACE="arial"><strong>1-650-479-3208</strong>&nbsp;Call-in toll number (US/Canada)</FONT>&nbsp; <BR><a href="https://www.webex.com/pdf/tollfree_restrictions.pdf"><FONT SIZE="1" COLOR="#00AFF9" FACE="arial">Toll-free calling restrictions</FONT></a> &nbsp; <BR></FONT><BR><BR>	&nbsp;<BR>	<a href="https://help.webex.com/docs/DOC-5412">	<FONT SIZE="1" COLOR="#00AFF9" FACE="Arial">Can't join the meeting?</FONT></a>	&nbsp;<BR>&nbsp;<BR><FONT COLOR="#A0A0A0" size="1" FACE="arial">IMPORTANT NOTICE: Please note that this WebEx service allows audio and other information sent during the session to be recorded, which may be discoverable in a legal matter. By joining this session, you automatically consent to such recordings. If you do not consent to being recorded, discuss your concerns with the host or do not join the session.</FONT></FONT>
SUMMARY:IETF Local Communities and Outreach
PRIORITY:5
CLASS:PUBLIC
BEGIN:VALARM
TRIGGER:-PT5M
ACTION:DISPLAY
DESCRIPTION:Reminder
END:VALARM
END:VEVENT
END:VCALENDAR
