flight 116112 xen-unstable-coverity real [real] http://logs.test-lab.xenproject.org/osstest/logs/116112/
Perfect :-) All tests in this flight passed as required version targeted for testing: xen 3b2966e72c414592cd2c86c21a0d4664cf627b9c baseline version: xen 92f0d4392e73727819c5a83fcce447515efaf2f5 Last test of basis 115672 2017-11-08 09:42:28 Z 4 days Testing same since 116112 2017-11-12 09:23:02 Z 0 days 1 attempts ------------------------------------------------------------ People who touched revisions under test: Andrew Cooper <andrew.coop...@citrix.com> Jan Beulich <jbeul...@suse.com> Roger Pau Monne <roger....@citrix.com> Roger Pau Monné <roger....@citrix.com> Wei Liu <wei.l...@citrix.com> jobs: coverity-amd64 pass ------------------------------------------------------------ sg-report-flight on osstest.test-lab.xenproject.org logs: /home/logs/logs images: /home/logs/images Logs, config files, etc. are available at http://logs.test-lab.xenproject.org/osstest/logs Explanation of these reports, and of osstest in general, is at http://xenbits.xen.org/gitweb/?p=osstest.git;a=blob;f=README.email;hb=master http://xenbits.xen.org/gitweb/?p=osstest.git;a=blob;f=README;hb=master Test harness code can be found at http://xenbits.xen.org/gitweb?p=osstest.git;a=summary Pushing revision : To osst...@xenbits.xen.org:/home/xen/git/xen.git 92f0d43..3b2966e 3b2966e72c414592cd2c86c21a0d4664cf627b9c -> coverity-tested/smoke
_______________________________________________ Xen-devel mailing list Xen-devel@lists.xen.org https://lists.xen.org/xen-devel