This run is configured for baseline tests only.

flight 71941 ovmf real [real]
http://osstest.xs.citrite.net/~osstest/testlogs/logs/71941/

Perfect :-)
All tests in this flight passed as required
version targeted for testing:
 ovmf                 8dccfa6d480765a60263bbe34947df8dbedb9e1d
baseline version:
 ovmf                 ef3d1df77bbd5227c76306e5c64c66d82805bbd9

Last test of basis    71938  2017-08-04 12:17:30 Z    0 days
Testing same since    71941  2017-08-05 09:19:36 Z    0 days    1 attempts

------------------------------------------------------------
People who touched revisions under test:
  Thomas Palmer <thomas.pal...@hpe.com>

jobs:
 build-amd64-xsm                                              pass    
 build-i386-xsm                                               pass    
 build-amd64                                                  pass    
 build-i386                                                   pass    
 build-amd64-libvirt                                          pass    
 build-i386-libvirt                                           pass    
 build-amd64-pvops                                            pass    
 build-i386-pvops                                             pass    
 test-amd64-amd64-xl-qemuu-ovmf-amd64                         pass    
 test-amd64-i386-xl-qemuu-ovmf-amd64                          pass    


------------------------------------------------------------
sg-report-flight on osstest.xs.citrite.net
logs: /home/osstest/logs
images: /home/osstest/images

Logs, config files, etc. are available at
    http://osstest.xs.citrite.net/~osstest/testlogs/logs

Test harness code can be found at
    http://xenbits.xensource.com/gitweb?p=osstest.git;a=summary


Push not applicable.

------------------------------------------------------------
commit 8dccfa6d480765a60263bbe34947df8dbedb9e1d
Author: Thomas Palmer <thomas.pal...@hpe.com>
Date:   Fri Aug 4 15:28:17 2017 -0500

    OvmfPkg/IoMmuDxe: Fix header guard macro
    
    Correct the header guard macro
    
    Contributed-under: TianoCore Contribution Agreement 1.0
    Signed-off-by: Thomas Palmer <thomas.pal...@hpe.com>
    Reviewed-by: Laszlo Ersek <ler...@redhat.com>

_______________________________________________
Xen-devel mailing list
Xen-devel@lists.xen.org
https://lists.xen.org/xen-devel

Reply via email to