flight 112483 xen-unstable-coverity real [real]
http://logs.test-lab.xenproject.org/osstest/logs/112483/

Perfect :-)
All tests in this flight passed as required
version targeted for testing:
 xen                  b8029db62eb2a06a204a8e2b69437d0927bd1ac4
baseline version:
 xen                  8b9793bfe614ee53029d2b1672e1080170809dcd

Last test of basis   111140  2017-06-28 10:06:03 Z   39 days
Failing since        111315  2017-07-02 09:22:26 Z   35 days   10 attempts
Testing same since   112483  2017-08-06 09:19:33 Z    0 days    1 attempts

------------------------------------------------------------
People who touched revisions under test:
  Andrew Cooper <andrew.coop...@citrix.com>
  Andrii Anisov <andrii_ani...@epam.com>
  Chao Gao <chao....@intel.com>
  Dario Faggioli <dario.faggi...@citrix.com>
  David Woodhouse <d...@amazon.co.uk>
  Dongli Zhang <dongli.zh...@oracle.com>
  Felix Schmoll <eggi.innovati...@gmail.com>
  George Dunlap <george.dun...@citrix.com>
  Haozhong Zhang <haozhong.zh...@intel.com>
  Ian Jackson <ian.jack...@eu.citrix.com>
  Igor Druzhinin <igor.druzhi...@citrix.com>
  Jan Beulich <jbeul...@suse.com>
  Julien Grall <julien.gr...@arm.com>
  Justin T. Weaver <jtwea...@hawaii.edu>
  Kevin Tian <kevin.t...@intel.com>
  Konrad Rzeszutek Wilk <konrad.w...@oracle.com>
  Konrad Rzeszutek Wilk <kon...@kernel.org>
  Marek Marczykowski-Górecki <marma...@invisiblethingslab.com>
  Olaf Hering <o...@aepfle.de>
  Owen Smith <owen.sm...@citrix.com>
  Petre Pircalabu <ppircal...@bitdefender.com>
  Praveen Kumar <kpraveen.l...@gmail.com>
  Razvan Cojocaru <rcojoc...@bitdefender.com>
  Sergej Proskurin <prosku...@sec.in.tum.de>
  Sergey Dyasli <sergey.dya...@citrix.com>
  Stefano Stabellini <sstabell...@kernel.org>
  Thomas Sanders <thomas.sand...@citrix.com>
  Tim Deegan <t...@xen.org>
  Wei Liu <wei.l...@citrix.com>
  Xiong Zhang <xiong.y.zh...@intel.com>
  Zhongze Liu <blacksk...@gmail.com>

jobs:
 coverity-amd64                                               pass    


------------------------------------------------------------
sg-report-flight on osstest.test-lab.xenproject.org
logs: /home/logs/logs
images: /home/logs/images

Logs, config files, etc. are available at
    http://logs.test-lab.xenproject.org/osstest/logs

Explanation of these reports, and of osstest in general, is at
    http://xenbits.xen.org/gitweb/?p=osstest.git;a=blob;f=README.email;hb=master
    http://xenbits.xen.org/gitweb/?p=osstest.git;a=blob;f=README;hb=master

Test harness code can be found at
    http://xenbits.xen.org/gitweb?p=osstest.git;a=summary


Pushing revision :

+ branch=xen-unstable-coverity
+ revision=b8029db62eb2a06a204a8e2b69437d0927bd1ac4
+ . ./cri-lock-repos
++ . ./cri-common
+++ . ./cri-getconfig
+++ umask 002
+++ getrepos
++++ getconfig Repos
++++ perl -e '
                use Osstest;
                readglobalconfig();
                print $c{"Repos"} or die $!;
        '
+++ local repos=/home/osstest/repos
+++ '[' -z /home/osstest/repos ']'
+++ '[' '!' -d /home/osstest/repos ']'
+++ echo /home/osstest/repos
++ repos=/home/osstest/repos
++ repos_lock=/home/osstest/repos/lock
++ '[' x '!=' x/home/osstest/repos/lock ']'
++ OSSTEST_REPOS_LOCK_LOCKED=/home/osstest/repos/lock
++ exec with-lock-ex -w /home/osstest/repos/lock ./ap-push 
xen-unstable-coverity b8029db62eb2a06a204a8e2b69437d0927bd1ac4
+ branch=xen-unstable-coverity
+ revision=b8029db62eb2a06a204a8e2b69437d0927bd1ac4
+ . ./cri-lock-repos
++ . ./cri-common
+++ . ./cri-getconfig
+++ umask 002
+++ getrepos
++++ getconfig Repos
++++ perl -e '
                use Osstest;
                readglobalconfig();
                print $c{"Repos"} or die $!;
        '
+++ local repos=/home/osstest/repos
+++ '[' -z /home/osstest/repos ']'
+++ '[' '!' -d /home/osstest/repos ']'
+++ echo /home/osstest/repos
++ repos=/home/osstest/repos
++ repos_lock=/home/osstest/repos/lock
++ '[' x/home/osstest/repos/lock '!=' x/home/osstest/repos/lock ']'
+ . ./cri-common
++ . ./cri-getconfig
++ umask 002
+ select_xenbranch
+ case "$branch" in
+ tree=xen
+ xenbranch=xen-unstable-coverity
+ qemuubranch=qemu-upstream-unstable-coverity
+ qemuubranch=qemu-upstream-unstable
+ '[' xxen = xlinux ']'
+ linuxbranch=
+ '[' xqemu-upstream-unstable = x ']'
+ select_prevxenbranch
++ ./cri-getprevxenbranch xen-unstable-coverity
+ prevxenbranch=xen-4.9-testing
+ '[' xb8029db62eb2a06a204a8e2b69437d0927bd1ac4 = x ']'
+ : tested/2.6.39.x
+ . ./ap-common
++ : osst...@xenbits.xen.org
+++ getconfig OsstestUpstream
+++ perl -e '
                use Osstest;
                readglobalconfig();
                print $c{"OsstestUpstream"} or die $!;
        '
++ :
++ : git://xenbits.xen.org/xen.git
++ : osst...@xenbits.xen.org:/home/xen/git/xen.git
++ : git://xenbits.xen.org/qemu-xen-traditional.git
++ : git://git.kernel.org
++ : git://git.kernel.org/pub/scm/linux/kernel/git
++ : git
++ : git://xenbits.xen.org/xtf.git
++ : osst...@xenbits.xen.org:/home/xen/git/xtf.git
++ : git://xenbits.xen.org/xtf.git
++ : git://xenbits.xen.org/libvirt.git
++ : osst...@xenbits.xen.org:/home/xen/git/libvirt.git
++ : git://xenbits.xen.org/libvirt.git
++ : git://xenbits.xen.org/osstest/rumprun.git
++ : git
++ : git://xenbits.xen.org/osstest/rumprun.git
++ : osst...@xenbits.xen.org:/home/xen/git/osstest/rumprun.git
++ : git://git.seabios.org/seabios.git
++ : osst...@xenbits.xen.org:/home/xen/git/osstest/seabios.git
++ : git://xenbits.xen.org/osstest/seabios.git
++ : https://github.com/tianocore/edk2.git
++ : osst...@xenbits.xen.org:/home/xen/git/osstest/ovmf.git
++ : git://xenbits.xen.org/osstest/ovmf.git
++ : git://xenbits.xen.org/osstest/linux-firmware.git
++ : osst...@xenbits.xen.org:/home/osstest/ext/linux-firmware.git
++ : git://git.kernel.org/pub/scm/linux/kernel/git/firmware/linux-firmware.git
++ : osst...@xenbits.xen.org:/home/xen/git/linux-pvops.git
++ : git://xenbits.xen.org/linux-pvops.git
++ : tested/linux-4.9
++ : tested/linux-arm-xen
++ '[' xgit://xenbits.xen.org/linux-pvops.git = x ']'
++ '[' x = x ']'
++ : git://xenbits.xen.org/linux-pvops.git
++ : tested/linux-arm-xen
++ : git://git.kernel.org/pub/scm/linux/kernel/git/konrad/xen.git
++ : tested/2.6.39.x
++ : daily-cron.xen-unstable-coverity
++ : daily-cron.xen-unstable-coverity
++ : daily-cron.xen-unstable-coverity
++ : daily-cron.xen-unstable-coverity
++ : daily-cron.xen-unstable-coverity
++ : daily-cron.xen-unstable-coverity
++ : daily-cron.xen-unstable-coverity
++ : http://hg.uk.xensource.com/carbon/trunk/linux-2.6.27
++ : git://xenbits.xen.org/qemu-xen.git
++ : osst...@xenbits.xen.org:/home/xen/git/qemu-xen.git
++ : daily-cron.xen-unstable-coverity
++ : git://xenbits.xen.org/qemu-xen.git
++ : git://git.qemu.org/qemu.git
+ TREE_LINUX=osst...@xenbits.xen.org:/home/xen/git/linux-pvops.git
+ TREE_QEMU_UPSTREAM=osst...@xenbits.xen.org:/home/xen/git/qemu-xen.git
+ TREE_XEN=osst...@xenbits.xen.org:/home/xen/git/xen.git
+ TREE_LIBVIRT=osst...@xenbits.xen.org:/home/xen/git/libvirt.git
+ TREE_RUMPRUN=osst...@xenbits.xen.org:/home/xen/git/osstest/rumprun.git
+ TREE_SEABIOS=osst...@xenbits.xen.org:/home/xen/git/osstest/seabios.git
+ TREE_OVMF=osst...@xenbits.xen.org:/home/xen/git/osstest/ovmf.git
+ TREE_XTF=osst...@xenbits.xen.org:/home/xen/git/xtf.git
+ info_linux_tree xen-unstable-coverity
+ case $1 in
+ return 1
+ case "$branch" in
+ cd /home/osstest/repos/xen
+ git push osst...@xenbits.xen.org:/home/xen/git/xen.git 
b8029db62eb2a06a204a8e2b69437d0927bd1ac4:refs/heads/coverity-tested/smoke
To osst...@xenbits.xen.org:/home/xen/git/xen.git
   8b9793b..b8029db  b8029db62eb2a06a204a8e2b69437d0927bd1ac4 -> 
coverity-tested/smoke

_______________________________________________
Xen-devel mailing list
Xen-devel@lists.xen.org
https://lists.xen.org/xen-devel

Reply via email to