flight 116195 xen-unstable-coverity real [real] http://logs.test-lab.xenproject.org/osstest/logs/116195/
Perfect :-) All tests in this flight passed as required version targeted for testing: xen b9ee1fd7b98064cf27d0f8f1adf1f5359b72c97f baseline version: xen 3b2966e72c414592cd2c86c21a0d4664cf627b9c Last test of basis 116112 2017-11-12 09:23:02 Z 3 days Testing same since 116195 2017-11-15 09:24:03 Z 0 days 1 attempts ------------------------------------------------------------ People who touched revisions under test: Anthony PERARD <anthony.per...@citrix.com> Bhupinder Thakur <bhupinder.tha...@linaro.org> Eric Chanudet <chanud...@ainfosec.com> Ian Jackson <ian.jack...@eu.citrix.com> Jan Beulich <jbeul...@suse.com> Julien Grall <julien.gr...@linaro.org> Min He <min...@intel.com> Pawel Wieczorkiewicz <wipa...@amazon.de> Wei Liu <wei.l...@citrix.com> Yi Zhang <yi.z.zh...@intel.com> Yu Zhang <yu.c.zh...@linux.intel.com> jobs: coverity-amd64 pass ------------------------------------------------------------ sg-report-flight on osstest.test-lab.xenproject.org logs: /home/logs/logs images: /home/logs/images Logs, config files, etc. are available at http://logs.test-lab.xenproject.org/osstest/logs Explanation of these reports, and of osstest in general, is at http://xenbits.xen.org/gitweb/?p=osstest.git;a=blob;f=README.email;hb=master http://xenbits.xen.org/gitweb/?p=osstest.git;a=blob;f=README;hb=master Test harness code can be found at http://xenbits.xen.org/gitweb?p=osstest.git;a=summary Pushing revision : To osst...@xenbits.xen.org:/home/xen/git/xen.git 3b2966e..b9ee1fd b9ee1fd7b98064cf27d0f8f1adf1f5359b72c97f -> coverity-tested/smoke _______________________________________________ Xen-devel mailing list Xen-devel@lists.xen.org https://lists.xen.org/xen-devel