This run is configured for baseline tests only.

flight 67867 ovmf real [real]
http://osstest.xs.citrite.net/~osstest/testlogs/logs/67867/

Perfect :-)
All tests in this flight passed as required
version targeted for testing:
 ovmf                 46cd2cb6a7ba5b1fdaff1eb18a13dc399d6a7fe2
baseline version:
 ovmf                 4b8234d05400a852a42688fea14acc7ddeeebad4

Last test of basis    67864  2016-10-12 02:19:44 Z    0 days
Testing same since    67867  2016-10-12 08:19:10 Z    0 days    1 attempts

------------------------------------------------------------
People who touched revisions under test:
  Jiewen Yao <jiewen....@intel.com>
  Michael D Kinney <michael.d.kin...@intel.com>

jobs:
 build-amd64-xsm                                              pass    
 build-i386-xsm                                               pass    
 build-amd64                                                  pass    
 build-i386                                                   pass    
 build-amd64-libvirt                                          pass    
 build-i386-libvirt                                           pass    
 build-amd64-pvops                                            pass    
 build-i386-pvops                                             pass    
 test-amd64-amd64-xl-qemuu-ovmf-amd64                         pass    
 test-amd64-i386-xl-qemuu-ovmf-amd64                          pass    


------------------------------------------------------------
sg-report-flight on osstest.xs.citrite.net
logs: /home/osstest/logs
images: /home/osstest/images

Logs, config files, etc. are available at
    http://osstest.xs.citrite.net/~osstest/testlogs/logs

Test harness code can be found at
    http://xenbits.xensource.com/gitweb?p=osstest.git;a=summary


Push not applicable.

------------------------------------------------------------
commit 46cd2cb6a7ba5b1fdaff1eb18a13dc399d6a7fe2
Author: Jiewen Yao <jiewen....@intel.com>
Date:   Sat Oct 8 09:55:59 2016 +0800

    FatPkg/FatPei: Use PcdRecoveryFileName PCD.
    
    This PCD is used to indicated the recovery file name.
    The previous name - FvMain.Fv is hardcoded in FatPei.
    It does not make sense to force the name.
    
    Now a platform may use any recovery file name.
    
    Tested-by: Michael D Kinney <michael.d.kin...@intel.com>
    
    Cc: Ruiyu Ni <ruiyu...@intel.com>
    Cc: Feng Tian <feng.t...@intel.com>
    Cc: Star Zeng <star.z...@intel.com>
    Cc: Liming Gao <liming....@intel.com>
    Cc: Eric Dong <eric.d...@intel.com>
    Cc: Michael D Kinney <michael.d.kin...@intel.com>
    Contributed-under: TianoCore Contribution Agreement 1.0
    Signed-off-by: Jiewen Yao <jiewen....@intel.com>
    Reviewed-by: Feng Tian <feng.t...@intel.com>
    Reviewed-by: Ruiyu Ni <ruiyu...@intel.com>
    Reviewed-by: Michael D Kinney <michael.d.kin...@intel.com>

commit 9753360756bc9d28f3b1cc59624e0b4fe3618870
Author: Jiewen Yao <jiewen....@intel.com>
Date:   Sat Oct 8 09:55:20 2016 +0800

    MdeModulePkg/CdExpressPei: Use PcdRecoveryFileName PCD.
    
    This PCD is used to indicated the recovery file name.
    The previous name - FvMain.Fv is hardcoded in CdExpressPei.
    It does not make sense to force the name.
    
    Now a platform may use any recovery file name.
    
    Cc: Feng Tian <feng.t...@intel.com>
    Cc: Star Zeng <star.z...@intel.com>
    Cc: Liming Gao <liming....@intel.com>
    Cc: Eric Dong <eric.d...@intel.com>
    Cc: Ruiyu Ni <ruiyu...@intel.com>
    Cc: Michael D Kinney <michael.d.kin...@intel.com>
    Contributed-under: TianoCore Contribution Agreement 1.0
    Signed-off-by: Jiewen Yao <jiewen....@intel.com>
    Reviewed-by: Feng Tian <feng.t...@intel.com>
    Reviewed-by: Ruiyu Ni <ruiyu...@intel.com>
    Reviewed-by: Michael D Kinney <michael.d.kin...@intel.com>

commit 08bec91eba7cc8c8a831592137503f23e7fb8f7a
Author: Jiewen Yao <jiewen....@intel.com>
Date:   Sat Oct 8 09:54:33 2016 +0800

    MdeModulePkg/dec: Add PcdRecoveryFileName PCD.
    
    This PCD is used to indicated the recovery file name.
    The previous name - FvMain.Fv is hardcoded in FatPei and CdExpressPei.
    It does not make sense to force the name.
    
    Now a platform may use any recovery file name.
    
    Tested-by: Michael D Kinney <michael.d.kin...@intel.com>
    
    Cc: Feng Tian <feng.t...@intel.com>
    Cc: Star Zeng <star.z...@intel.com>
    Cc: Liming Gao <liming....@intel.com>
    Cc: Eric Dong <eric.d...@intel.com>
    Cc: Ruiyu Ni <ruiyu...@intel.com>
    Contributed-under: TianoCore Contribution Agreement 1.0
    Signed-off-by: Jiewen Yao <jiewen....@intel.com>
    Reviewed-by: Feng Tian <feng.t...@intel.com>
    Reviewed-by: Ruiyu Ni <ruiyu...@intel.com>
    Reviewed-by: Michael D Kinney <michael.d.kin...@intel.com>

_______________________________________________
Xen-devel mailing list
Xen-devel@lists.xen.org
https://lists.xen.org/xen-devel

Reply via email to