This run is configured for baseline tests only.

flight 68132 ovmf real [real]
http://osstest.xs.citrite.net/~osstest/testlogs/logs/68132/

Perfect :-)
All tests in this flight passed as required
version targeted for testing:
 ovmf                 e148e6e9625f8a0054f131bacba4e5c9a21a4377
baseline version:
 ovmf                 ff9a1358b3ff98b1c3a9b4b584fca71653a1c9fe

Last test of basis    68127  2016-11-30 04:52:02 Z    1 days
Testing same since    68132  2016-12-01 00:21:34 Z    0 days    1 attempts

------------------------------------------------------------
People who touched revisions under test:
  Liming Gao <liming....@intel.com>
  Yonghong Zhu <yonghong....@intel.com>

jobs:
 build-amd64-xsm                                              pass    
 build-i386-xsm                                               pass    
 build-amd64                                                  pass    
 build-i386                                                   pass    
 build-amd64-libvirt                                          pass    
 build-i386-libvirt                                           pass    
 build-amd64-pvops                                            pass    
 build-i386-pvops                                             pass    
 test-amd64-amd64-xl-qemuu-ovmf-amd64                         pass    
 test-amd64-i386-xl-qemuu-ovmf-amd64                          pass    


------------------------------------------------------------
sg-report-flight on osstest.xs.citrite.net
logs: /home/osstest/logs
images: /home/osstest/images

Logs, config files, etc. are available at
    http://osstest.xs.citrite.net/~osstest/testlogs/logs

Test harness code can be found at
    http://xenbits.xensource.com/gitweb?p=osstest.git;a=summary


Push not applicable.

------------------------------------------------------------
commit e148e6e9625f8a0054f131bacba4e5c9a21a4377
Author: Yonghong Zhu <yonghong....@intel.com>
Date:   Tue Nov 29 10:09:17 2016 +0800

    BaseTools: fix the bug to add PaletteSize info into AutoGen
    
    Fix the bug to add PaletteSize info into AutoGen.c when the flag
    UEFI_HII_RESOURCE_SECTION is set to FALSE.
    
    Cc: Liming Gao <liming....@intel.com>
    Contributed-under: TianoCore Contribution Agreement 1.0
    Signed-off-by: Yonghong Zhu <yonghong....@intel.com>
    Reviewed-by: Liming Gao <liming....@intel.com>

commit 60a5378208f8b60e0a04ac724a639ad19158e778
Author: Liming Gao <liming....@intel.com>
Date:   Fri Nov 25 14:57:31 2016 +0800

    BaseTools CommonLib: Update ReadMemoryFileLine() to read line in file scope
    
    https://bugzilla.tianocore.org/show_bug.cgi?id=255
    
    Check CurrentFilePointer to make sure it not exceed the end of file.
    
    Cc: Yonghong Zhu <yonghong....@intel.com>
    Contributed-under: TianoCore Contribution Agreement 1.0
    Signed-off-by: Liming Gao <liming....@intel.com>
    Reviewed-by: Yonghong Zhu <yonghong....@intel.com>

_______________________________________________
Xen-devel mailing list
Xen-devel@lists.xen.org
https://lists.xen.org/xen-devel

Reply via email to