flight 119006 xtf real [real]
http://logs.test-lab.xenproject.org/osstest/logs/119006/

Perfect :-)
All tests in this flight passed as required
version targeted for testing:
 xtf                  a08df2278be1a8d5b677f0ba78e13ca20ae141f8
baseline version:
 xtf                  9eeb26f3faeb25925c0cfde9ec18571fdbfbe4fa

Last test of basis   118484  2018-01-31 12:18:50 Z   12 days
Testing same since   119006  2018-02-12 15:15:50 Z    0 days    1 attempts

------------------------------------------------------------
People who touched revisions under test:
  Andrew Cooper <andrew.coop...@citrix.com>

jobs:
 build-amd64-xtf                                              pass    
 build-amd64                                                  pass    
 build-amd64-pvops                                            pass    
 test-xtf-amd64-amd64-1                                       pass    
 test-xtf-amd64-amd64-2                                       pass    
 test-xtf-amd64-amd64-3                                       pass    
 test-xtf-amd64-amd64-4                                       pass    
 test-xtf-amd64-amd64-5                                       pass    


------------------------------------------------------------
sg-report-flight on osstest.test-lab.xenproject.org
logs: /home/logs/logs
images: /home/logs/images

Logs, config files, etc. are available at
    http://logs.test-lab.xenproject.org/osstest/logs

Explanation of these reports, and of osstest in general, is at
    http://xenbits.xen.org/gitweb/?p=osstest.git;a=blob;f=README.email;hb=master
    http://xenbits.xen.org/gitweb/?p=osstest.git;a=blob;f=README;hb=master

Test harness code can be found at
    http://xenbits.xen.org/gitweb?p=osstest.git;a=summary


Pushing revision :

To xenbits.xen.org:/home/xen/git/xtf.git
   9eeb26f..a08df22  a08df2278be1a8d5b677f0ba78e13ca20ae141f8 -> 
xen-tested-master

_______________________________________________
Xen-devel mailing list
Xen-devel@lists.xenproject.org
https://lists.xenproject.org/mailman/listinfo/xen-devel

Reply via email to