flight 119881 xtf real [real]
http://logs.test-lab.xenproject.org/osstest/logs/119881/

Perfect :-)
All tests in this flight passed as required
version targeted for testing:
 xtf                  3a83f436494b9cc46582c94d69348401466eebb0
baseline version:
 xtf                  d6bd213188c6e4b2f7c6ffeefe5f5ce0e7747dc1

Last test of basis   119433  2018-02-16 20:31:43 Z    6 days
Testing same since   119881  2018-02-22 12:15:03 Z    0 days    1 attempts

------------------------------------------------------------
People who touched revisions under test:
  Andrew Cooper <andrew.coop...@citrix.com>
  Roger Pau Monne <roger....@citrix.com>
  Roger Pau Monné <roger....@citrix.com>

jobs:
 build-amd64-xtf                                              pass    
 build-amd64                                                  pass    
 build-amd64-pvops                                            pass    
 test-xtf-amd64-amd64-1                                       pass    
 test-xtf-amd64-amd64-2                                       pass    
 test-xtf-amd64-amd64-3                                       pass    
 test-xtf-amd64-amd64-4                                       pass    
 test-xtf-amd64-amd64-5                                       pass    


------------------------------------------------------------
sg-report-flight on osstest.test-lab.xenproject.org
logs: /home/logs/logs
images: /home/logs/images

Logs, config files, etc. are available at
    http://logs.test-lab.xenproject.org/osstest/logs

Explanation of these reports, and of osstest in general, is at
    http://xenbits.xen.org/gitweb/?p=osstest.git;a=blob;f=README.email;hb=master
    http://xenbits.xen.org/gitweb/?p=osstest.git;a=blob;f=README;hb=master

Test harness code can be found at
    http://xenbits.xen.org/gitweb?p=osstest.git;a=summary


Pushing revision :

To xenbits.xen.org:/home/xen/git/xtf.git
   d6bd213..3a83f43  3a83f436494b9cc46582c94d69348401466eebb0 -> 
xen-tested-master

_______________________________________________
Xen-devel mailing list
Xen-devel@lists.xenproject.org
https://lists.xenproject.org/mailman/listinfo/xen-devel

Reply via email to