flight 163396 xen-unstable-coverity real [real] http://logs.test-lab.xenproject.org/osstest/logs/163396/
Perfect :-) All tests in this flight passed as required version targeted for testing: xen 4473f3601098a2c3cf5ab89d5a29504772985e3a baseline version: xen 74d044d51b19bb697eac5c3deafa140f6afafec8 Last test of basis 163297 2021-07-04 09:20:47 Z 3 days Testing same since 163396 2021-07-07 09:23:02 Z 0 days 1 attempts ------------------------------------------------------------ People who touched revisions under test: Andrew Cooper <[email protected]> Anthony PERARD <[email protected]> Jan Beulich <[email protected]> Julien Grall <[email protected]> Olaf Hering <[email protected]> Oleksandr Tyshchenko <[email protected]> Sergiy Kibrik <[email protected]> Tim Deegan <[email protected]> jobs: coverity-amd64 pass ------------------------------------------------------------ sg-report-flight on osstest.test-lab.xenproject.org logs: /home/logs/logs images: /home/logs/images Logs, config files, etc. are available at http://logs.test-lab.xenproject.org/osstest/logs Explanation of these reports, and of osstest in general, is at http://xenbits.xen.org/gitweb/?p=osstest.git;a=blob;f=README.email;hb=master http://xenbits.xen.org/gitweb/?p=osstest.git;a=blob;f=README;hb=master Test harness code can be found at http://xenbits.xen.org/gitweb?p=osstest.git;a=summary Pushing revision : To xenbits.xen.org:/home/xen/git/xen.git 74d044d51b..4473f36010 4473f3601098a2c3cf5ab89d5a29504772985e3a -> coverity-tested/smoke
