flight 164344 xen-unstable-coverity real [real]
http://logs.test-lab.xenproject.org/osstest/logs/164344/

Perfect :-)
All tests in this flight passed as required
version targeted for testing:
 xen                  93713f444b3f29d6848527506db69cf78976b32d
baseline version:
 xen                  54c9736382e0d558a6acd820e44185e020131c48

Last test of basis   164239  2021-08-18 09:19:40 Z    4 days
Testing same since   164344  2021-08-22 09:18:28 Z    0 days    1 attempts

------------------------------------------------------------
People who touched revisions under test:
  Andrew Cooper <[email protected]>
  Dario Faggioli <[email protected]>
  Ian Jackson <[email protected]>
  Jan Beulich <[email protected]>
  Jane Malalane <[email protected]>
  Juergen Gross <[email protected]>
  Marek Marczykowski-Górecki <[email protected]>
  Oleksandr Andrushchenko <[email protected]>

jobs:
 coverity-amd64                                               pass    


------------------------------------------------------------
sg-report-flight on osstest.test-lab.xenproject.org
logs: /home/logs/logs
images: /home/logs/images

Logs, config files, etc. are available at
    http://logs.test-lab.xenproject.org/osstest/logs

Explanation of these reports, and of osstest in general, is at
    http://xenbits.xen.org/gitweb/?p=osstest.git;a=blob;f=README.email;hb=master
    http://xenbits.xen.org/gitweb/?p=osstest.git;a=blob;f=README;hb=master

Test harness code can be found at
    http://xenbits.xen.org/gitweb?p=osstest.git;a=summary


Pushing revision :

To xenbits.xen.org:/home/xen/git/xen.git
   54c9736382..93713f444b  93713f444b3f29d6848527506db69cf78976b32d -> 
coverity-tested/smoke

Reply via email to