flight 164556 ovmf real [real] http://logs.test-lab.xenproject.org/osstest/logs/164556/
Perfect :-) All tests in this flight passed as required version targeted for testing: ovmf a82bad9730178a1e3a67c9bfc83412b87a8ad734 baseline version: ovmf 82f7e315d612399f65a3bedd3b2c0364b43b6929 Last test of basis 164513 2021-08-27 08:41:23 Z 2 days Testing same since 164556 2021-08-28 19:27:14 Z 1 days 1 attempts ------------------------------------------------------------ People who touched revisions under test: Ard Biesheuvel <[email protected]> Brijesh Singh <[email protected]> Gerd Hoffmann <[email protected]> Marc Zyngier <[email protected]> jobs: build-amd64-xsm pass build-i386-xsm pass build-amd64 pass build-i386 pass build-amd64-libvirt pass build-i386-libvirt pass build-amd64-pvops pass build-i386-pvops pass test-amd64-amd64-xl-qemuu-ovmf-amd64 pass test-amd64-i386-xl-qemuu-ovmf-amd64 pass ------------------------------------------------------------ sg-report-flight on osstest.test-lab.xenproject.org logs: /home/logs/logs images: /home/logs/images Logs, config files, etc. are available at http://logs.test-lab.xenproject.org/osstest/logs Explanation of these reports, and of osstest in general, is at http://xenbits.xen.org/gitweb/?p=osstest.git;a=blob;f=README.email;hb=master http://xenbits.xen.org/gitweb/?p=osstest.git;a=blob;f=README;hb=master Test harness code can be found at http://xenbits.xen.org/gitweb?p=osstest.git;a=summary Pushing revision : To xenbits.xen.org:/home/xen/git/osstest/ovmf.git 82f7e315d6..a82bad9730 a82bad9730178a1e3a67c9bfc83412b87a8ad734 -> xen-tested-master
