flight 164692 xen-unstable-coverity real [real]
http://logs.test-lab.xenproject.org/osstest/logs/164692/

Perfect :-)
All tests in this flight passed as required
version targeted for testing:
 xen                  96607a8e680e7f965ca868d11f8b0636317d2618
baseline version:
 xen                  8064488062641ae505b2a7369611c38057a7788b

Last test of basis   164595  2021-08-29 09:18:29 Z    3 days
Testing same since   164692  2021-09-01 09:18:30 Z    0 days    1 attempts

------------------------------------------------------------
People who touched revisions under test:
  Andrew Cooper <[email protected]>
  Fabrice Fontaine <[email protected]>
  Ian Jackson <[email protected]>
  Jan Beulich <[email protected]>
  Julien Grall <[email protected]>

jobs:
 coverity-amd64                                               pass    


------------------------------------------------------------
sg-report-flight on osstest.test-lab.xenproject.org
logs: /home/logs/logs
images: /home/logs/images

Logs, config files, etc. are available at
    http://logs.test-lab.xenproject.org/osstest/logs

Explanation of these reports, and of osstest in general, is at
    http://xenbits.xen.org/gitweb/?p=osstest.git;a=blob;f=README.email;hb=master
    http://xenbits.xen.org/gitweb/?p=osstest.git;a=blob;f=README;hb=master

Test harness code can be found at
    http://xenbits.xen.org/gitweb?p=osstest.git;a=summary


Pushing revision :

To xenbits.xen.org:/home/xen/git/xen.git
   8064488062..96607a8e68  96607a8e680e7f965ca868d11f8b0636317d2618 -> 
coverity-tested/smoke

Reply via email to