flight 164955 xen-unstable-coverity real [real] http://logs.test-lab.xenproject.org/osstest/logs/164955/
Perfect :-) All tests in this flight passed as required version targeted for testing: xen 6d45368a0a89e01a3a01d156af61fea565db96cc baseline version: xen e70a9a043a5ce6d4025420f729bc473f711bf5d1 Last test of basis 164882 2021-09-08 09:18:32 Z 4 days Testing same since 164955 2021-09-12 09:19:39 Z 0 days 1 attempts ------------------------------------------------------------ People who touched revisions under test: Andrew Cooper <[email protected]> Anthony PERARD <[email protected]> Daniel P. Smith <[email protected]> Jan Beulich <[email protected]> Jane Malalane <[email protected]> Julien Grall <[email protected]> Kevin Stefanov <[email protected]> jobs: coverity-amd64 pass ------------------------------------------------------------ sg-report-flight on osstest.test-lab.xenproject.org logs: /home/logs/logs images: /home/logs/images Logs, config files, etc. are available at http://logs.test-lab.xenproject.org/osstest/logs Explanation of these reports, and of osstest in general, is at http://xenbits.xen.org/gitweb/?p=osstest.git;a=blob;f=README.email;hb=master http://xenbits.xen.org/gitweb/?p=osstest.git;a=blob;f=README;hb=master Test harness code can be found at http://xenbits.xen.org/gitweb?p=osstest.git;a=summary Pushing revision : To xenbits.xen.org:/home/xen/git/xen.git e70a9a043a..6d45368a0a 6d45368a0a89e01a3a01d156af61fea565db96cc -> coverity-tested/smoke
