flight 164994 xen-unstable-coverity real [real] http://logs.test-lab.xenproject.org/osstest/logs/164994/
Perfect :-) All tests in this flight passed as required version targeted for testing: xen 487975df53b5298316b594550c79934d646701bd baseline version: xen 6d45368a0a89e01a3a01d156af61fea565db96cc Last test of basis 164955 2021-09-12 09:19:39 Z 3 days Testing same since 164994 2021-09-15 09:19:43 Z 0 days 1 attempts ------------------------------------------------------------ People who touched revisions under test: Ian Jackson <[email protected]> Jan Beulich <[email protected]> Nick Rosbrook <[email protected]> Penny Zheng <[email protected]> Roger Pau Monne <[email protected]> Roger Pau Monné <[email protected]> Stefano Stabellini <[email protected]> jobs: coverity-amd64 pass ------------------------------------------------------------ sg-report-flight on osstest.test-lab.xenproject.org logs: /home/logs/logs images: /home/logs/images Logs, config files, etc. are available at http://logs.test-lab.xenproject.org/osstest/logs Explanation of these reports, and of osstest in general, is at http://xenbits.xen.org/gitweb/?p=osstest.git;a=blob;f=README.email;hb=master http://xenbits.xen.org/gitweb/?p=osstest.git;a=blob;f=README;hb=master Test harness code can be found at http://xenbits.xen.org/gitweb?p=osstest.git;a=summary Pushing revision : To xenbits.xen.org:/home/xen/git/xen.git 6d45368a0a..487975df53 487975df53b5298316b594550c79934d646701bd -> coverity-tested/smoke
