flight 165013 ovmf real [real]
http://logs.test-lab.xenproject.org/osstest/logs/165013/

Perfect :-)
All tests in this flight passed as required
version targeted for testing:
 ovmf                 ac6388add4ade3ae5c4036ea6c2ce9c8d301d057
baseline version:
 ovmf                 f4e72cf9d665a8f1a54170b0b62739a628823c8b

Last test of basis   165007  2021-09-16 09:41:13 Z    0 days
Testing same since   165013  2021-09-16 15:12:46 Z    0 days    1 attempts

------------------------------------------------------------
People who touched revisions under test:
  Ashraf Ali S <[email protected]>
  Dun Tan <[email protected]>
  Jason Lou <[email protected]>
  Leif Lindholm <[email protected]>
  Lou, Yun <[email protected]>
  Nhi Pham <[email protected]>
  Tan, Dun <[email protected]>

jobs:
 build-amd64-xsm                                              pass    
 build-i386-xsm                                               pass    
 build-amd64                                                  pass    
 build-i386                                                   pass    
 build-amd64-libvirt                                          pass    
 build-i386-libvirt                                           pass    
 build-amd64-pvops                                            pass    
 build-i386-pvops                                             pass    
 test-amd64-amd64-xl-qemuu-ovmf-amd64                         pass    
 test-amd64-i386-xl-qemuu-ovmf-amd64                          pass    


------------------------------------------------------------
sg-report-flight on osstest.test-lab.xenproject.org
logs: /home/logs/logs
images: /home/logs/images

Logs, config files, etc. are available at
    http://logs.test-lab.xenproject.org/osstest/logs

Explanation of these reports, and of osstest in general, is at
    http://xenbits.xen.org/gitweb/?p=osstest.git;a=blob;f=README.email;hb=master
    http://xenbits.xen.org/gitweb/?p=osstest.git;a=blob;f=README;hb=master

Test harness code can be found at
    http://xenbits.xen.org/gitweb?p=osstest.git;a=summary


Pushing revision :

To xenbits.xen.org:/home/xen/git/osstest/ovmf.git
   f4e72cf9d6..ac6388add4  ac6388add4ade3ae5c4036ea6c2ce9c8d301d057 -> 
xen-tested-master

Reply via email to