flight 165493 xen-unstable-coverity real [real]
http://logs.test-lab.xenproject.org/osstest/logs/165493/

Perfect :-)
All tests in this flight passed as required
version targeted for testing:
 xen                  f9294486926c865a3ef11cacd7cb6b26cce6f4a4
baseline version:
 xen                  664cc3c3d381e4f9a61dcb68cbd7a6a00070370e

Last test of basis   165453  2021-10-10 09:19:39 Z    3 days
Testing same since   165493  2021-10-13 09:20:53 Z    0 days    1 attempts

------------------------------------------------------------
People who touched revisions under test:
  Andrew Cooper <[email protected]>
  Anthony PERARD <[email protected]>
  Christian Lindig <[email protected]>
  Christopher Clark <[email protected]>
  Dmitry Isaykin <[email protected]>
  Ian Jackson <[email protected]>
  Jan Beulich <[email protected]>
  Julien Grall <[email protected]>
  Luca Fancellu <[email protected]>
  Michal Orzel <[email protected]>
  Nick Rosbrook <[email protected]>
  Oleksandr Andrushchenko <[email protected]>
  Rahul Singh <[email protected]>
  Roger Pau Monne <[email protected]>
  Roger Pau MonnĂ© <[email protected]>
  Stefano Stabellini <[email protected]>
  Stefano Stabellini <[email protected]>

jobs:
 coverity-amd64                                               pass    


------------------------------------------------------------
sg-report-flight on osstest.test-lab.xenproject.org
logs: /home/logs/logs
images: /home/logs/images

Logs, config files, etc. are available at
    http://logs.test-lab.xenproject.org/osstest/logs

Explanation of these reports, and of osstest in general, is at
    http://xenbits.xen.org/gitweb/?p=osstest.git;a=blob;f=README.email;hb=master
    http://xenbits.xen.org/gitweb/?p=osstest.git;a=blob;f=README;hb=master

Test harness code can be found at
    http://xenbits.xen.org/gitweb?p=osstest.git;a=summary


Pushing revision :

To xenbits.xen.org:/home/xen/git/xen.git
   664cc3c3d3..f929448692  f9294486926c865a3ef11cacd7cb6b26cce6f4a4 -> 
coverity-tested/smoke

Reply via email to