flight 165617 xen-unstable-coverity real [real] http://logs.test-lab.xenproject.org/osstest/logs/165617/
Perfect :-) All tests in this flight passed as required version targeted for testing: xen 52d0847d7c6972baa74156f14ee8544f5aba1d2d baseline version: xen f9294486926c865a3ef11cacd7cb6b26cce6f4a4 Last test of basis 165493 2021-10-13 09:20:53 Z 4 days Testing same since 165617 2021-10-17 09:18:30 Z 0 days 1 attempts ------------------------------------------------------------ People who touched revisions under test: Andrew Cooper <[email protected]> Anthony PERARD <[email protected]> Bertrand Marquis <[email protected]> Christian Lindig <[email protected]<mailto:[email protected]>> Ian Jackson <[email protected]> Jan Beulich <[email protected]> Juergen Gross <[email protected]> Julien Grall <[email protected]> Julien Grall <[email protected]> Luca Fancellu <[email protected]> Michal Orzel <[email protected]> Oleksandr Tyshchenko <[email protected]> Rahul Singh <[email protected]> Roger Pau Monné <[email protected]> Stefano Stabellini <[email protected]> Volodymyr Babchuk <[email protected]> jobs: coverity-amd64 pass ------------------------------------------------------------ sg-report-flight on osstest.test-lab.xenproject.org logs: /home/logs/logs images: /home/logs/images Logs, config files, etc. are available at http://logs.test-lab.xenproject.org/osstest/logs Explanation of these reports, and of osstest in general, is at http://xenbits.xen.org/gitweb/?p=osstest.git;a=blob;f=README.email;hb=master http://xenbits.xen.org/gitweb/?p=osstest.git;a=blob;f=README;hb=master Test harness code can be found at http://xenbits.xen.org/gitweb?p=osstest.git;a=summary Pushing revision : To xenbits.xen.org:/home/xen/git/xen.git f929448692..52d0847d7c 52d0847d7c6972baa74156f14ee8544f5aba1d2d -> coverity-tested/smoke
