flight 165836 xen-unstable-coverity real [real]
http://logs.test-lab.xenproject.org/osstest/logs/165836/

Perfect :-)
All tests in this flight passed as required
version targeted for testing:
 xen                  23ec1ebc8acbfd2bf06f6085a776f0db923f9fa9
baseline version:
 xen                  6809998c5f8f1d2e26ac9e867af8ac71e7a66cf2

Last test of basis   165686  2021-10-20 09:20:50 Z    4 days
Testing same since   165836  2021-10-24 09:18:30 Z    0 days    1 attempts

------------------------------------------------------------
People who touched revisions under test:
  Bertrand Marquis <[email protected]>
  Hongda Deng <[email protected]>
  Jan Beulich <[email protected]>
  Julien Grall <[email protected]>
  Roger Pau MonnĂ© <[email protected]>
  Thomas Gleixner <[email protected]>

jobs:
 coverity-amd64                                               pass    


------------------------------------------------------------
sg-report-flight on osstest.test-lab.xenproject.org
logs: /home/logs/logs
images: /home/logs/images

Logs, config files, etc. are available at
    http://logs.test-lab.xenproject.org/osstest/logs

Explanation of these reports, and of osstest in general, is at
    http://xenbits.xen.org/gitweb/?p=osstest.git;a=blob;f=README.email;hb=master
    http://xenbits.xen.org/gitweb/?p=osstest.git;a=blob;f=README;hb=master

Test harness code can be found at
    http://xenbits.xen.org/gitweb?p=osstest.git;a=summary


Pushing revision :

To xenbits.xen.org:/home/xen/git/xen.git
   6809998c5f..23ec1ebc8a  23ec1ebc8acbfd2bf06f6085a776f0db923f9fa9 -> 
coverity-tested/smoke

Reply via email to