flight 167483 xen-unstable-coverity real [real]
http://logs.test-lab.xenproject.org/osstest/logs/167483/

Perfect :-)
All tests in this flight passed as required
version targeted for testing:
 xen                  8e3edefb880caeeaaf80123d5599139e8c2c9ecf
baseline version:
 xen                  df3e1a5efe700a9f59eced801cac73f9fd02a0e2

Last test of basis   167384  2021-12-12 09:20:52 Z    7 days
Failing since        167428  2021-12-15 09:21:06 Z    4 days    2 attempts
Testing same since   167483  2021-12-19 09:20:44 Z    0 days    1 attempts

------------------------------------------------------------
People who touched revisions under test:
  Andrew Cooper <[email protected]>
  Anthony PERARD <[email protected]>
  Bobby Eshleman <[email protected]>
  Christian Lindig <[email protected]>
  Jan Beulich <[email protected]>
  Juergen Gross <[email protected]>
  Julien Grall <[email protected]>
  Luca Fancellu <[email protected]>
  Michal Orzel <[email protected]>
  Oleksandr Andrushchenko <[email protected]>
  Paul Durrant <[email protected]>
  Rahul Singh <[email protected]>
  Stefano Stabellini <[email protected]>

jobs:
 coverity-amd64                                               pass    


------------------------------------------------------------
sg-report-flight on osstest.test-lab.xenproject.org
logs: /home/logs/logs
images: /home/logs/images

Logs, config files, etc. are available at
    http://logs.test-lab.xenproject.org/osstest/logs

Explanation of these reports, and of osstest in general, is at
    http://xenbits.xen.org/gitweb/?p=osstest.git;a=blob;f=README.email;hb=master
    http://xenbits.xen.org/gitweb/?p=osstest.git;a=blob;f=README;hb=master

Test harness code can be found at
    http://xenbits.xen.org/gitweb?p=osstest.git;a=summary


Pushing revision :

To xenbits.xen.org:/home/xen/git/xen.git
   df3e1a5efe..8e3edefb88  8e3edefb880caeeaaf80123d5599139e8c2c9ecf -> 
coverity-tested/smoke

Reply via email to