flight 168068 xen-unstable-coverity real [real] http://logs.test-lab.xenproject.org/osstest/logs/168068/
Perfect :-) All tests in this flight passed as required version targeted for testing: xen 52ce1c97844db213de01c5300eaaa8cf101a285f baseline version: xen 820cc393434097f3b7976acdccbf1d96071d6d23 Last test of basis 168033 2022-02-06 09:19:52 Z 3 days Testing same since 168068 2022-02-09 09:21:03 Z 0 days 1 attempts ------------------------------------------------------------ People who touched revisions under test: Andrew Cooper <[email protected]> Anthony PERARD <[email protected]> Jan Beulich <[email protected]> Juergen Gross <[email protected]> Michal Orzel <[email protected]> Roger Pau Monne <[email protected]> Roger Pau Monné <[email protected]> jobs: coverity-amd64 pass ------------------------------------------------------------ sg-report-flight on osstest.test-lab.xenproject.org logs: /home/logs/logs images: /home/logs/images Logs, config files, etc. are available at http://logs.test-lab.xenproject.org/osstest/logs Explanation of these reports, and of osstest in general, is at http://xenbits.xen.org/gitweb/?p=osstest.git;a=blob;f=README.email;hb=master http://xenbits.xen.org/gitweb/?p=osstest.git;a=blob;f=README;hb=master Test harness code can be found at http://xenbits.xen.org/gitweb?p=osstest.git;a=summary Pushing revision : To xenbits.xen.org:/home/xen/git/xen.git 820cc39343..52ce1c9784 52ce1c97844db213de01c5300eaaa8cf101a285f -> coverity-tested/smoke
