flight 121767 xen-unstable-coverity real [real]
http://logs.test-lab.xenproject.org/osstest/logs/121767/

Perfect :-)
All tests in this flight passed as required
version targeted for testing:
 xen                  913acc1aa019054742217926dea0827e7a9df02e
baseline version:
 xen                  6bbcb226cebac90f8ce5ac901e000bfd3ad783c5

Last test of basis   121636  2018-04-01 09:20:32 Z    3 days
Testing same since   121767  2018-04-04 09:39:19 Z    0 days    1 attempts

------------------------------------------------------------
People who touched revisions under test:
  Boris Ostrovsky <boris.ostrov...@oracle.com>
  Daniel De Graaf <dgde...@tycho.nsa.gov>
  Jan Beulich <jbeul...@suse.com>
  Julien Grall <julien.gr...@arm.com>
  Maran Wilson <maran.wil...@oracle.com>
  Paul Durrant <paul.durr...@citrix.com>
  Roger Pau Monne <roger....@citrix.com>
  Roger Pau Monné <roger....@citrix.com>
  Stefano Stabellini <sstabell...@kernel.org>
  Stefano Stabellini <stef...@aporeto.com>
  Wei Liu <wei.l...@citrix.com>

jobs:
 coverity-amd64                                               pass    


------------------------------------------------------------
sg-report-flight on osstest.test-lab.xenproject.org
logs: /home/logs/logs
images: /home/logs/images

Logs, config files, etc. are available at
    http://logs.test-lab.xenproject.org/osstest/logs

Explanation of these reports, and of osstest in general, is at
    http://xenbits.xen.org/gitweb/?p=osstest.git;a=blob;f=README.email;hb=master
    http://xenbits.xen.org/gitweb/?p=osstest.git;a=blob;f=README;hb=master

Test harness code can be found at
    http://xenbits.xen.org/gitweb?p=osstest.git;a=summary


Pushing revision :

To xenbits.xen.org:/home/xen/git/xen.git
   6bbcb226ce..913acc1aa0  913acc1aa019054742217926dea0827e7a9df02e -> 
coverity-tested/smoke

_______________________________________________
Xen-devel mailing list
Xen-devel@lists.xenproject.org
https://lists.xenproject.org/mailman/listinfo/xen-devel

Reply via email to