flight 168100 xen-unstable-coverity real [real] http://logs.test-lab.xenproject.org/osstest/logs/168100/
Perfect :-) All tests in this flight passed as required version targeted for testing: xen 87319afb96973213ec0a76270d93696f3b8d6743 baseline version: xen 52ce1c97844db213de01c5300eaaa8cf101a285f Last test of basis 168068 2022-02-09 09:21:03 Z 4 days Testing same since 168100 2022-02-13 09:18:29 Z 0 days 1 attempts ------------------------------------------------------------ People who touched revisions under test: Jan Beulich <[email protected]> Juergen Gross <[email protected]> Julien Grall <[email protected]> Roger Pau Monné <[email protected]> Volodymyr Babchuk <[email protected]> jobs: coverity-amd64 pass ------------------------------------------------------------ sg-report-flight on osstest.test-lab.xenproject.org logs: /home/logs/logs images: /home/logs/images Logs, config files, etc. are available at http://logs.test-lab.xenproject.org/osstest/logs Explanation of these reports, and of osstest in general, is at http://xenbits.xen.org/gitweb/?p=osstest.git;a=blob;f=README.email;hb=master http://xenbits.xen.org/gitweb/?p=osstest.git;a=blob;f=README;hb=master Test harness code can be found at http://xenbits.xen.org/gitweb?p=osstest.git;a=summary Pushing revision : To xenbits.xen.org:/home/xen/git/xen.git 52ce1c9784..87319afb96 87319afb96973213ec0a76270d93696f3b8d6743 -> coverity-tested/smoke
