flight 168177 xen-unstable-coverity real [real]
http://logs.test-lab.xenproject.org/osstest/logs/168177/

Perfect :-)
All tests in this flight passed as required
version targeted for testing:
 xen                  686f13cfce1d95464ff39fb59ac1f85163cea03b
baseline version:
 xen                  e7c2017cf4a91ab6a0fea6adca2d9dd2ab1603b0

Last test of basis   168128  2022-02-16 09:19:44 Z    4 days
Testing same since   168177  2022-02-20 09:19:40 Z    0 days    1 attempts

------------------------------------------------------------
People who touched revisions under test:
  Andrew Cooper <[email protected]>
  Anthony PERARD <[email protected]>
  Jan Beulich <[email protected]>
  Juergen Gross <[email protected]>
  Julien Grall <[email protected]>
  Penny Zheng <[email protected]>
  Roger Pau Monne <[email protected]>
  Roger Pau MonnĂ© <[email protected]>
  Stefano Stabellini <[email protected]>
  Stefano Stabellini <[email protected]>

jobs:
 coverity-amd64                                               pass    


------------------------------------------------------------
sg-report-flight on osstest.test-lab.xenproject.org
logs: /home/logs/logs
images: /home/logs/images

Logs, config files, etc. are available at
    http://logs.test-lab.xenproject.org/osstest/logs

Explanation of these reports, and of osstest in general, is at
    http://xenbits.xen.org/gitweb/?p=osstest.git;a=blob;f=README.email;hb=master
    http://xenbits.xen.org/gitweb/?p=osstest.git;a=blob;f=README;hb=master

Test harness code can be found at
    http://xenbits.xen.org/gitweb?p=osstest.git;a=summary


Pushing revision :

To xenbits.xen.org:/home/xen/git/xen.git
   e7c2017cf4..686f13cfce  686f13cfce1d95464ff39fb59ac1f85163cea03b -> 
coverity-tested/smoke

Reply via email to