This run is configured for baseline tests only.

flight 74493 qemu-mainline running [real]
http://osstest.xs.citrite.net/~osstest/testlogs/logs/74493/

Failures and problems with tests :-(

Tests which did not succeed and are blocking,
including tests which could not be run:
 build-amd64                     <job status>                 broken
 build-armhf-pvops               <job status>                 broken
 build-i386-xsm                  <job status>                 broken
 build-amd64-xsm                 <job status>                 broken
 build-amd64-pvops               <job status>                 broken
 build-i386-pvops                <job status>                 broken
 build-armhf-xsm                 <job status>                 broken
 build-armhf                     <job status>                 broken
 test-amd64-i386-pair            <none executed>              queued
 test-amd64-i386-qemuu-rhel6hvm-intel    <none executed>              queued
 test-amd64-i386-xl-qemuu-ovmf-amd64    <none executed>              queued
 test-amd64-i386-freebsd10-amd64    <none executed>              queued
 test-amd64-i386-libvirt-qcow2    <none executed>              queued
 test-amd64-i386-xl-qemuu-win10-i386    <none executed>              queued
 test-amd64-i386-libvirt         <none executed>              queued
 test-amd64-i386-xl-qemuu-ws16-amd64    <none executed>              queued
 test-amd64-i386-freebsd10-i386    <none executed>              queued
 test-amd64-i386-xl-qemuu-win7-amd64    <none executed>              queued
 test-amd64-i386-xl-qemuu-debianhvm-amd64    <none executed>             queued
 test-amd64-i386-libvirt-xsm     <none executed>              queued
 test-amd64-i386-xl-raw          <none executed>              queued
 build-i386-libvirt              <none executed>              queued
 test-amd64-i386-libvirt-pair    <none executed>              queued
 test-amd64-i386-libvirt-qemuu-debianhvm-amd64-xsm    <none executed>    queued
 test-amd64-i386-qemuu-rhel6hvm-amd    <none executed>              queued
 test-amd64-i386-xl              <none executed>              queued
 build-i386                    3 syslog-server                running
 build-armhf-pvops             3 syslog-server                running
 build-armhf                   3 syslog-server                running
 build-armhf-xsm               3 syslog-server                running
 build-i386                    4 host-install(4)              running

Tests which did not succeed, but are not blocking:
 test-amd64-amd64-xl-qemuu-debianhvm-amd64  1 build-check(1)        blocked n/a
 test-amd64-amd64-qemuu-nested-intel  1 build-check(1)              blocked n/a
 test-armhf-armhf-xl-midway    1 build-check(1)               blocked  n/a
 test-armhf-armhf-libvirt      1 build-check(1)               blocked  n/a
 test-amd64-i386-xl-qemuu-debianhvm-amd64-xsm  1 build-check(1)     blocked n/a
 test-armhf-armhf-libvirt-raw  1 build-check(1)               blocked  n/a
 test-amd64-amd64-xl-multivcpu  1 build-check(1)               blocked  n/a
 test-amd64-amd64-libvirt      1 build-check(1)               blocked  n/a
 test-amd64-amd64-pair         1 build-check(1)               blocked  n/a
 test-armhf-armhf-xl-credit2   1 build-check(1)               blocked  n/a
 test-amd64-amd64-xl-qemuu-win10-i386  1 build-check(1)             blocked n/a
 test-amd64-amd64-xl-qemuu-win7-amd64  1 build-check(1)             blocked n/a
 test-amd64-amd64-libvirt-qemuu-debianhvm-amd64-xsm 1 build-check(1) blocked n/a
 test-amd64-amd64-pygrub       1 build-check(1)               blocked  n/a
 test-amd64-amd64-xl-qcow2     1 build-check(1)               blocked  n/a
 test-amd64-amd64-amd64-pvgrub  1 build-check(1)               blocked  n/a
 test-armhf-armhf-libvirt-xsm  1 build-check(1)               blocked  n/a
 test-amd64-amd64-xl-qemuu-ovmf-amd64  1 build-check(1)             blocked n/a
 test-amd64-amd64-libvirt-vhd  1 build-check(1)               blocked  n/a
 test-amd64-amd64-xl-credit2   1 build-check(1)               blocked  n/a
 test-armhf-armhf-xl-multivcpu  1 build-check(1)               blocked  n/a
 test-amd64-i386-xl-xsm        1 build-check(1)               blocked  n/a
 build-amd64-libvirt           1 build-check(1)               blocked  n/a
 test-amd64-amd64-xl-qemuu-debianhvm-amd64-xsm  1 build-check(1)    blocked n/a
 test-amd64-amd64-i386-pvgrub  1 build-check(1)               blocked  n/a
 build-armhf-libvirt           1 build-check(1)               blocked  n/a
 test-amd64-amd64-xl-qemuu-ws16-amd64  1 build-check(1)             blocked n/a
 test-amd64-amd64-libvirt-pair  1 build-check(1)               blocked  n/a
 test-amd64-amd64-xl-pvhv2-intel  1 build-check(1)               blocked  n/a
 test-armhf-armhf-xl           1 build-check(1)               blocked  n/a
 test-amd64-amd64-libvirt-xsm  1 build-check(1)               blocked  n/a
 test-amd64-amd64-xl-xsm       1 build-check(1)               blocked  n/a
 test-armhf-armhf-xl-vhd       1 build-check(1)               blocked  n/a
 test-amd64-amd64-xl           1 build-check(1)               blocked  n/a
 test-amd64-amd64-xl-pvhv2-amd  1 build-check(1)               blocked  n/a
 test-amd64-amd64-qemuu-nested-amd  1 build-check(1)               blocked  n/a
 test-armhf-armhf-xl-rtds      1 build-check(1)               blocked  n/a
 test-armhf-armhf-xl-xsm       1 build-check(1)               blocked  n/a
 test-amd64-amd64-xl-rtds      1 build-check(1)               blocked  n/a
 build-amd64-pvops             4 host-install(4)       broken baseline untested
 build-amd64                   4 host-install(4)       broken baseline untested
 build-amd64-xsm               4 host-install(4)       broken baseline untested
 build-armhf                   4 host-install(4)       broken baseline untested
 build-armhf-pvops             4 host-install(4)       broken baseline untested
 build-i386-xsm                4 host-install(4)       broken baseline untested
 build-i386-pvops              4 host-install(4)       broken baseline untested
 build-armhf-xsm               4 host-install(4)       broken baseline untested
 build-armhf-xsm               5 capture-logs          broken baseline untested
 build-armhf                   5 capture-logs          broken baseline untested
 build-armhf-pvops             5 capture-logs          broken baseline untested

version targeted for testing:
 qemuu                6697439794f72b3501ee16bb95d16854f9981421
baseline version:
 qemuu                7398166ddf7c6dbbc9cae6ac69bb2feda14b40ac

Last test of basis    74401  2018-01-14 05:58:16 Z   82 days
Testing same since                          (not found)         0 attempts

------------------------------------------------------------
People who touched revisions under test:
  Alberto Garcia <be...@igalia.com>
  Alex Bennée <alex.ben...@linaro.org>
  Alex Williamson <alex.william...@redhat.com>
  Alexey Kardashevskiy <a...@ozlabs.ru>
  Alexey Perevalov <a.pereva...@samsung.com>
  Alice Frosi <al...@linux.vnet.ibm.com>
  Alistair Francis <alistair.fran...@xilinx.com>
  Amador Pahim <apa...@redhat.com>
  Anatoly Trosinenko <anatoly.trosine...@gmail.com>
  Andreas Gustafsson <g...@gson.org>
  Andreas Schwab <sch...@suse.de>
  Andrew Jeffery <and...@aj.id.au>
  Andrey Smirnov <andrew.smir...@gmail.com>
  Anthony PERARD <anthony.per...@citrix.com>
  Anton Nefedov <anton.nefe...@virtuozzo.com>
  Ard Biesheuvel <ard.biesheu...@linaro.org>
  Artyom Tarasenko <atar4q...@gmail.com>
  BALATON Zoltan <bala...@eik.bme.hu>
  Bandan Das <b...@redhat.com>
  Brad Smith <b...@comstyle.com>
  Cao jin <caoj.f...@cn.fujitsu.com>
  Changpeng Liu <changpeng....@intel.com>
  Christian Borntraeger <borntrae...@de.ibm.com>
  Christoffer Dall <christoffer.d...@linaro.org>
  Claudio Imbrenda <imbre...@linux.vnet.ibm.com>
  Cole Robinson <crobi...@redhat.com>
  Corey Minyard <cminy...@mvista.com>
  Cornelia Huck <coh...@redhat.com>
  Cédric Le Goater <c...@kaod.org>
  Daniel Barboza <danie...@linux.vnet.ibm.com>
  Daniel Henrique Barboza <danie...@linux.vnet.ibm.com>
  Daniel P. Berrange <berra...@redhat.com>
  Daniel P. Berrangé <berra...@redhat.com>
  Dave Airlie <airl...@redhat.com>
  David Gibson <da...@gibson.dropbear.id.au>
  David Hildenbrand <da...@redhat.com>
  Denis V. Lunev <d...@openvz.org>
  Deniz Eren <deniz.e...@icloud.com>
  Dou Liyang <douly.f...@cn.fujitsu.com>
  Dr. David Alan Gilbert <dgilb...@redhat.com>
  Edgar E. Iglesias <edgar.igles...@xilinx.com>
  Edgar Kaziakhmedov <edgar.kaziakhme...@virtuozzo.com>
  Eduardo Habkost <ehabk...@redhat.com>
  Emilio G. Cota <c...@braap.org>
  Eric Auger <eric.au...@redhat.com>
  Eric Blake <ebl...@redhat.com>
  Fam Zheng <f...@redhat.com>
  Francisco Iglesias <frasse.igles...@gmail.com>
  Frediano Ziglio <fzig...@redhat.com>
  Fyleo  <fyle...@gmail.com>
  Gal Hammer <gham...@redhat.com>
  Gerd Hoffmann <kra...@redhat.com>
  Greg Kurz <gr...@kaod.org>
  Guido Günther <a...@sigxcpu.org>
  Haozhong Zhang <haozhong.zh...@intel.com>
  Helge Deller <del...@gmx.de>
  Hervé Poussineau <hpous...@reactos.org>
  Hikaru Nishida <hikaru...@gmail.com>
  Howard Spoelstra <hsp.c...@gmail.com>
  Hugo Landau <hlan...@devever.net>
  Igor Mammedov <imamm...@redhat.com>
  Izik Eidus <i...@veertu.com>
  Jan Beulich <jbeul...@suse.com>
  Jan Dakinevich <jan.dakinev...@virtuozzo.com>
  Jan Kiszka <jan.kis...@siemens.com>
  Jason Wang <jasow...@redhat.com>
  Jay Zhou <jianjay.z...@huawei.com>
  Jean-Christophe Dubois <j...@tribudubois.net>
  Jeff Cody <jc...@redhat.com>
  Jindrich Makovicka <makov...@gmail.com>
  John Arbuckle <programmingk...@gmail.com>
  John Snow <js...@redhat.com>
  Jon Emil Jahren <jonem...@gmail.com>
  Jose Ricardo Ziviani <jos...@linux.vnet.ibm.com>
  Juan Quintela <quint...@redhat.com>
  Justin Terry (VM) <jute...@microsoft.com>
  Keno Fischer <k...@juliacomputing.com>
  Kevin Wolf <kw...@redhat.com>
  Klim Kireev <klim.kir...@virtuozzo.com>
  Ladi Prosek <lpro...@redhat.com>
  Laszlo Ersek <ler...@redhat.com>
  Laurent Vivier <laur...@vivier.eu>
  Laurent Vivier <lviv...@redhat.com>
  Li Zhijian <lizhij...@cn.fujitsu.com>
  Liang Li <liliang...@didichuxing.com>
  Linus Walleij <linus.wall...@linaro.org>
  linzhecheng <li...@zju.edu.cn>
  linzhecheng <linzhech...@huawei.com>
  Luc MICHEL <luc.mic...@git.antfield.fr>
  Mao Zhongyi <maozy.f...@cn.fujitsu.com>
  Marc-André Lureau <marcandre.lur...@redhat.com>
  Marcel Apfelbaum <mar...@redhat.com>
  Marcelo Tosatti <mtosa...@redhat.com>
  Marco A L Barbosa <malba...@gmail.com>
  Maria Klimushenkova <maria.klimushenk...@ispras.ru>
  Mark Cave-Ayland <mark.cave-ayl...@ilande.co.uk>
  Markus Armbruster <arm...@redhat.com>
  Max Filippov <jcmvb...@gmail.com>
  Max Reitz <mre...@redhat.com>
  Maxime Coquelin <maxime.coque...@redhat.com>
  Maximilian Riemensberger <riemensber...@cadami.net>
  Michael Roth <mdr...@linux.vnet.ibm.com>
  Michael S. Tsirkin <m...@redhat.com>
  Michael Tokarev <m...@tls.msk.ru>
  Michael Walle <mich...@walle.cc>
  Mihail Abakumov <mikhail.abaku...@ispras.ru>
  Miika S <miika9...@gmail.com>
  Mohammed Gamal <mga...@redhat.com>
  Murilo Opsfelder Araujo <muri...@linux.vnet.ibm.com>
  Paolo Bonzini <pbonz...@redhat.com>
  Pavel Dovgalyuk <pavel.dovga...@ispras.ru>
  Pavel Pisa <p...@cmp.felk.cvut.cz>
  pbonz...@redhat.com <pbonz...@redhat.com>
  Pekka Enberg <penb...@iki.fi>
  Peter Lieven <p...@kamp.de>
  Peter Maydell <peter.mayd...@linaro.org>
  Peter Xu <pet...@redhat.com>
  Philippe Mathieu-Daudé <f4...@amsat.org>
  Philippe Mathieu-Daudé <f4...@amsat.org>
  Pierre Morel <pmo...@linux.vnet.ibm.com>
  Prasad J Pandit <p...@fedoraproject.org>
  Prasad Singamsetty <prasad.singamse...@oracle.com>
  Prasad Singamsetty <prasad.singams...@oracle.com>
  Richard Braun <rbr...@sceen.net>
  Richard Henderson <richard.hender...@linaro.org>
  Roman Kagan <rka...@virtuozzo.com>
  Ross Lagerwall <ross.lagerw...@citrix.com>
  Sai Pavan Boddu <saip...@xilinx.com>
  Samuel Thibault <samuel.thiba...@ens-lyon.org>
  Stafford Horne <sho...@gmail.com>
  Stefan Berger <stef...@linux.vnet.ibm.com>
  Stefan Hajnoczi <stefa...@redhat.com>
  Suraj Jitindar Singh <sjitindarsi...@gmail.com>
  Tao Wu <lep...@google.com>
  Thomas Huth <th...@redhat.com>
  th...@redhat.com <th...@redhat.com>
  Tiwei Bie <tiwei....@intel.com>
  Tomáš Golembiovský <tgole...@redhat.com>
  Vladimir Sementsov-Ogievskiy <vsement...@virtuozzo.com>
  Wei Huang <w...@redhat.com>
  Wei Wang <wei.w.w...@intel.com>
  Weiping Zhang <zhangweip...@didichuxing.com>
  Wolfgang Bumiller <w.bumil...@proxmox.com>
  Yi Min Zhao <zyi...@linux.vnet.ibm.com>
  Yongji Xie <elohi...@gmail.com>
  Yongji Xie <xieyon...@baidu.com>
  Yoni Bettan <ybet...@redhat.com>
  Yu Ning <yu.n...@intel.com>
  YunQiang Su <s...@debian.org>
  Yuval Shaia <yuval.sh...@oracle.com>
  Zhang Chen <zhangc...@gmail.com>

jobs:
 build-amd64-xsm                                              broken  
 build-armhf-xsm                                              broken  
 build-i386-xsm                                               broken  
 build-amd64                                                  broken  
 build-armhf                                                  broken  
 build-i386                                                   running 
 build-amd64-libvirt                                          blocked 
 build-armhf-libvirt                                          blocked 
 build-i386-libvirt                                           queued  
 build-amd64-pvops                                            broken  
 build-armhf-pvops                                            broken  
 build-i386-pvops                                             broken  
 test-amd64-amd64-xl                                          blocked 
 test-armhf-armhf-xl                                          blocked 
 test-amd64-i386-xl                                           queued  
 test-amd64-amd64-libvirt-qemuu-debianhvm-amd64-xsm           blocked 
 test-amd64-i386-libvirt-qemuu-debianhvm-amd64-xsm            queued  
 test-amd64-amd64-xl-qemuu-debianhvm-amd64-xsm                blocked 
 test-amd64-i386-xl-qemuu-debianhvm-amd64-xsm                 blocked 
 test-amd64-amd64-libvirt-xsm                                 blocked 
 test-armhf-armhf-libvirt-xsm                                 blocked 
 test-amd64-i386-libvirt-xsm                                  queued  
 test-amd64-amd64-xl-xsm                                      blocked 
 test-armhf-armhf-xl-xsm                                      blocked 
 test-amd64-i386-xl-xsm                                       blocked 
 test-amd64-amd64-qemuu-nested-amd                            blocked 
 test-amd64-amd64-xl-pvhv2-amd                                blocked 
 test-amd64-i386-qemuu-rhel6hvm-amd                           queued  
 test-amd64-amd64-xl-qemuu-debianhvm-amd64                    blocked 
 test-amd64-i386-xl-qemuu-debianhvm-amd64                     queued  
 test-amd64-i386-freebsd10-amd64                              queued  
 test-amd64-amd64-xl-qemuu-ovmf-amd64                         blocked 
 test-amd64-i386-xl-qemuu-ovmf-amd64                          queued  
 test-amd64-amd64-xl-qemuu-win7-amd64                         blocked 
 test-amd64-i386-xl-qemuu-win7-amd64                          queued  
 test-amd64-amd64-xl-qemuu-ws16-amd64                         blocked 
 test-amd64-i386-xl-qemuu-ws16-amd64                          queued  
 test-amd64-amd64-xl-credit2                                  blocked 
 test-armhf-armhf-xl-credit2                                  blocked 
 test-amd64-i386-freebsd10-i386                               queued  
 test-amd64-amd64-xl-qemuu-win10-i386                         blocked 
 test-amd64-i386-xl-qemuu-win10-i386                          queued  
 test-amd64-amd64-qemuu-nested-intel                          blocked 
 test-amd64-amd64-xl-pvhv2-intel                              blocked 
 test-amd64-i386-qemuu-rhel6hvm-intel                         queued  
 test-amd64-amd64-libvirt                                     blocked 
 test-armhf-armhf-libvirt                                     blocked 
 test-amd64-i386-libvirt                                      queued  
 test-armhf-armhf-xl-midway                                   blocked 
 test-amd64-amd64-xl-multivcpu                                blocked 
 test-armhf-armhf-xl-multivcpu                                blocked 
 test-amd64-amd64-pair                                        blocked 
 test-amd64-i386-pair                                         queued  
 test-amd64-amd64-libvirt-pair                                blocked 
 test-amd64-i386-libvirt-pair                                 queued  
 test-amd64-amd64-amd64-pvgrub                                blocked 
 test-amd64-amd64-i386-pvgrub                                 blocked 
 test-amd64-amd64-pygrub                                      blocked 
 test-amd64-i386-libvirt-qcow2                                queued  
 test-amd64-amd64-xl-qcow2                                    blocked 
 test-armhf-armhf-libvirt-raw                                 blocked 
 test-amd64-i386-xl-raw                                       queued  
 test-amd64-amd64-xl-rtds                                     blocked 
 test-armhf-armhf-xl-rtds                                     blocked 
 test-amd64-amd64-libvirt-vhd                                 blocked 
 test-armhf-armhf-xl-vhd                                      blocked 


------------------------------------------------------------
sg-report-flight on osstest.xs.citrite.net
logs: /home/osstest/logs
images: /home/osstest/images

Logs, config files, etc. are available at
    http://osstest.xs.citrite.net/~osstest/testlogs/logs

Test harness code can be found at
    http://xenbits.xensource.com/gitweb?p=osstest.git;a=summary

broken-job test-amd64-i386-pair queued
broken-job test-amd64-i386-qemuu-rhel6hvm-intel queued
broken-job test-amd64-i386-xl-qemuu-ovmf-amd64 queued
broken-job build-amd64 broken
broken-job test-amd64-i386-freebsd10-amd64 queued
broken-job test-amd64-i386-libvirt-qcow2 queued
broken-job test-amd64-i386-xl-qemuu-win10-i386 queued
broken-job build-armhf-pvops broken
broken-job test-amd64-i386-libvirt queued
broken-job test-amd64-i386-xl-qemuu-ws16-amd64 queued
broken-job test-amd64-i386-freebsd10-i386 queued
broken-job build-i386-xsm broken
broken-job test-amd64-i386-xl-qemuu-win7-amd64 queued
broken-job test-amd64-i386-xl-qemuu-debianhvm-amd64 queued
broken-job build-amd64-xsm broken
broken-job test-amd64-i386-libvirt-xsm queued
broken-job build-amd64-pvops broken
broken-job build-i386-pvops broken
broken-job test-amd64-i386-xl-raw queued
broken-job build-armhf-xsm broken
broken-job build-armhf broken
broken-job build-i386-libvirt queued
broken-job test-amd64-i386-libvirt-pair queued
broken-job test-amd64-i386-libvirt-qemuu-debianhvm-amd64-xsm queued
broken-job test-amd64-i386-qemuu-rhel6hvm-amd queued
broken-job test-amd64-i386-xl queued
broken-step build-amd64-pvops host-install(4)
broken-step build-amd64 host-install(4)
broken-step build-amd64-xsm host-install(4)
broken-step build-armhf host-install(4)
broken-step build-armhf-pvops host-install(4)
broken-step build-i386-xsm host-install(4)
broken-step build-i386-pvops host-install(4)
broken-step build-armhf-xsm host-install(4)
broken-step build-armhf-xsm capture-logs
broken-step build-armhf capture-logs
broken-step build-armhf-pvops capture-logs

Push not applicable.

(No revision log; it would be 21776 lines long.)

_______________________________________________
Xen-devel mailing list
Xen-devel@lists.xenproject.org
https://lists.xenproject.org/mailman/listinfo/xen-devel

Reply via email to