flight 122135 ovmf real [real]
http://logs.test-lab.xenproject.org/osstest/logs/122135/

Perfect :-)
All tests in this flight passed as required
version targeted for testing:
 ovmf                 64797018df0cf5c1f11523bb575355aba918b940
baseline version:
 ovmf                 95cc4962167572089a99be324574094ba22415ad

Last test of basis   122120  2018-04-09 03:22:26 Z    1 days
Testing same since   122135  2018-04-09 12:51:49 Z    0 days    1 attempts

------------------------------------------------------------
People who touched revisions under test:
  Carsey, Jaben </o=Intel/ou=Americas01/cn=Workers/cn=Carsey, Jaben>
  Jaben Carsey <jaben.car...@intel.com>
  Yonghong Zhu <yonghong....@intel.com>

jobs:
 build-amd64-xsm                                              pass    
 build-i386-xsm                                               pass    
 build-amd64                                                  pass    
 build-i386                                                   pass    
 build-amd64-libvirt                                          pass    
 build-i386-libvirt                                           pass    
 build-amd64-pvops                                            pass    
 build-i386-pvops                                             pass    
 test-amd64-amd64-xl-qemuu-ovmf-amd64                         pass    
 test-amd64-i386-xl-qemuu-ovmf-amd64                          pass    


------------------------------------------------------------
sg-report-flight on osstest.test-lab.xenproject.org
logs: /home/logs/logs
images: /home/logs/images

Logs, config files, etc. are available at
    http://logs.test-lab.xenproject.org/osstest/logs

Explanation of these reports, and of osstest in general, is at
    http://xenbits.xen.org/gitweb/?p=osstest.git;a=blob;f=README.email;hb=master
    http://xenbits.xen.org/gitweb/?p=osstest.git;a=blob;f=README;hb=master

Test harness code can be found at
    http://xenbits.xen.org/gitweb?p=osstest.git;a=summary


Pushing revision :

To xenbits.xen.org:/home/xen/git/osstest/ovmf.git
   95cc496216..64797018df  64797018df0cf5c1f11523bb575355aba918b940 -> 
xen-tested-master

_______________________________________________
Xen-devel mailing list
Xen-devel@lists.xenproject.org
https://lists.xenproject.org/mailman/listinfo/xen-devel

Reply via email to