This run is configured for baseline tests only.

flight 74576 ovmf real [real]
http://osstest.xs.citrite.net/~osstest/testlogs/logs/74576/

Perfect :-)
All tests in this flight passed as required
version targeted for testing:
 ovmf                 13d909f89a3cee1c1f6b851a4cda7bd1a44e90ae
baseline version:
 ovmf                 64797018df0cf5c1f11523bb575355aba918b940

Last test of basis    74572  2018-04-10 09:24:06 Z    1 days
Testing same since    74576  2018-04-11 04:54:42 Z    0 days    1 attempts

------------------------------------------------------------
People who touched revisions under test:
  Carsey, Jaben </o=Intel/ou=Americas01/cn=Workers/cn=Carsey, Jaben>
  Feng, YunhuaX </o=Intel/ou=Exchange Administrative Group 
(FYDIBOHF23SPDLT)/cn=Recipients/cn=Feng, YunhuaX4e1>
  Jaben Carsey <jaben.car...@intel.com>
  Yonghong Zhu <yonghong....@intel.com>
  Yunhua Feng <yunhuax.f...@intel.com>

jobs:
 build-amd64-xsm                                              pass    
 build-i386-xsm                                               pass    
 build-amd64                                                  pass    
 build-i386                                                   pass    
 build-amd64-libvirt                                          pass    
 build-i386-libvirt                                           pass    
 build-amd64-pvops                                            pass    
 build-i386-pvops                                             pass    
 test-amd64-amd64-xl-qemuu-ovmf-amd64                         pass    
 test-amd64-i386-xl-qemuu-ovmf-amd64                          pass    


------------------------------------------------------------
sg-report-flight on osstest.xs.citrite.net
logs: /home/osstest/logs
images: /home/osstest/images

Logs, config files, etc. are available at
    http://osstest.xs.citrite.net/~osstest/testlogs/logs

Test harness code can be found at
    http://xenbits.xensource.com/gitweb?p=osstest.git;a=summary


Push not applicable.

(No revision log; it would be 344 lines long.)

_______________________________________________
Xen-devel mailing list
Xen-devel@lists.xenproject.org
https://lists.xenproject.org/mailman/listinfo/xen-devel

Reply via email to