flight 122178 ovmf real [real]
http://logs.test-lab.xenproject.org/osstest/logs/122178/

Perfect :-)
All tests in this flight passed as required
version targeted for testing:
 ovmf                 153f5c7a93be09403891404c06e5b0e24eb019a3
baseline version:
 ovmf                 8b0e67821bd66af70433ee4bb858325f3033609a

Last test of basis   122168  2018-04-11 04:49:35 Z    1 days
Testing same since   122178  2018-04-12 00:54:11 Z    0 days    1 attempts

------------------------------------------------------------
People who touched revisions under test:
  Feng, YunhuaX </o=Intel/ou=Exchange Administrative Group 
(FYDIBOHF23SPDLT)/cn=Recipients/cn=Feng, YunhuaX4e1>
  Kinney, Michael D <michael.d.kin...@intel.com>
  Michael D Kinney <michael.d.kin...@intel.com>
  Yunhua Feng <yunhuax.f...@intel.com>

jobs:
 build-amd64-xsm                                              pass    
 build-i386-xsm                                               pass    
 build-amd64                                                  pass    
 build-i386                                                   pass    
 build-amd64-libvirt                                          pass    
 build-i386-libvirt                                           pass    
 build-amd64-pvops                                            pass    
 build-i386-pvops                                             pass    
 test-amd64-amd64-xl-qemuu-ovmf-amd64                         pass    
 test-amd64-i386-xl-qemuu-ovmf-amd64                          pass    


------------------------------------------------------------
sg-report-flight on osstest.test-lab.xenproject.org
logs: /home/logs/logs
images: /home/logs/images

Logs, config files, etc. are available at
    http://logs.test-lab.xenproject.org/osstest/logs

Explanation of these reports, and of osstest in general, is at
    http://xenbits.xen.org/gitweb/?p=osstest.git;a=blob;f=README.email;hb=master
    http://xenbits.xen.org/gitweb/?p=osstest.git;a=blob;f=README;hb=master

Test harness code can be found at
    http://xenbits.xen.org/gitweb?p=osstest.git;a=summary


Pushing revision :

To xenbits.xen.org:/home/xen/git/osstest/ovmf.git
   8b0e67821b..153f5c7a93  153f5c7a93be09403891404c06e5b0e24eb019a3 -> 
xen-tested-master

_______________________________________________
Xen-devel mailing list
Xen-devel@lists.xenproject.org
https://lists.xenproject.org/mailman/listinfo/xen-devel

Reply via email to