flight 170746 ovmf real [real] http://logs.test-lab.xenproject.org/osstest/logs/170746/
Perfect :-) All tests in this flight passed as required version targeted for testing: ovmf 16779ede2d366bfc6b702e817356ccf43425bcc8 baseline version: ovmf 07c0c2eb0a5970db614ebce1060fc79d6904bdfd Last test of basis 170733 2022-05-25 17:10:19 Z 0 days Testing same since 170746 2022-05-26 10:11:57 Z 0 days 1 attempts ------------------------------------------------------------ People who touched revisions under test: Jehl Theo <[email protected]> Rebecca Cran <[email protected]> Theo Jehl <[email protected]> jobs: build-amd64-xsm pass build-i386-xsm pass build-amd64 pass build-i386 pass build-amd64-libvirt pass build-i386-libvirt pass build-amd64-pvops pass build-i386-pvops pass test-amd64-amd64-xl-qemuu-ovmf-amd64 pass test-amd64-i386-xl-qemuu-ovmf-amd64 pass ------------------------------------------------------------ sg-report-flight on osstest.test-lab.xenproject.org logs: /home/logs/logs images: /home/logs/images Logs, config files, etc. are available at http://logs.test-lab.xenproject.org/osstest/logs Explanation of these reports, and of osstest in general, is at http://xenbits.xen.org/gitweb/?p=osstest.git;a=blob;f=README.email;hb=master http://xenbits.xen.org/gitweb/?p=osstest.git;a=blob;f=README;hb=master Test harness code can be found at http://xenbits.xen.org/gitweb?p=osstest.git;a=summary Pushing revision : To xenbits.xen.org:/home/xen/git/osstest/ovmf.git 07c0c2eb0a..16779ede2d 16779ede2d366bfc6b702e817356ccf43425bcc8 -> xen-tested-master
