This run is configured for baseline tests only.

flight 74605 xen-unstable real [real]
http://osstest.xs.citrite.net/~osstest/testlogs/logs/74605/

Failures and problems with tests :-(

Tests which did not succeed and are blocking,
including tests which could not be run:
 build-arm64                     <job status>                 broken
 build-amd64                     <job status>                 broken
 build-amd64-prev                <job status>                 broken
 build-armhf-pvops               <job status>                 broken
 build-i386                      <job status>                 broken
 build-arm64-xsm                 <job status>                 broken
 build-i386-xsm                  <job status>                 broken
 build-amd64-xtf                 <job status>                 broken
 build-amd64-xsm                 <job status>                 broken
 build-amd64-pvops               <job status>                 broken
 build-i386-pvops                <job status>                 broken
 build-arm64-pvops               <job status>                 broken
 build-armhf-xsm                 <job status>                 broken
 build-armhf                     <job status>                 broken
 build-i386-prev                 <job status>                 broken

Tests which did not succeed, but are not blocking:
 test-amd64-amd64-xl-qemuu-debianhvm-amd64  1 build-check(1)        blocked n/a
 test-amd64-i386-freebsd10-i386  1 build-check(1)               blocked  n/a
 test-amd64-amd64-qemuu-nested-intel  1 build-check(1)              blocked n/a
 test-amd64-i386-libvirt-qemuu-debianhvm-amd64-xsm 1 build-check(1) blocked n/a
 test-xtf-amd64-amd64-1        1 build-check(1)               blocked  n/a
 test-armhf-armhf-xl-midway    1 build-check(1)               blocked  n/a
 test-armhf-armhf-libvirt      1 build-check(1)               blocked  n/a
 test-amd64-i386-xl-qemuu-debianhvm-amd64-xsm  1 build-check(1)     blocked n/a
 test-amd64-i386-xl-qemut-debianhvm-amd64-xsm  1 build-check(1)     blocked n/a
 build-arm64-libvirt           1 build-check(1)               blocked  n/a
 test-amd64-amd64-migrupgrade  1 build-check(1)               blocked  n/a
 test-amd64-i386-xl-qemut-win10-i386  1 build-check(1)              blocked n/a
 test-amd64-amd64-xl-qemut-stubdom-debianhvm-amd64-xsm 1 build-check(1) blocked 
n/a
 test-amd64-i386-xl-qemuu-win10-i386  1 build-check(1)              blocked n/a
 test-armhf-armhf-libvirt-raw  1 build-check(1)               blocked  n/a
 test-arm64-arm64-examine      1 build-check(1)               blocked  n/a
 test-amd64-i386-libvirt-xsm   1 build-check(1)               blocked  n/a
 test-amd64-amd64-xl-multivcpu  1 build-check(1)               blocked  n/a
 test-amd64-i386-examine       1 build-check(1)               blocked  n/a
 test-amd64-amd64-libvirt      1 build-check(1)               blocked  n/a
 test-amd64-i386-xl-qemut-ws16-amd64  1 build-check(1)              blocked n/a
 test-amd64-amd64-xl-qemut-win10-i386  1 build-check(1)             blocked n/a
 test-amd64-i386-xl-qemut-debianhvm-amd64  1 build-check(1)         blocked n/a
 test-amd64-i386-qemut-rhel6hvm-intel  1 build-check(1)             blocked n/a
 test-amd64-i386-freebsd10-amd64  1 build-check(1)               blocked  n/a
 test-amd64-amd64-pair         1 build-check(1)               blocked  n/a
 test-armhf-armhf-xl-credit2   1 build-check(1)               blocked  n/a
 build-i386-rumprun            1 build-check(1)               blocked  n/a
 test-amd64-amd64-xl-qemuu-win10-i386  1 build-check(1)             blocked n/a
 test-amd64-amd64-xl-qemuu-win7-amd64  1 build-check(1)             blocked n/a
 test-amd64-amd64-libvirt-qemuu-debianhvm-amd64-xsm 1 build-check(1) blocked n/a
 test-amd64-amd64-pygrub       1 build-check(1)               blocked  n/a
 test-amd64-i386-xl-qemuu-ws16-amd64  1 build-check(1)              blocked n/a
 test-amd64-amd64-xl-qcow2     1 build-check(1)               blocked  n/a
 test-amd64-amd64-amd64-pvgrub  1 build-check(1)               blocked  n/a
 test-xtf-amd64-amd64-2        1 build-check(1)               blocked  n/a
 test-amd64-amd64-xl-qemut-win7-amd64  1 build-check(1)             blocked n/a
 test-amd64-i386-xl-qemuu-debianhvm-amd64  1 build-check(1)         blocked n/a
 test-armhf-armhf-libvirt-xsm  1 build-check(1)               blocked  n/a
 build-amd64-rumprun           1 build-check(1)               blocked  n/a
 test-amd64-i386-xl            1 build-check(1)               blocked  n/a
 build-i386-libvirt            1 build-check(1)               blocked  n/a
 test-amd64-i386-libvirt-pair  1 build-check(1)               blocked  n/a
 test-amd64-i386-livepatch     1 build-check(1)               blocked  n/a
 test-xtf-amd64-amd64-4        1 build-check(1)               blocked  n/a
 test-amd64-amd64-xl-qemuu-ovmf-amd64  1 build-check(1)             blocked n/a
 test-amd64-amd64-libvirt-vhd  1 build-check(1)               blocked  n/a
 test-arm64-arm64-libvirt-xsm  1 build-check(1)               blocked  n/a
 test-amd64-amd64-xl-credit2   1 build-check(1)               blocked  n/a
 test-armhf-armhf-xl-multivcpu  1 build-check(1)               blocked  n/a
 test-amd64-i386-xl-xsm        1 build-check(1)               blocked  n/a
 build-amd64-libvirt           1 build-check(1)               blocked  n/a
 test-amd64-amd64-rumprun-amd64  1 build-check(1)               blocked  n/a
 test-amd64-amd64-xl-qemuu-debianhvm-amd64-xsm  1 build-check(1)    blocked n/a
 test-amd64-i386-xl-qemuu-ovmf-amd64  1 build-check(1)              blocked n/a
 test-xtf-amd64-amd64-3        1 build-check(1)               blocked  n/a
 test-amd64-i386-xl-raw        1 build-check(1)               blocked  n/a
 test-amd64-amd64-i386-pvgrub  1 build-check(1)               blocked  n/a
 test-amd64-i386-qemuu-rhel6hvm-amd  1 build-check(1)               blocked n/a
 test-amd64-amd64-xl-qemut-ws16-amd64  1 build-check(1)             blocked n/a
 test-xtf-amd64-amd64-5        1 build-check(1)               blocked  n/a
 test-arm64-arm64-xl           1 build-check(1)               blocked  n/a
 test-amd64-amd64-xl-qemuu-ws16-amd64  1 build-check(1)             blocked n/a
 build-armhf-libvirt           1 build-check(1)               blocked  n/a
 test-amd64-amd64-libvirt-pair  1 build-check(1)               blocked  n/a
 test-amd64-i386-libvirt       1 build-check(1)               blocked  n/a
 test-amd64-amd64-xl-pvhv2-intel  1 build-check(1)               blocked  n/a
 test-armhf-armhf-examine      1 build-check(1)               blocked  n/a
 test-armhf-armhf-xl           1 build-check(1)               blocked  n/a
 test-amd64-amd64-libvirt-xsm  1 build-check(1)               blocked  n/a
 test-amd64-amd64-xl-xsm       1 build-check(1)               blocked  n/a
 test-amd64-i386-qemuu-rhel6hvm-intel  1 build-check(1)             blocked n/a
 test-armhf-armhf-xl-vhd       1 build-check(1)               blocked  n/a
 test-amd64-i386-migrupgrade   1 build-check(1)               blocked  n/a
 test-amd64-i386-xl-qemuu-win7-amd64  1 build-check(1)              blocked n/a
 test-amd64-amd64-xl           1 build-check(1)               blocked  n/a
 test-arm64-arm64-xl-credit2   1 build-check(1)               blocked  n/a
 test-amd64-i386-pair          1 build-check(1)               blocked  n/a
 test-amd64-i386-rumprun-i386  1 build-check(1)               blocked  n/a
 test-amd64-amd64-xl-pvhv2-amd  1 build-check(1)               blocked  n/a
 test-amd64-amd64-qemuu-nested-amd  1 build-check(1)               blocked  n/a
 test-amd64-i386-xl-qemut-stubdom-debianhvm-amd64-xsm 1 build-check(1) blocked 
n/a
 test-amd64-i386-xl-qemut-win7-amd64  1 build-check(1)              blocked n/a
 test-amd64-i386-qemut-rhel6hvm-amd  1 build-check(1)               blocked n/a
 test-amd64-amd64-examine      1 build-check(1)               blocked  n/a
 test-armhf-armhf-xl-rtds      1 build-check(1)               blocked  n/a
 test-amd64-amd64-livepatch    1 build-check(1)               blocked  n/a
 test-amd64-amd64-xl-qemut-debianhvm-amd64  1 build-check(1)        blocked n/a
 test-amd64-amd64-xl-qemut-debianhvm-amd64-xsm  1 build-check(1)    blocked n/a
 test-armhf-armhf-xl-xsm       1 build-check(1)               blocked  n/a
 test-amd64-amd64-xl-rtds      1 build-check(1)               blocked  n/a
 test-arm64-arm64-xl-xsm       1 build-check(1)               blocked  n/a
 build-i386-prev               4 host-install(4)       broken baseline untested
 build-i386-xsm                4 host-install(4)       broken baseline untested
 build-amd64                   4 host-install(4)       broken baseline untested
 build-i386                    4 host-install(4)       broken baseline untested
 build-amd64-pvops             4 host-install(4)       broken baseline untested
 build-i386-pvops              4 host-install(4)       broken baseline untested
 build-amd64-prev              4 host-install(4)       broken baseline untested
 build-amd64-xtf               4 host-install(4)       broken baseline untested
 build-armhf-pvops             4 host-install(4)       broken baseline untested
 build-armhf                   4 host-install(4)       broken baseline untested
 build-armhf-xsm               4 host-install(4)       broken baseline untested
 build-amd64-xsm               4 host-install(4)       broken baseline untested
 build-arm64-xsm               2 hosts-allocate               broken never pass
 build-arm64                   2 hosts-allocate               broken never pass
 build-arm64-xsm               3 capture-logs                 broken never pass
 build-arm64                   3 capture-logs                 broken never pass
 build-arm64-pvops             2 hosts-allocate               broken never pass
 build-arm64-pvops             3 capture-logs                 broken never pass

version targeted for testing:
 xen                  82540b66ceb9318aa185f2488cbbbe479694de8f
baseline version:
 xen                  50f8ba84a50ebf80dd22067a04062dbaaf2621ff

Last test of basis    74582  2018-04-12 07:46:44 Z    2 days
Testing same since    74605  2018-04-14 06:15:55 Z    0 days    1 attempts

------------------------------------------------------------
People who touched revisions under test:
  Andrew Cooper <andrew.coop...@citrix.com>
  Jan Beulich <jbeul...@suse.com>
  Kevin Tian <kevin.t...@intel.com>

jobs:
 build-amd64-xsm                                              broken  
 build-arm64-xsm                                              broken  
 build-armhf-xsm                                              broken  
 build-i386-xsm                                               broken  
 build-amd64-xtf                                              broken  
 build-amd64                                                  broken  
 build-arm64                                                  broken  
 build-armhf                                                  broken  
 build-i386                                                   broken  
 build-amd64-libvirt                                          blocked 
 build-arm64-libvirt                                          blocked 
 build-armhf-libvirt                                          blocked 
 build-i386-libvirt                                           blocked 
 build-amd64-prev                                             broken  
 build-i386-prev                                              broken  
 build-amd64-pvops                                            broken  
 build-arm64-pvops                                            broken  
 build-armhf-pvops                                            broken  
 build-i386-pvops                                             broken  
 build-amd64-rumprun                                          blocked 
 build-i386-rumprun                                           blocked 
 test-xtf-amd64-amd64-1                                       blocked 
 test-xtf-amd64-amd64-2                                       blocked 
 test-xtf-amd64-amd64-3                                       blocked 
 test-xtf-amd64-amd64-4                                       blocked 
 test-xtf-amd64-amd64-5                                       blocked 
 test-amd64-amd64-xl                                          blocked 
 test-arm64-arm64-xl                                          blocked 
 test-armhf-armhf-xl                                          blocked 
 test-amd64-i386-xl                                           blocked 
 test-amd64-amd64-xl-qemut-debianhvm-amd64-xsm                blocked 
 test-amd64-i386-xl-qemut-debianhvm-amd64-xsm                 blocked 
 test-amd64-amd64-libvirt-qemuu-debianhvm-amd64-xsm           blocked 
 test-amd64-i386-libvirt-qemuu-debianhvm-amd64-xsm            blocked 
 test-amd64-amd64-xl-qemuu-debianhvm-amd64-xsm                blocked 
 test-amd64-i386-xl-qemuu-debianhvm-amd64-xsm                 blocked 
 test-amd64-amd64-xl-qemut-stubdom-debianhvm-amd64-xsm        blocked 
 test-amd64-i386-xl-qemut-stubdom-debianhvm-amd64-xsm         blocked 
 test-amd64-amd64-libvirt-xsm                                 blocked 
 test-arm64-arm64-libvirt-xsm                                 blocked 
 test-armhf-armhf-libvirt-xsm                                 blocked 
 test-amd64-i386-libvirt-xsm                                  blocked 
 test-amd64-amd64-xl-xsm                                      blocked 
 test-arm64-arm64-xl-xsm                                      blocked 
 test-armhf-armhf-xl-xsm                                      blocked 
 test-amd64-i386-xl-xsm                                       blocked 
 test-amd64-amd64-qemuu-nested-amd                            blocked 
 test-amd64-amd64-xl-pvhv2-amd                                blocked 
 test-amd64-i386-qemut-rhel6hvm-amd                           blocked 
 test-amd64-i386-qemuu-rhel6hvm-amd                           blocked 
 test-amd64-amd64-xl-qemut-debianhvm-amd64                    blocked 
 test-amd64-i386-xl-qemut-debianhvm-amd64                     blocked 
 test-amd64-amd64-xl-qemuu-debianhvm-amd64                    blocked 
 test-amd64-i386-xl-qemuu-debianhvm-amd64                     blocked 
 test-amd64-i386-freebsd10-amd64                              blocked 
 test-amd64-amd64-xl-qemuu-ovmf-amd64                         blocked 
 test-amd64-i386-xl-qemuu-ovmf-amd64                          blocked 
 test-amd64-amd64-rumprun-amd64                               blocked 
 test-amd64-amd64-xl-qemut-win7-amd64                         blocked 
 test-amd64-i386-xl-qemut-win7-amd64                          blocked 
 test-amd64-amd64-xl-qemuu-win7-amd64                         blocked 
 test-amd64-i386-xl-qemuu-win7-amd64                          blocked 
 test-amd64-amd64-xl-qemut-ws16-amd64                         blocked 
 test-amd64-i386-xl-qemut-ws16-amd64                          blocked 
 test-amd64-amd64-xl-qemuu-ws16-amd64                         blocked 
 test-amd64-i386-xl-qemuu-ws16-amd64                          blocked 
 test-amd64-amd64-xl-credit2                                  blocked 
 test-arm64-arm64-xl-credit2                                  blocked 
 test-armhf-armhf-xl-credit2                                  blocked 
 test-amd64-amd64-examine                                     blocked 
 test-arm64-arm64-examine                                     blocked 
 test-armhf-armhf-examine                                     blocked 
 test-amd64-i386-examine                                      blocked 
 test-amd64-i386-freebsd10-i386                               blocked 
 test-amd64-i386-rumprun-i386                                 blocked 
 test-amd64-amd64-xl-qemut-win10-i386                         blocked 
 test-amd64-i386-xl-qemut-win10-i386                          blocked 
 test-amd64-amd64-xl-qemuu-win10-i386                         blocked 
 test-amd64-i386-xl-qemuu-win10-i386                          blocked 
 test-amd64-amd64-qemuu-nested-intel                          blocked 
 test-amd64-amd64-xl-pvhv2-intel                              blocked 
 test-amd64-i386-qemut-rhel6hvm-intel                         blocked 
 test-amd64-i386-qemuu-rhel6hvm-intel                         blocked 
 test-amd64-amd64-libvirt                                     blocked 
 test-armhf-armhf-libvirt                                     blocked 
 test-amd64-i386-libvirt                                      blocked 
 test-amd64-amd64-livepatch                                   blocked 
 test-amd64-i386-livepatch                                    blocked 
 test-armhf-armhf-xl-midway                                   blocked 
 test-amd64-amd64-migrupgrade                                 blocked 
 test-amd64-i386-migrupgrade                                  blocked 
 test-amd64-amd64-xl-multivcpu                                blocked 
 test-armhf-armhf-xl-multivcpu                                blocked 
 test-amd64-amd64-pair                                        blocked 
 test-amd64-i386-pair                                         blocked 
 test-amd64-amd64-libvirt-pair                                blocked 
 test-amd64-i386-libvirt-pair                                 blocked 
 test-amd64-amd64-amd64-pvgrub                                blocked 
 test-amd64-amd64-i386-pvgrub                                 blocked 
 test-amd64-amd64-pygrub                                      blocked 
 test-amd64-amd64-xl-qcow2                                    blocked 
 test-armhf-armhf-libvirt-raw                                 blocked 
 test-amd64-i386-xl-raw                                       blocked 
 test-amd64-amd64-xl-rtds                                     blocked 
 test-armhf-armhf-xl-rtds                                     blocked 
 test-amd64-amd64-libvirt-vhd                                 blocked 
 test-armhf-armhf-xl-vhd                                      blocked 


------------------------------------------------------------
sg-report-flight on osstest.xs.citrite.net
logs: /home/osstest/logs
images: /home/osstest/images

Logs, config files, etc. are available at
    http://osstest.xs.citrite.net/~osstest/testlogs/logs

Test harness code can be found at
    http://xenbits.xensource.com/gitweb?p=osstest.git;a=summary

broken-job build-arm64 broken
broken-job build-amd64 broken
broken-job build-amd64-prev broken
broken-job build-armhf-pvops broken
broken-job build-i386 broken
broken-job build-arm64-xsm broken
broken-job build-i386-xsm broken
broken-job build-amd64-xtf broken
broken-job build-amd64-xsm broken
broken-job build-amd64-pvops broken
broken-job build-i386-pvops broken
broken-job build-arm64-pvops broken
broken-job build-armhf-xsm broken
broken-job build-armhf broken
broken-job build-i386-prev broken
broken-step build-arm64-xsm hosts-allocate
broken-step build-arm64 hosts-allocate
broken-step build-arm64-xsm capture-logs
broken-step build-arm64 capture-logs
broken-step build-arm64-pvops hosts-allocate
broken-step build-arm64-pvops capture-logs
broken-step build-i386-prev host-install(4)
broken-step build-i386-xsm host-install(4)
broken-step build-amd64 host-install(4)
broken-step build-i386 host-install(4)
broken-step build-amd64-pvops host-install(4)
broken-step build-i386-pvops host-install(4)
broken-step build-amd64-prev host-install(4)
broken-step build-amd64-xtf host-install(4)
broken-step build-armhf-pvops host-install(4)
broken-step build-armhf host-install(4)
broken-step build-armhf-xsm host-install(4)
broken-step build-amd64-xsm host-install(4)

Push not applicable.

------------------------------------------------------------
commit 82540b66ceb9318aa185f2488cbbbe479694de8f
Author: Andrew Cooper <andrew.coop...@citrix.com>
Date:   Mon Apr 9 18:56:03 2018 +0100

    x86/VT-x: Fix determination of EFER.LMA in vmcs_dump_vcpu()
    
    The LMA setting comes from the entry controls.
    
    Signed-off-by: Andrew Cooper <andrew.coop...@citrix.com>
    Acked-by: Kevin Tian <kevin.t...@intel.com>
    Release-acked-by: Juergen Gross <jgr...@suse.com>

commit 91afb8139f954a06e564d4915bc7d6a8575e2812
Author: Jan Beulich <jbeul...@suse.com>
Date:   Wed Apr 11 10:42:24 2018 +0200

    x86/HVM: suppress I/O completion for port output
    
    We don't break up port requests in case they cross emulation entity
    boundaries, and a write to an I/O port is necessarily the last
    operation of an instruction instance, so there's no need to re-invoke
    the full emulation path upon receiving the result from an external
    emulator.
    
    In case we want to properly split port accesses in the future, this
    change will need to be reverted, as it would prevent things working
    correctly when e.g. the first part needs to go to an external emulator,
    while the second part is to be handled internally.
    
    While this addresses the reported problem of Windows paging out the
    buffer underneath an in-process REP OUTS, it does not address the wider
    problem of the re-issued insn (to the insn emulator) being prone to
    raise an exception (#PF) during a replayed, previously successful memory
    access (we only record prior MMIO accesses).
    
    Leaving aside the problem tried to be worked around here, I think the
    performance aspect alone is a good reason to change the behavior.
    
    Also take the opportunity and change bool_t -> bool as
    hvm_vcpu_io_need_completion()'s return type.
    
    Signed-off-by: Jan Beulich <jbeul...@suse.com>
    Reviewed-by: Paul Durrant <paul.durr...@citrix.com>
    Release-acked-by: Juergen Gross <jgr...@suse.com>
(qemu changes not included)

_______________________________________________
Xen-devel mailing list
Xen-devel@lists.xenproject.org
https://lists.xenproject.org/mailman/listinfo/xen-devel

Reply via email to