flight 122292 ovmf real [real]
http://logs.test-lab.xenproject.org/osstest/logs/122292/

Perfect :-)
All tests in this flight passed as required
version targeted for testing:
 ovmf                 e7df35b2bc53aecaca0792398f5d0ad163e50abb
baseline version:
 ovmf                 2167c7f7a55b9964912d08aae71879357101ace1

Last test of basis   122250  2018-04-13 12:52:24 Z    1 days
Testing same since   122292  2018-04-15 01:00:47 Z    0 days    1 attempts

------------------------------------------------------------
People who touched revisions under test:
  Feng, YunhuaX <yunhuax.f...@intel.com>
  Yunhua Feng <yunhuax.f...@intel.com>

jobs:
 build-amd64-xsm                                              pass    
 build-i386-xsm                                               pass    
 build-amd64                                                  pass    
 build-i386                                                   pass    
 build-amd64-libvirt                                          pass    
 build-i386-libvirt                                           pass    
 build-amd64-pvops                                            pass    
 build-i386-pvops                                             pass    
 test-amd64-amd64-xl-qemuu-ovmf-amd64                         pass    
 test-amd64-i386-xl-qemuu-ovmf-amd64                          pass    


------------------------------------------------------------
sg-report-flight on osstest.test-lab.xenproject.org
logs: /home/logs/logs
images: /home/logs/images

Logs, config files, etc. are available at
    http://logs.test-lab.xenproject.org/osstest/logs

Explanation of these reports, and of osstest in general, is at
    http://xenbits.xen.org/gitweb/?p=osstest.git;a=blob;f=README.email;hb=master
    http://xenbits.xen.org/gitweb/?p=osstest.git;a=blob;f=README;hb=master

Test harness code can be found at
    http://xenbits.xen.org/gitweb?p=osstest.git;a=summary


Pushing revision :

To xenbits.xen.org:/home/xen/git/osstest/ovmf.git
   2167c7f7a5..e7df35b2bc  e7df35b2bc53aecaca0792398f5d0ad163e50abb -> 
xen-tested-master

_______________________________________________
Xen-devel mailing list
Xen-devel@lists.xenproject.org
https://lists.xenproject.org/mailman/listinfo/xen-devel

Reply via email to