flight 122311 ovmf real [real]
http://logs.test-lab.xenproject.org/osstest/logs/122311/

Perfect :-)
All tests in this flight passed as required
version targeted for testing:
 ovmf                 b85b20fba42e25ff658ed1a470250d530c189027
baseline version:
 ovmf                 e7df35b2bc53aecaca0792398f5d0ad163e50abb

Last test of basis   122292  2018-04-15 01:00:47 Z    0 days
Testing same since   122311  2018-04-15 13:17:20 Z    0 days    1 attempts

------------------------------------------------------------
People who touched revisions under test:
  Laszlo Ersek <ler...@redhat.com>
  Long Qin <qin.l...@intel.com>

jobs:
 build-amd64-xsm                                              pass    
 build-i386-xsm                                               pass    
 build-amd64                                                  pass    
 build-i386                                                   pass    
 build-amd64-libvirt                                          pass    
 build-i386-libvirt                                           pass    
 build-amd64-pvops                                            pass    
 build-i386-pvops                                             pass    
 test-amd64-amd64-xl-qemuu-ovmf-amd64                         pass    
 test-amd64-i386-xl-qemuu-ovmf-amd64                          pass    


------------------------------------------------------------
sg-report-flight on osstest.test-lab.xenproject.org
logs: /home/logs/logs
images: /home/logs/images

Logs, config files, etc. are available at
    http://logs.test-lab.xenproject.org/osstest/logs

Explanation of these reports, and of osstest in general, is at
    http://xenbits.xen.org/gitweb/?p=osstest.git;a=blob;f=README.email;hb=master
    http://xenbits.xen.org/gitweb/?p=osstest.git;a=blob;f=README;hb=master

Test harness code can be found at
    http://xenbits.xen.org/gitweb?p=osstest.git;a=summary


Pushing revision :

To xenbits.xen.org:/home/xen/git/osstest/ovmf.git
   e7df35b2bc..b85b20fba4  b85b20fba42e25ff658ed1a470250d530c189027 -> 
xen-tested-master

_______________________________________________
Xen-devel mailing list
Xen-devel@lists.xenproject.org
https://lists.xenproject.org/mailman/listinfo/xen-devel

Reply via email to