flight 174734 ovmf real [real] http://logs.test-lab.xenproject.org/osstest/logs/174734/
Perfect :-) All tests in this flight passed as required version targeted for testing: ovmf 6d55ad9a592ba3bbc9392a67fd8c936279b73a45 baseline version: ovmf c8fb7240469b5753773da4fa5710b870b790c363 Last test of basis 174730 2022-11-11 03:48:41 Z 0 days Testing same since 174734 2022-11-11 06:10:20 Z 0 days 1 attempts ------------------------------------------------------------ People who touched revisions under test: Kuo, Ted <[email protected]> Leif Lindholm <[email protected]> Michael D Kinney <[email protected]> Ted Kuo <[email protected]> jobs: build-amd64-xsm pass build-i386-xsm pass build-amd64 pass build-i386 pass build-amd64-libvirt pass build-i386-libvirt pass build-amd64-pvops pass build-i386-pvops pass test-amd64-amd64-xl-qemuu-ovmf-amd64 pass test-amd64-i386-xl-qemuu-ovmf-amd64 pass ------------------------------------------------------------ sg-report-flight on osstest.test-lab.xenproject.org logs: /home/logs/logs images: /home/logs/images Logs, config files, etc. are available at http://logs.test-lab.xenproject.org/osstest/logs Explanation of these reports, and of osstest in general, is at http://xenbits.xen.org/gitweb/?p=osstest.git;a=blob;f=README.email;hb=master http://xenbits.xen.org/gitweb/?p=osstest.git;a=blob;f=README;hb=master Test harness code can be found at http://xenbits.xen.org/gitweb?p=osstest.git;a=summary Pushing revision : To xenbits.xen.org:/home/xen/git/osstest/ovmf.git c8fb724046..6d55ad9a59 6d55ad9a592ba3bbc9392a67fd8c936279b73a45 -> xen-tested-master
