flight 183041 ovmf real [real]
http://logs.test-lab.xenproject.org/osstest/logs/183041/

Perfect :-)
All tests in this flight passed as required
version targeted for testing:
 ovmf                 cbcf0428e83bbe8314de47207072b3b4f1557dc6
baseline version:
 ovmf                 408e4631359d3e67633b36f6adf9a13a7cc573d3

Last test of basis   183037  2023-09-18 21:41:56 Z    0 days
Testing same since   183041  2023-09-19 01:40:54 Z    0 days    1 attempts

------------------------------------------------------------
People who touched revisions under test:
  Ard Biesheuvel <[email protected]>
  Michael Kubacki <[email protected]>
  Sami Mujawar <[email protected]>

jobs:
 build-amd64-xsm                                              pass    
 build-i386-xsm                                               pass    
 build-amd64                                                  pass    
 build-i386                                                   pass    
 build-amd64-libvirt                                          pass    
 build-i386-libvirt                                           pass    
 build-amd64-pvops                                            pass    
 build-i386-pvops                                             pass    
 test-amd64-amd64-xl-qemuu-ovmf-amd64                         pass    
 test-amd64-i386-xl-qemuu-ovmf-amd64                          pass    


------------------------------------------------------------
sg-report-flight on osstest.test-lab.xenproject.org
logs: /home/logs/logs
images: /home/logs/images

Logs, config files, etc. are available at
    http://logs.test-lab.xenproject.org/osstest/logs

Explanation of these reports, and of osstest in general, is at
    http://xenbits.xen.org/gitweb/?p=osstest.git;a=blob;f=README.email;hb=master
    http://xenbits.xen.org/gitweb/?p=osstest.git;a=blob;f=README;hb=master

Test harness code can be found at
    http://xenbits.xen.org/gitweb?p=osstest.git;a=summary


Pushing revision :

To xenbits.xen.org:/home/xen/git/osstest/ovmf.git
   408e463135..cbcf0428e8  cbcf0428e83bbe8314de47207072b3b4f1557dc6 -> 
xen-tested-master

Reply via email to