flight 183864 linux-linus real [real]
http://logs.test-lab.xenproject.org/osstest/logs/183864/

Failures and problems with tests :-(

Tests which did not succeed and are blocking,
including tests which could not be run:
 build-amd64                     <job status>                 broken
 build-amd64-pvops               <job status>                 broken
 build-amd64-xsm                 <job status>                 broken
 build-arm64                     <job status>                 broken
 build-arm64-pvops               <job status>                 broken
 build-arm64-xsm                 <job status>                 broken
 build-armhf-pvops               <job status>                 broken
 build-i386                      <job status>                 broken
 build-i386-pvops                <job status>                 broken
 build-i386-xsm                  <job status>                 broken
 build-i386-xsm                4 host-install(4)        broken REGR. vs. 183859
 build-i386-pvops              4 host-install(4)        broken REGR. vs. 183859
 build-i386                    4 host-install(4)        broken REGR. vs. 183859
 build-arm64                   4 host-install(4)        broken REGR. vs. 183859
 build-arm64-xsm               4 host-install(4)        broken REGR. vs. 183859
 build-arm64-pvops             4 host-install(4)        broken REGR. vs. 183859
 build-armhf-pvops             4 host-install(4)        broken REGR. vs. 183859
 build-amd64                   4 host-install(4)        broken REGR. vs. 183859
 build-amd64-xsm               4 host-install(4)        broken REGR. vs. 183859
 build-amd64-pvops             4 host-install(4)        broken REGR. vs. 183859

Tests which did not succeed, but are not blocking:
 test-arm64-arm64-libvirt-xsm  1 build-check(1)               blocked  n/a
 test-arm64-arm64-xl           1 build-check(1)               blocked  n/a
 test-arm64-arm64-xl-credit1   1 build-check(1)               blocked  n/a
 test-arm64-arm64-xl-credit2   1 build-check(1)               blocked  n/a
 test-arm64-arm64-xl-thunderx  1 build-check(1)               blocked  n/a
 test-arm64-arm64-xl-vhd       1 build-check(1)               blocked  n/a
 test-arm64-arm64-xl-xsm       1 build-check(1)               blocked  n/a
 test-armhf-armhf-examine      1 build-check(1)               blocked  n/a
 test-armhf-armhf-libvirt      1 build-check(1)               blocked  n/a
 test-armhf-armhf-libvirt-qcow2  1 build-check(1)               blocked  n/a
 test-armhf-armhf-libvirt-raw  1 build-check(1)               blocked  n/a
 test-armhf-armhf-xl           1 build-check(1)               blocked  n/a
 test-armhf-armhf-xl-arndale   1 build-check(1)               blocked  n/a
 test-armhf-armhf-xl-credit1   1 build-check(1)               blocked  n/a
 test-armhf-armhf-xl-credit2   1 build-check(1)               blocked  n/a
 test-armhf-armhf-xl-multivcpu  1 build-check(1)               blocked  n/a
 test-armhf-armhf-xl-rtds      1 build-check(1)               blocked  n/a
 test-armhf-armhf-xl-vhd       1 build-check(1)               blocked  n/a
 test-arm64-arm64-examine      1 build-check(1)               blocked  n/a
 test-amd64-coresched-amd64-xl  1 build-check(1)               blocked  n/a
 test-amd64-amd64-xl-xsm       1 build-check(1)               blocked  n/a
 test-amd64-amd64-xl-vhd       1 build-check(1)               blocked  n/a
 test-amd64-amd64-xl-shadow    1 build-check(1)               blocked  n/a
 test-amd64-amd64-xl-rtds      1 build-check(1)               blocked  n/a
 test-amd64-amd64-xl-qemuu-ws16-amd64  1 build-check(1)             blocked n/a
 test-amd64-amd64-xl-qemuu-win7-amd64  1 build-check(1)             blocked n/a
 test-amd64-amd64-xl-qemuu-ovmf-amd64  1 build-check(1)             blocked n/a
 test-amd64-amd64-xl-qemuu-dmrestrict-amd64-dmrestrict 1 build-check(1) blocked 
n/a
 test-amd64-amd64-xl-qemuu-debianhvm-i386-xsm  1 build-check(1)     blocked n/a
 test-amd64-amd64-xl-qemuu-debianhvm-amd64-shadow  1 build-check(1) blocked n/a
 build-amd64-libvirt           1 build-check(1)               blocked  n/a
 test-amd64-amd64-xl-qemuu-debianhvm-amd64  1 build-check(1)        blocked n/a
 test-amd64-amd64-xl-qemut-ws16-amd64  1 build-check(1)             blocked n/a
 build-arm64-libvirt           1 build-check(1)               blocked  n/a
 test-amd64-amd64-xl-qemut-win7-amd64  1 build-check(1)             blocked n/a
 test-amd64-amd64-xl-qemut-stubdom-debianhvm-amd64-xsm 1 build-check(1) blocked 
n/a
 test-amd64-amd64-xl-qemut-debianhvm-i386-xsm  1 build-check(1)     blocked n/a
 test-amd64-amd64-xl-qemut-debianhvm-amd64  1 build-check(1)        blocked n/a
 build-i386-libvirt            1 build-check(1)               blocked  n/a
 test-amd64-amd64-xl-pvshim    1 build-check(1)               blocked  n/a
 test-amd64-amd64-dom0pvh-xl-amd  1 build-check(1)               blocked  n/a
 test-amd64-amd64-xl-pvhv2-intel  1 build-check(1)               blocked  n/a
 test-amd64-amd64-dom0pvh-xl-intel  1 build-check(1)               blocked  n/a
 test-amd64-amd64-xl-pvhv2-amd  1 build-check(1)               blocked  n/a
 test-amd64-amd64-examine      1 build-check(1)               blocked  n/a
 test-amd64-amd64-examine-bios  1 build-check(1)               blocked  n/a
 test-amd64-amd64-examine-uefi  1 build-check(1)               blocked  n/a
 test-amd64-amd64-xl-multivcpu  1 build-check(1)               blocked  n/a
 test-amd64-amd64-freebsd11-amd64  1 build-check(1)               blocked  n/a
 test-amd64-amd64-freebsd12-amd64  1 build-check(1)               blocked  n/a
 test-amd64-amd64-xl-credit2   1 build-check(1)               blocked  n/a
 test-amd64-amd64-libvirt      1 build-check(1)               blocked  n/a
 test-amd64-amd64-libvirt-pair  1 build-check(1)               blocked  n/a
 test-amd64-amd64-xl-credit1   1 build-check(1)               blocked  n/a
 test-amd64-amd64-libvirt-qcow2  1 build-check(1)               blocked  n/a
 test-amd64-amd64-libvirt-qemuu-debianhvm-amd64-xsm 1 build-check(1) blocked n/a
 test-amd64-amd64-xl           1 build-check(1)               blocked  n/a
 test-amd64-amd64-libvirt-raw  1 build-check(1)               blocked  n/a
 test-amd64-amd64-libvirt-xsm  1 build-check(1)               blocked  n/a
 test-amd64-amd64-qemuu-nested-intel  1 build-check(1)              blocked n/a
 test-amd64-amd64-pair         1 build-check(1)               blocked  n/a
 test-amd64-amd64-pygrub       1 build-check(1)               blocked  n/a
 test-amd64-amd64-qemuu-nested-amd  1 build-check(1)               blocked  n/a
 test-arm64-arm64-libvirt-raw  1 build-check(1)               blocked  n/a

version targeted for testing:
 linux                d2da77f431ac49b5763b88751a75f70daa46296c
baseline version:
 linux                b46ae77f67874918c540feb1e37a63308b2c9290

Last test of basis   183859  2023-11-25 22:13:34 Z    1 days
Failing since        183862  2023-11-26 04:55:31 Z    0 days    2 attempts
Testing same since   183864  2023-11-26 18:41:56 Z    0 days    1 attempts

------------------------------------------------------------
People who touched revisions under test:
  Alexander Stein <[email protected]>
  Andrea della Porta <[email protected]>
  Andrew Halaney <[email protected]>
  Asuna Yang <[email protected]>
  Badhri Jagan Sridharan <[email protected]>
  Borislav Petkov (AMD) <[email protected]>
  Christophe JAILLET <[email protected]>
  Chunfeng Yun <[email protected]>
  Conor Dooley <[email protected]>
  Dapeng Mi <[email protected]>
  Francesco Dolcini <[email protected]>
  Gil Fine <[email protected]>
  Greg Kroah-Hartman <[email protected]>
  Hans de Goede <[email protected]>
  Heikki Krogerus <[email protected]>
  Heikki Krogeus <[email protected]>
  Helge Deller <[email protected]>
  Ingo Molnar <[email protected]>
  Ivan Ivanov <[email protected]>
  Johan Hovold <[email protected]>
  Johan Hovold <[email protected]>
  Kent Overstreet <[email protected]>
  Krzysztof Kozlowski <[email protected]>
  Lech Perczak <[email protected]>
  Linus Torvalds <[email protected]>
  Mathias Nyman <[email protected]>
  Matthias Kaehlcke <[email protected]>
  Mika Westerberg <[email protected]>
  Niklas Neronin <[email protected]>
  Oliver Neukum <[email protected]>
  Paulo Alcantara (SUSE) <[email protected]>
  Paulo Alcantara <[email protected]>
  Pawel Laszczak <[email protected]>
  Pengfei Xu <[email protected]>
  Peter Chen <[email protected]>
  Peter Zijlstra (Intel) <[email protected]>
  Peter Zijlstra <[email protected]>
  Puliang Lu <[email protected]>
  Ricardo Ribalda <[email protected]>
  Ritvik Budhiraja <[email protected]>
  Shawn Guo <[email protected]>
  Stanley Chang <[email protected]>
  Stefan Eichenberger <[email protected]>
  Steve French <[email protected]>
  Thinh Nguyen <[email protected]>
  Victor Fragoso <[email protected]>
  Wentong Wu <[email protected]>
  Will McVicker <[email protected]>
  Yangyu Chen <[email protected]>

jobs:
 build-amd64-xsm                                              broken  
 build-arm64-xsm                                              broken  
 build-i386-xsm                                               broken  
 build-amd64                                                  broken  
 build-arm64                                                  broken  
 build-armhf                                                  pass    
 build-i386                                                   broken  
 build-amd64-libvirt                                          blocked 
 build-arm64-libvirt                                          blocked 
 build-armhf-libvirt                                          pass    
 build-i386-libvirt                                           blocked 
 build-amd64-pvops                                            broken  
 build-arm64-pvops                                            broken  
 build-armhf-pvops                                            broken  
 build-i386-pvops                                             broken  
 test-amd64-amd64-xl                                          blocked 
 test-amd64-coresched-amd64-xl                                blocked 
 test-arm64-arm64-xl                                          blocked 
 test-armhf-armhf-xl                                          blocked 
 test-amd64-amd64-libvirt-qemuu-debianhvm-amd64-xsm           blocked 
 test-amd64-amd64-xl-qemut-stubdom-debianhvm-amd64-xsm        blocked 
 test-amd64-amd64-xl-qemut-debianhvm-i386-xsm                 blocked 
 test-amd64-amd64-xl-qemuu-debianhvm-i386-xsm                 blocked 
 test-amd64-amd64-libvirt-xsm                                 blocked 
 test-arm64-arm64-libvirt-xsm                                 blocked 
 test-amd64-amd64-xl-xsm                                      blocked 
 test-arm64-arm64-xl-xsm                                      blocked 
 test-amd64-amd64-qemuu-nested-amd                            blocked 
 test-amd64-amd64-xl-pvhv2-amd                                blocked 
 test-amd64-amd64-dom0pvh-xl-amd                              blocked 
 test-amd64-amd64-xl-qemut-debianhvm-amd64                    blocked 
 test-amd64-amd64-xl-qemuu-debianhvm-amd64                    blocked 
 test-amd64-amd64-freebsd11-amd64                             blocked 
 test-amd64-amd64-freebsd12-amd64                             blocked 
 test-amd64-amd64-xl-qemuu-ovmf-amd64                         blocked 
 test-amd64-amd64-xl-qemut-win7-amd64                         blocked 
 test-amd64-amd64-xl-qemuu-win7-amd64                         blocked 
 test-amd64-amd64-xl-qemut-ws16-amd64                         blocked 
 test-amd64-amd64-xl-qemuu-ws16-amd64                         blocked 
 test-armhf-armhf-xl-arndale                                  blocked 
 test-amd64-amd64-examine-bios                                blocked 
 test-amd64-amd64-xl-credit1                                  blocked 
 test-arm64-arm64-xl-credit1                                  blocked 
 test-armhf-armhf-xl-credit1                                  blocked 
 test-amd64-amd64-xl-credit2                                  blocked 
 test-arm64-arm64-xl-credit2                                  blocked 
 test-armhf-armhf-xl-credit2                                  blocked 
 test-amd64-amd64-xl-qemuu-dmrestrict-amd64-dmrestrict        blocked 
 test-amd64-amd64-examine                                     blocked 
 test-arm64-arm64-examine                                     blocked 
 test-armhf-armhf-examine                                     blocked 
 test-amd64-amd64-qemuu-nested-intel                          blocked 
 test-amd64-amd64-xl-pvhv2-intel                              blocked 
 test-amd64-amd64-dom0pvh-xl-intel                            blocked 
 test-amd64-amd64-libvirt                                     blocked 
 test-armhf-armhf-libvirt                                     blocked 
 test-amd64-amd64-xl-multivcpu                                blocked 
 test-armhf-armhf-xl-multivcpu                                blocked 
 test-amd64-amd64-pair                                        blocked 
 test-amd64-amd64-libvirt-pair                                blocked 
 test-amd64-amd64-xl-pvshim                                   blocked 
 test-amd64-amd64-pygrub                                      blocked 
 test-amd64-amd64-libvirt-qcow2                               blocked 
 test-armhf-armhf-libvirt-qcow2                               blocked 
 test-amd64-amd64-libvirt-raw                                 blocked 
 test-arm64-arm64-libvirt-raw                                 blocked 
 test-armhf-armhf-libvirt-raw                                 blocked 
 test-amd64-amd64-xl-rtds                                     blocked 
 test-armhf-armhf-xl-rtds                                     blocked 
 test-amd64-amd64-xl-qemuu-debianhvm-amd64-shadow             blocked 
 test-amd64-amd64-xl-shadow                                   blocked 
 test-arm64-arm64-xl-thunderx                                 blocked 
 test-amd64-amd64-examine-uefi                                blocked 
 test-amd64-amd64-xl-vhd                                      blocked 
 test-arm64-arm64-xl-vhd                                      blocked 
 test-armhf-armhf-xl-vhd                                      blocked 


------------------------------------------------------------
sg-report-flight on osstest.test-lab.xenproject.org
logs: /home/logs/logs
images: /home/logs/images

Logs, config files, etc. are available at
    http://logs.test-lab.xenproject.org/osstest/logs

Explanation of these reports, and of osstest in general, is at
    http://xenbits.xen.org/gitweb/?p=osstest.git;a=blob;f=README.email;hb=master
    http://xenbits.xen.org/gitweb/?p=osstest.git;a=blob;f=README;hb=master

Test harness code can be found at
    http://xenbits.xen.org/gitweb?p=osstest.git;a=summary

broken-job build-amd64 broken
broken-job build-amd64-pvops broken
broken-job build-amd64-xsm broken
broken-job build-arm64 broken
broken-job build-arm64-pvops broken
broken-job build-arm64-xsm broken
broken-job build-armhf-pvops broken
broken-job build-i386 broken
broken-job build-i386-pvops broken
broken-job build-i386-xsm broken
broken-step build-i386-xsm host-install(4)
broken-step build-i386-pvops host-install(4)
broken-step build-i386 host-install(4)
broken-step build-arm64 host-install(4)
broken-step build-arm64-xsm host-install(4)
broken-step build-arm64-pvops host-install(4)
broken-step build-armhf-pvops host-install(4)
broken-step build-amd64 host-install(4)
broken-step build-amd64-xsm host-install(4)
broken-step build-amd64-pvops host-install(4)

Not pushing.

(No revision log; it would be 1418 lines long.)

Reply via email to