flight 123829 ovmf real [real]
http://logs.test-lab.xenproject.org/osstest/logs/123829/

Perfect :-)
All tests in this flight passed as required
version targeted for testing:
 ovmf                 91c31ff04a7a72b4b0e476972ad3c76e03a106a2
baseline version:
 ovmf                 0b6457efabf6f47bc55690874dde82d2f8616abc

Last test of basis   123811  2018-06-05 02:42:48 Z    1 days
Testing same since   123829  2018-06-05 18:40:54 Z    0 days    1 attempts

------------------------------------------------------------
People who touched revisions under test:
  Haojian Zhuang <[email protected]>
  Liming Gao <[email protected]>
  Meenakshi Aggarwal <[email protected]>
  Ruiyu Ni <[email protected]>
  Star Zeng <[email protected]>
  Vabhav Sharma <[email protected]>

jobs:
 build-amd64-xsm                                              pass    
 build-i386-xsm                                               pass    
 build-amd64                                                  pass    
 build-i386                                                   pass    
 build-amd64-libvirt                                          pass    
 build-i386-libvirt                                           pass    
 build-amd64-pvops                                            pass    
 build-i386-pvops                                             pass    
 test-amd64-amd64-xl-qemuu-ovmf-amd64                         pass    
 test-amd64-i386-xl-qemuu-ovmf-amd64                          pass    


------------------------------------------------------------
sg-report-flight on osstest.test-lab.xenproject.org
logs: /home/logs/logs
images: /home/logs/images

Logs, config files, etc. are available at
    http://logs.test-lab.xenproject.org/osstest/logs

Explanation of these reports, and of osstest in general, is at
    http://xenbits.xen.org/gitweb/?p=osstest.git;a=blob;f=README.email;hb=master
    http://xenbits.xen.org/gitweb/?p=osstest.git;a=blob;f=README;hb=master

Test harness code can be found at
    http://xenbits.xen.org/gitweb?p=osstest.git;a=summary


Pushing revision :

To xenbits.xen.org:/home/xen/git/osstest/ovmf.git
   0b6457efab..91c31ff04a  91c31ff04a7a72b4b0e476972ad3c76e03a106a2 -> 
xen-tested-master

_______________________________________________
Xen-devel mailing list
[email protected]
https://lists.xenproject.org/mailman/listinfo/xen-devel

Reply via email to