flight 184279 xtf real [real] http://logs.test-lab.xenproject.org/osstest/logs/184279/
Perfect :-) All tests in this flight passed as required version targeted for testing: xtf 2eed9f51c67a9e5d29ffd4ffeee50710489aad23 baseline version: xtf a5bd8d9e5d5c7b729d6d6122900d28f7a00aa6c0 Last test of basis 184277 2024-01-08 11:42:46 Z 0 days Testing same since 184279 2024-01-08 15:13:02 Z 0 days 1 attempts ------------------------------------------------------------ People who touched revisions under test: Andrew Cooper <[email protected]> jobs: build-amd64-xtf pass build-amd64 pass build-amd64-pvops pass test-xtf-amd64-amd64-1 pass test-xtf-amd64-amd64-2 pass test-xtf-amd64-amd64-3 pass test-xtf-amd64-amd64-4 pass test-xtf-amd64-amd64-5 pass ------------------------------------------------------------ sg-report-flight on osstest.test-lab.xenproject.org logs: /home/logs/logs images: /home/logs/images Logs, config files, etc. are available at http://logs.test-lab.xenproject.org/osstest/logs Explanation of these reports, and of osstest in general, is at http://xenbits.xen.org/gitweb/?p=osstest.git;a=blob;f=README.email;hb=master http://xenbits.xen.org/gitweb/?p=osstest.git;a=blob;f=README;hb=master Test harness code can be found at http://xenbits.xen.org/gitweb?p=osstest.git;a=summary Pushing revision : To xenbits.xen.org:/home/xen/git/xtf.git a5bd8d9..2eed9f5 2eed9f51c67a9e5d29ffd4ffeee50710489aad23 -> xen-tested-master
