flight 186227 ovmf real [real] http://logs.test-lab.xenproject.org/osstest/logs/186227/
Perfect :-) All tests in this flight passed as required version targeted for testing: ovmf de2330450ff71df5a609fe48e2153eb4854d9359 baseline version: ovmf 7339bfeffa3fa30b18dce86409c0112039bacec5 Last test of basis 186219 2024-06-01 06:14:48 Z 0 days Testing same since 186227 2024-06-02 02:11:22 Z 0 days 1 attempts ------------------------------------------------------------ People who touched revisions under test: Du Lin <[email protected]> jobs: build-amd64-xsm pass build-i386-xsm pass build-amd64 pass build-i386 pass build-amd64-libvirt pass build-i386-libvirt pass build-amd64-pvops pass build-i386-pvops pass test-amd64-amd64-xl-qemuu-ovmf-amd64 pass ------------------------------------------------------------ sg-report-flight on osstest.test-lab.xenproject.org logs: /home/logs/logs images: /home/logs/images Logs, config files, etc. are available at http://logs.test-lab.xenproject.org/osstest/logs Explanation of these reports, and of osstest in general, is at http://xenbits.xen.org/gitweb/?p=osstest.git;a=blob;f=README.email;hb=master http://xenbits.xen.org/gitweb/?p=osstest.git;a=blob;f=README;hb=master Test harness code can be found at http://xenbits.xen.org/gitweb?p=osstest.git;a=summary Pushing revision : To xenbits.xen.org:/home/xen/git/osstest/ovmf.git 7339bfeffa..de2330450f de2330450ff71df5a609fe48e2153eb4854d9359 -> xen-tested-master
