flight 187452 linux-linus real [real]
http://logs.test-lab.xenproject.org/osstest/logs/187452/

Failures and problems with tests :-(

Tests which did not succeed and are blocking,
including tests which could not be run:
 build-amd64                     <job status>                 broken
 build-amd64-pvops               <job status>                 broken
 build-amd64-xsm                 <job status>                 broken
 build-arm64                     <job status>                 broken
 build-arm64-pvops               <job status>                 broken
 build-arm64-xsm                 <job status>                 broken
 build-armhf                     <job status>                 broken
 build-armhf-pvops               <job status>                 broken
 build-i386                      <job status>                 broken
 build-i386-pvops                <job status>                 broken
 build-i386-xsm                  <job status>                 broken
 build-i386-pvops              4 host-install(4)        broken REGR. vs. 187427
 build-i386-xsm                4 host-install(4)        broken REGR. vs. 187427
 build-i386                    4 host-install(4)        broken REGR. vs. 187427
 build-arm64-pvops             4 host-install(4)        broken REGR. vs. 187427
 build-arm64-xsm               4 host-install(4)        broken REGR. vs. 187427
 build-arm64                   4 host-install(4)        broken REGR. vs. 187427
 build-amd64-pvops             4 host-install(4)        broken REGR. vs. 187427
 build-amd64-xsm               4 host-install(4)        broken REGR. vs. 187427
 build-amd64                   4 host-install(4)        broken REGR. vs. 187427
 build-armhf-pvops             4 host-install(4)        broken REGR. vs. 187427
 build-armhf                   4 host-install(4)        broken REGR. vs. 187427

Tests which did not succeed, but are not blocking:
 test-amd64-amd64-xl-vhd       1 build-check(1)               blocked  n/a
 test-amd64-amd64-xl-shadow    1 build-check(1)               blocked  n/a
 test-amd64-amd64-xl-rtds      1 build-check(1)               blocked  n/a
 test-amd64-amd64-xl-raw       1 build-check(1)               blocked  n/a
 test-amd64-amd64-xl-qemuu-ws16-amd64  1 build-check(1)             blocked n/a
 test-amd64-amd64-xl-qemuu-win7-amd64  1 build-check(1)             blocked n/a
 test-amd64-amd64-xl-qemuu-ovmf-amd64  1 build-check(1)             blocked n/a
 test-amd64-amd64-xl-qemuu-dmrestrict-amd64-dmrestrict 1 build-check(1) blocked 
n/a
 test-amd64-amd64-xl-qemuu-debianhvm-i386-xsm  1 build-check(1)     blocked n/a
 test-amd64-amd64-xl-qemuu-debianhvm-amd64-shadow  1 build-check(1) blocked n/a
 test-amd64-amd64-xl-qemuu-debianhvm-amd64  1 build-check(1)        blocked n/a
 test-amd64-amd64-xl-qemut-ws16-amd64  1 build-check(1)             blocked n/a
 build-amd64-libvirt           1 build-check(1)               blocked  n/a
 test-amd64-amd64-xl-qemut-win7-amd64  1 build-check(1)             blocked n/a
 test-amd64-amd64-xl-qemut-stubdom-debianhvm-amd64-xsm 1 build-check(1) blocked 
n/a
 build-arm64-libvirt           1 build-check(1)               blocked  n/a
 test-amd64-amd64-xl-qemut-debianhvm-i386-xsm  1 build-check(1)     blocked n/a
 test-amd64-amd64-xl-qemut-debianhvm-amd64  1 build-check(1)        blocked n/a
 test-amd64-amd64-xl-qcow2     1 build-check(1)               blocked  n/a
 build-armhf-libvirt           1 build-check(1)               blocked  n/a
 test-amd64-amd64-xl-pvshim    1 build-check(1)               blocked  n/a
 build-i386-libvirt            1 build-check(1)               blocked  n/a
 test-amd64-amd64-xl-pvhv2-intel  1 build-check(1)               blocked  n/a
 test-amd64-amd64-dom0pvh-xl-amd  1 build-check(1)               blocked  n/a
 test-amd64-amd64-xl-pvhv2-amd  1 build-check(1)               blocked  n/a
 test-amd64-amd64-dom0pvh-xl-intel  1 build-check(1)               blocked  n/a
 test-amd64-amd64-xl-multivcpu  1 build-check(1)               blocked  n/a
 test-amd64-amd64-examine      1 build-check(1)               blocked  n/a
 test-amd64-amd64-examine-bios  1 build-check(1)               blocked  n/a
 test-amd64-amd64-examine-uefi  1 build-check(1)               blocked  n/a
 test-amd64-amd64-xl-credit2   1 build-check(1)               blocked  n/a
 test-amd64-amd64-libvirt      1 build-check(1)               blocked  n/a
 test-amd64-amd64-libvirt-pair  1 build-check(1)               blocked  n/a
 test-amd64-amd64-xl-credit1   1 build-check(1)               blocked  n/a
 test-amd64-amd64-libvirt-qcow2  1 build-check(1)               blocked  n/a
 test-amd64-amd64-libvirt-qemuu-debianhvm-amd64-xsm 1 build-check(1) blocked n/a
 test-amd64-amd64-xl           1 build-check(1)               blocked  n/a
 test-amd64-amd64-libvirt-raw  1 build-check(1)               blocked  n/a
 test-amd64-amd64-libvirt-vhd  1 build-check(1)               blocked  n/a
 test-amd64-amd64-qemuu-nested-intel  1 build-check(1)              blocked n/a
 test-amd64-amd64-libvirt-xsm  1 build-check(1)               blocked  n/a
 test-amd64-amd64-pair         1 build-check(1)               blocked  n/a
 test-amd64-amd64-qemuu-nested-amd  1 build-check(1)               blocked  n/a
 test-amd64-amd64-pygrub       1 build-check(1)               blocked  n/a
 test-amd64-amd64-qemuu-freebsd11-amd64  1 build-check(1)           blocked n/a
 test-amd64-amd64-qemuu-freebsd12-amd64  1 build-check(1)           blocked n/a
 test-amd64-amd64-xl-xsm       1 build-check(1)               blocked  n/a
 test-amd64-coresched-amd64-xl  1 build-check(1)               blocked  n/a
 test-arm64-arm64-examine      1 build-check(1)               blocked  n/a
 test-arm64-arm64-libvirt-raw  1 build-check(1)               blocked  n/a
 test-arm64-arm64-libvirt-xsm  1 build-check(1)               blocked  n/a
 test-arm64-arm64-xl           1 build-check(1)               blocked  n/a
 test-arm64-arm64-xl-credit1   1 build-check(1)               blocked  n/a
 test-arm64-arm64-xl-credit2   1 build-check(1)               blocked  n/a
 test-arm64-arm64-xl-thunderx  1 build-check(1)               blocked  n/a
 test-arm64-arm64-xl-vhd       1 build-check(1)               blocked  n/a
 test-arm64-arm64-xl-xsm       1 build-check(1)               blocked  n/a
 test-armhf-armhf-examine      1 build-check(1)               blocked  n/a
 test-armhf-armhf-libvirt      1 build-check(1)               blocked  n/a
 test-armhf-armhf-libvirt-vhd  1 build-check(1)               blocked  n/a
 test-armhf-armhf-xl           1 build-check(1)               blocked  n/a
 test-armhf-armhf-xl-arndale   1 build-check(1)               blocked  n/a
 test-armhf-armhf-xl-credit1   1 build-check(1)               blocked  n/a
 test-armhf-armhf-xl-credit2   1 build-check(1)               blocked  n/a
 test-armhf-armhf-xl-multivcpu  1 build-check(1)               blocked  n/a
 test-armhf-armhf-xl-qcow2     1 build-check(1)               blocked  n/a
 test-armhf-armhf-xl-raw       1 build-check(1)               blocked  n/a
 test-armhf-armhf-xl-rtds      1 build-check(1)               blocked  n/a

version targeted for testing:
 linux                c9f016e72b5cc7d4d68fac51f8e72c8c7a69c06e
baseline version:
 linux                fb24560f31f9dff2c97707cfed6029bfebebaf1c

Last test of basis   187427  2024-08-30 18:54:48 Z    2 days
Failing since        187434  2024-08-31 07:19:23 Z    2 days    5 attempts
Testing same since   187452  2024-09-02 01:10:24 Z    0 days    1 attempts

------------------------------------------------------------
People who touched revisions under test:
  Adam Ford <[email protected]>
  Alexander Stein <[email protected]>
  Alistair Popple <[email protected]>
  Amit Pundir <[email protected]>
  Andrei Simion <[email protected]>
  Andrew Halaney <[email protected]>
  Anup Patel <[email protected]>
  Arnd Bergmann <[email protected]>
  Bartosz Golaszewski <[email protected]>
  Ben Hutchings <[email protected]>
  Bjorn Andersson <[email protected]>
  Bjorn Andersson <[email protected]>
  Bjorn Helgaas <[email protected]>
  Borislav Petkov (AMD) <[email protected]>
  Chandan Babu R <[email protected]>
  Charlie Jenkins <[email protected]>
  Christoph Hellwig <[email protected]>
  Chuck Lever <[email protected]>
  Claudiu Beznea <[email protected]>
  Conor Dooley <[email protected]>
  Dan Carpenter <[email protected]>
  Daniel Scally <[email protected]>
  Darrick J. Wong <[email protected]>
  Dave Chinner <[email protected]>
  Dave Hansen <[email protected]>
  David Howells <[email protected]>
  Dmitry Baryshkov <[email protected]>
  Dmitry Torokhov <[email protected]>
  Emil Renner Berthing <[email protected]>
  Frank Li <[email protected]>
  Greg Kroah-Hartman <[email protected]>
  Guenter Roeck <[email protected]>
  Ian Ray <[email protected]>
  Jens Axboe <[email protected]>
  Johan Hovold <[email protected]>
  Johan Hovold <[email protected]>
  Kan Liang <[email protected]>
  Kent Overstreet <[email protected]>
  Kevin Hilman <[email protected]>
  Kirill A. Shutemov <[email protected]>
  Konrad Dybcio <[email protected]>
  Konrad Dybcio <[email protected]>
  Krzysztof Kozlowski <[email protected]>
  Krzysztof Wilczyński <[email protected]>
  Laurent Pinchart <[email protected]>
  Linus Torvalds <[email protected]>
  Luca Weiss <[email protected]>
  Ma Ke <[email protected]>
  Manivannan Sadhasivam <[email protected]>
  Marc Zyngier <[email protected]>
  Mark Rutland <[email protected]>
  Markus Niebel <[email protected]>
  Martin K. Petersen <[email protected]>
  Maulik Shah <[email protected]>
  Max Ramanouski <[email protected]>
  Maxime Chevallier <[email protected]>
  Michael Grzeschik <[email protected]>
  Michal Vokáč <[email protected]>
  Mike Rapoport <[email protected]>
  Mitchell Levy <[email protected]>
  Murali Nalajala <[email protected]>
  Neil Armstrong <[email protected]>
  NeilBrown <[email protected]>
  Nikita Travkin <[email protected]> # sc7180 WoA in EL2
  Oliver Neuku <[email protected]>
  Patrick Wildt <[email protected]>
  Pavankumar Kondeti <[email protected]>
  Pawel Laszczak <[email protected]>
  Peng Fan <[email protected]>
  Peter Newman <[email protected]>
  Richard Acayan <[email protected]>
  Richard Zhu <[email protected]>
  Roland Xu <[email protected]>
  Samuel Holland <[email protected]>
  Sascha Hauer <[email protected]>
  Sebastian Reichel <[email protected]>
  Selvarasu Ganesan <[email protected]>
  Shawn Guo <[email protected]>
  Shenwei Wang <[email protected]>
  Sherry Yang <[email protected]>
  Sicelo A. Mhlongo <[email protected]>
  Stephan Gerhold <[email protected]>
  Steve French <[email protected]>
  Steve Wilkins <[email protected]>
  Thinh Nguyen <[email protected]>
  Thomas Gleixner <[email protected]>
  Unnathi Chalicheemala <[email protected]>
  Varadarajan Narayanan <[email protected]>
  Volodymyr Babchuk <[email protected]>
  Woody Suwalski <[email protected]>
  Xu Yang <[email protected]>
  Yihang Li <[email protected]>
  Yuntao Wang <[email protected]>
  ZHANG Yuntian <[email protected]>
  Zijun Hu <[email protected]>
  Zizhi Wo <[email protected]>

jobs:
 build-amd64-xsm                                              broken  
 build-arm64-xsm                                              broken  
 build-i386-xsm                                               broken  
 build-amd64                                                  broken  
 build-arm64                                                  broken  
 build-armhf                                                  broken  
 build-i386                                                   broken  
 build-amd64-libvirt                                          blocked 
 build-arm64-libvirt                                          blocked 
 build-armhf-libvirt                                          blocked 
 build-i386-libvirt                                           blocked 
 build-amd64-pvops                                            broken  
 build-arm64-pvops                                            broken  
 build-armhf-pvops                                            broken  
 build-i386-pvops                                             broken  
 test-amd64-amd64-xl                                          blocked 
 test-amd64-coresched-amd64-xl                                blocked 
 test-arm64-arm64-xl                                          blocked 
 test-armhf-armhf-xl                                          blocked 
 test-amd64-amd64-libvirt-qemuu-debianhvm-amd64-xsm           blocked 
 test-amd64-amd64-xl-qemut-stubdom-debianhvm-amd64-xsm        blocked 
 test-amd64-amd64-xl-qemut-debianhvm-i386-xsm                 blocked 
 test-amd64-amd64-xl-qemuu-debianhvm-i386-xsm                 blocked 
 test-amd64-amd64-libvirt-xsm                                 blocked 
 test-arm64-arm64-libvirt-xsm                                 blocked 
 test-amd64-amd64-xl-xsm                                      blocked 
 test-arm64-arm64-xl-xsm                                      blocked 
 test-amd64-amd64-qemuu-nested-amd                            blocked 
 test-amd64-amd64-xl-pvhv2-amd                                blocked 
 test-amd64-amd64-dom0pvh-xl-amd                              blocked 
 test-amd64-amd64-xl-qemut-debianhvm-amd64                    blocked 
 test-amd64-amd64-xl-qemuu-debianhvm-amd64                    blocked 
 test-amd64-amd64-qemuu-freebsd11-amd64                       blocked 
 test-amd64-amd64-qemuu-freebsd12-amd64                       blocked 
 test-amd64-amd64-xl-qemuu-ovmf-amd64                         blocked 
 test-amd64-amd64-xl-qemut-win7-amd64                         blocked 
 test-amd64-amd64-xl-qemuu-win7-amd64                         blocked 
 test-amd64-amd64-xl-qemut-ws16-amd64                         blocked 
 test-amd64-amd64-xl-qemuu-ws16-amd64                         blocked 
 test-armhf-armhf-xl-arndale                                  blocked 
 test-amd64-amd64-examine-bios                                blocked 
 test-amd64-amd64-xl-credit1                                  blocked 
 test-arm64-arm64-xl-credit1                                  blocked 
 test-armhf-armhf-xl-credit1                                  blocked 
 test-amd64-amd64-xl-credit2                                  blocked 
 test-arm64-arm64-xl-credit2                                  blocked 
 test-armhf-armhf-xl-credit2                                  blocked 
 test-amd64-amd64-xl-qemuu-dmrestrict-amd64-dmrestrict        blocked 
 test-amd64-amd64-examine                                     blocked 
 test-arm64-arm64-examine                                     blocked 
 test-armhf-armhf-examine                                     blocked 
 test-amd64-amd64-qemuu-nested-intel                          blocked 
 test-amd64-amd64-xl-pvhv2-intel                              blocked 
 test-amd64-amd64-dom0pvh-xl-intel                            blocked 
 test-amd64-amd64-libvirt                                     blocked 
 test-armhf-armhf-libvirt                                     blocked 
 test-amd64-amd64-xl-multivcpu                                blocked 
 test-armhf-armhf-xl-multivcpu                                blocked 
 test-amd64-amd64-pair                                        blocked 
 test-amd64-amd64-libvirt-pair                                blocked 
 test-amd64-amd64-xl-pvshim                                   blocked 
 test-amd64-amd64-pygrub                                      blocked 
 test-amd64-amd64-libvirt-qcow2                               blocked 
 test-amd64-amd64-xl-qcow2                                    blocked 
 test-armhf-armhf-xl-qcow2                                    blocked 
 test-amd64-amd64-libvirt-raw                                 blocked 
 test-arm64-arm64-libvirt-raw                                 blocked 
 test-amd64-amd64-xl-raw                                      blocked 
 test-armhf-armhf-xl-raw                                      blocked 
 test-amd64-amd64-xl-rtds                                     blocked 
 test-armhf-armhf-xl-rtds                                     blocked 
 test-amd64-amd64-xl-qemuu-debianhvm-amd64-shadow             blocked 
 test-amd64-amd64-xl-shadow                                   blocked 
 test-arm64-arm64-xl-thunderx                                 blocked 
 test-amd64-amd64-examine-uefi                                blocked 
 test-amd64-amd64-libvirt-vhd                                 blocked 
 test-armhf-armhf-libvirt-vhd                                 blocked 
 test-amd64-amd64-xl-vhd                                      blocked 
 test-arm64-arm64-xl-vhd                                      blocked 


------------------------------------------------------------
sg-report-flight on osstest.test-lab.xenproject.org
logs: /home/logs/logs
images: /home/logs/images

Logs, config files, etc. are available at
    http://logs.test-lab.xenproject.org/osstest/logs

Explanation of these reports, and of osstest in general, is at
    http://xenbits.xen.org/gitweb/?p=osstest.git;a=blob;f=README.email;hb=master
    http://xenbits.xen.org/gitweb/?p=osstest.git;a=blob;f=README;hb=master

Test harness code can be found at
    http://xenbits.xen.org/gitweb?p=osstest.git;a=summary

broken-job build-amd64 broken
broken-job build-amd64-pvops broken
broken-job build-amd64-xsm broken
broken-job build-arm64 broken
broken-job build-arm64-pvops broken
broken-job build-arm64-xsm broken
broken-job build-armhf broken
broken-job build-armhf-pvops broken
broken-job build-i386 broken
broken-job build-i386-pvops broken
broken-job build-i386-xsm broken
broken-step build-i386-pvops host-install(4)
broken-step build-i386-xsm host-install(4)
broken-step build-i386 host-install(4)
broken-step build-arm64-pvops host-install(4)
broken-step build-arm64-xsm host-install(4)
broken-step build-arm64 host-install(4)
broken-step build-amd64-pvops host-install(4)
broken-step build-amd64-xsm host-install(4)
broken-step build-amd64 host-install(4)
broken-step build-armhf-pvops host-install(4)
broken-step build-armhf host-install(4)

Not pushing.

(No revision log; it would be 3311 lines long.)

Reply via email to