flight 125105 ovmf real [real]
http://logs.test-lab.xenproject.org/osstest/logs/125105/

Perfect :-)
All tests in this flight passed as required
version targeted for testing:
 ovmf                 c6a14de3ef30291918f3b15436cf6a75db413eea
baseline version:
 ovmf                 99fd30431d565412707f7a1e1a23461d10d07e85

Last test of basis   125100  2018-07-11 07:40:38 Z    0 days
Testing same since   125105  2018-07-11 09:40:42 Z    0 days    1 attempts

------------------------------------------------------------
People who touched revisions under test:
  Zenith432 <zenith...@users.sourceforge.net>

jobs:
 build-amd64-xsm                                              pass    
 build-i386-xsm                                               pass    
 build-amd64                                                  pass    
 build-i386                                                   pass    
 build-amd64-libvirt                                          pass    
 build-i386-libvirt                                           pass    
 build-amd64-pvops                                            pass    
 build-i386-pvops                                             pass    
 test-amd64-amd64-xl-qemuu-ovmf-amd64                         pass    
 test-amd64-i386-xl-qemuu-ovmf-amd64                          pass    


------------------------------------------------------------
sg-report-flight on osstest.test-lab.xenproject.org
logs: /home/logs/logs
images: /home/logs/images

Logs, config files, etc. are available at
    http://logs.test-lab.xenproject.org/osstest/logs

Explanation of these reports, and of osstest in general, is at
    http://xenbits.xen.org/gitweb/?p=osstest.git;a=blob;f=README.email;hb=master
    http://xenbits.xen.org/gitweb/?p=osstest.git;a=blob;f=README;hb=master

Test harness code can be found at
    http://xenbits.xen.org/gitweb?p=osstest.git;a=summary


Pushing revision :

To xenbits.xen.org:/home/xen/git/osstest/ovmf.git
   99fd30431d..c6a14de3ef  c6a14de3ef30291918f3b15436cf6a75db413eea -> 
xen-tested-master

_______________________________________________
Xen-devel mailing list
Xen-devel@lists.xenproject.org
https://lists.xenproject.org/mailman/listinfo/xen-devel

Reply via email to