flight 127599 freebsd-master real [real] http://logs.test-lab.xenproject.org/osstest/logs/127599/
Perfect :-) All tests in this flight passed as required version targeted for testing: freebsd 209b94df8701cc9b8e7e9185c351b69c99336ca2 baseline version: freebsd fb9b6e89c258993ee5fbbe0d0fcd444b1b6da413 Last test of basis 127532 2018-09-12 09:19:18 Z 2 days Testing same since 127599 2018-09-14 09:20:09 Z 0 days 1 attempts ------------------------------------------------------------ People who touched revisions under test: brd <b...@freebsd.org> emaste <ema...@freebsd.org> gjb <g...@freebsd.org> gonzo <go...@freebsd.org> hselasky <hsela...@freebsd.org> ian <i...@freebsd.org> kevans <kev...@freebsd.org> manu <m...@freebsd.org> mjg <m...@freebsd.org> mmacy <mm...@freebsd.org> np <n...@freebsd.org> royger <roy...@freebsd.org> trasz <tr...@freebsd.org> tuexen <tue...@freebsd.org> vangyzen <vangy...@freebsd.org> jobs: build-amd64-freebsd-again pass build-amd64-freebsd pass build-amd64-xen-freebsd pass ------------------------------------------------------------ sg-report-flight on osstest.test-lab.xenproject.org logs: /home/logs/logs images: /home/logs/images Logs, config files, etc. are available at http://logs.test-lab.xenproject.org/osstest/logs Explanation of these reports, and of osstest in general, is at http://xenbits.xen.org/gitweb/?p=osstest.git;a=blob;f=README.email;hb=master http://xenbits.xen.org/gitweb/?p=osstest.git;a=blob;f=README;hb=master Test harness code can be found at http://xenbits.xen.org/gitweb?p=osstest.git;a=summary Pushing revision : To xenbits.xen.org:/home/xen/git/freebsd.git fb9b6e89c25..209b94df870 209b94df8701cc9b8e7e9185c351b69c99336ca2 -> tested/master _______________________________________________ Xen-devel mailing list Xen-devel@lists.xenproject.org https://lists.xenproject.org/mailman/listinfo/xen-devel