flight 129446 freebsd-master real [real] http://logs.test-lab.xenproject.org/osstest/logs/129446/
Perfect :-) All tests in this flight passed as required version targeted for testing: freebsd d843b0f4abd4782caf9abffd5f7628b51d65d541 baseline version: freebsd 2f480ce108ecce5a6d0e78d011781a5e33bd4c67 Last test of basis 129229 2018-10-31 09:19:07 Z 5 days Failing since 129318 2018-11-02 09:18:52 Z 3 days 2 attempts Testing same since 129446 2018-11-05 09:19:04 Z 0 days 1 attempts ------------------------------------------------------------ People who touched revisions under test: 0mp <0...@freebsd.org> ae <a...@freebsd.org> andrew <and...@freebsd.org> araujo <ara...@freebsd.org> arichardson <arichard...@freebsd.org> bapt <b...@freebsd.org> brooks <bro...@freebsd.org> bwidawsk <bwida...@freebsd.org> bz <b...@freebsd.org> cem <c...@freebsd.org> des <d...@freebsd.org> dteske <dte...@freebsd.org> emaste <ema...@freebsd.org> erj <e...@freebsd.org> eugen <eu...@freebsd.org> glebius <gleb...@freebsd.org> hselasky <hsela...@freebsd.org> imp <i...@freebsd.org> jhb <j...@freebsd.org> jhibbits <jhibb...@freebsd.org> jkim <j...@freebsd.org> jtl <j...@freebsd.org> kevans <kev...@freebsd.org> kib <k...@freebsd.org> kp <k...@freebsd.org> markj <ma...@freebsd.org> mav <m...@freebsd.org> mckusick <mckus...@freebsd.org> miwi <m...@freebsd.org> mmacy <mm...@freebsd.org> np <n...@freebsd.org> oshogbo <osho...@freebsd.org> rmacklem <rmack...@freebsd.org> trasz <tr...@freebsd.org> tsoome <tso...@freebsd.org> tuexen <tue...@freebsd.org> vangyzen <vangy...@freebsd.org> yuripv <yur...@freebsd.org> jobs: build-amd64-freebsd-again pass build-amd64-freebsd pass build-amd64-xen-freebsd pass ------------------------------------------------------------ sg-report-flight on osstest.test-lab.xenproject.org logs: /home/logs/logs images: /home/logs/images Logs, config files, etc. are available at http://logs.test-lab.xenproject.org/osstest/logs Explanation of these reports, and of osstest in general, is at http://xenbits.xen.org/gitweb/?p=osstest.git;a=blob;f=README.email;hb=master http://xenbits.xen.org/gitweb/?p=osstest.git;a=blob;f=README;hb=master Test harness code can be found at http://xenbits.xen.org/gitweb?p=osstest.git;a=summary Pushing revision : To xenbits.xen.org:/home/xen/git/freebsd.git 2f480ce108e..d843b0f4abd d843b0f4abd4782caf9abffd5f7628b51d65d541 -> tested/master _______________________________________________ Xen-devel mailing list Xen-devel@lists.xenproject.org https://lists.xenproject.org/mailman/listinfo/xen-devel