flight 130966 freebsd-master real [real] http://logs.test-lab.xenproject.org/osstest/logs/130966/
Perfect :-) All tests in this flight passed as required version targeted for testing: freebsd b1bbabbbe7be2b91c44cbda5b20cc58e7f870627 baseline version: freebsd 8a8f133349b01913412f09f2cf494bc72daf0b46 Last test of basis 130874 2018-11-30 14:18:18 Z 4 days Testing same since 130966 2018-12-03 09:18:52 Z 1 days 1 attempts ------------------------------------------------------------ People who touched revisions under test: andreast <[email protected]> asomers <[email protected]> cem <[email protected]> cy <[email protected]> eugen <[email protected]> gonzo <[email protected]> ian <[email protected]> imp <[email protected]> jhibbits <[email protected]> kib <[email protected]> kp <[email protected]> manu <[email protected]> markj <[email protected]> mjg <[email protected]> mmel <[email protected]> oshogbo <[email protected]> trasz <[email protected]> vangyzen <[email protected]> ygy <[email protected]> jobs: build-amd64-freebsd-again pass build-amd64-freebsd pass build-amd64-xen-freebsd pass ------------------------------------------------------------ sg-report-flight on osstest.test-lab.xenproject.org logs: /home/logs/logs images: /home/logs/images Logs, config files, etc. are available at http://logs.test-lab.xenproject.org/osstest/logs Explanation of these reports, and of osstest in general, is at http://xenbits.xen.org/gitweb/?p=osstest.git;a=blob;f=README.email;hb=master http://xenbits.xen.org/gitweb/?p=osstest.git;a=blob;f=README;hb=master Test harness code can be found at http://xenbits.xen.org/gitweb?p=osstest.git;a=summary Pushing revision : To xenbits.xen.org:/home/xen/git/freebsd.git 8a8f133349b..b1bbabbbe7b b1bbabbbe7be2b91c44cbda5b20cc58e7f870627 -> tested/master _______________________________________________ Xen-devel mailing list [email protected] https://lists.xenproject.org/mailman/listinfo/xen-devel
