flight 131118 freebsd-master real [real]
http://logs.test-lab.xenproject.org/osstest/logs/131118/

Perfect :-)
All tests in this flight passed as required
version targeted for testing:
 freebsd              3c25eec2c353aafe1b3338c66bfbaed78075ef43
baseline version:
 freebsd              b1bbabbbe7be2b91c44cbda5b20cc58e7f870627

Last test of basis   130966  2018-12-03 09:18:52 Z    4 days
Failing since        131053  2018-12-05 09:18:56 Z    2 days    2 attempts
Testing same since   131118  2018-12-07 09:21:36 Z    0 days    1 attempts

------------------------------------------------------------
People who touched revisions under test:
  ae <[email protected]>
  alc <[email protected]>
  andrew <[email protected]>
  arichardson <[email protected]>
  asomers <[email protected]>
  avg <[email protected]>
  brooks <[email protected]>
  cem <[email protected]>
  cy <[email protected]>
  emaste <[email protected]>
  garga <[email protected]>
  gordon <[email protected]>
  hselasky <[email protected]>
  ian <[email protected]>
  imp <[email protected]>
  jhb <[email protected]>
  jhibbits <[email protected]>
  joel <[email protected]>
  kib <[email protected]>
  kp <[email protected]>
  lwhsu <[email protected]>
  markj <[email protected]>
  mckusick <[email protected]>
  mjg <[email protected]>
  mmel <[email protected]>
  np <[email protected]>
  pfg <[email protected]>
  pjd <[email protected]>
  sbruno <[email protected]>
  sef <[email protected]>
  sevan <[email protected]>
  sjg <[email protected]>
  slavash <[email protected]>
  sobomax <[email protected]>
  trasz <[email protected]>
  tsoome <[email protected]>
  vangyzen <[email protected]>
  vmaffione <[email protected]>
  yuripv <[email protected]>

jobs:
 build-amd64-freebsd-again                                    pass    
 build-amd64-freebsd                                          pass    
 build-amd64-xen-freebsd                                      pass    


------------------------------------------------------------
sg-report-flight on osstest.test-lab.xenproject.org
logs: /home/logs/logs
images: /home/logs/images

Logs, config files, etc. are available at
    http://logs.test-lab.xenproject.org/osstest/logs

Explanation of these reports, and of osstest in general, is at
    http://xenbits.xen.org/gitweb/?p=osstest.git;a=blob;f=README.email;hb=master
    http://xenbits.xen.org/gitweb/?p=osstest.git;a=blob;f=README;hb=master

Test harness code can be found at
    http://xenbits.xen.org/gitweb?p=osstest.git;a=summary


Pushing revision :

To xenbits.xen.org:/home/xen/git/freebsd.git
   b1bbabbbe7b..3c25eec2c35  3c25eec2c353aafe1b3338c66bfbaed78075ef43 -> 
tested/master

_______________________________________________
Xen-devel mailing list
[email protected]
https://lists.xenproject.org/mailman/listinfo/xen-devel

Reply via email to